Workbook

Sheet Status
A1: Policy review status
A2: ="Record through "&LOWER(LEFT(RecordThrough,1))&MID(RecordThrough,2,200)&". Next Policy Committee meeting: "&TEXT(NextCommittee,"mmm d, yyyy")&". Prepared "&TEXT(AsOfDate,"mmm d, yyyy")&"." -> Record through the Oct 5, 2026 board meeting. Next Policy Committee meeting: Oct 28, 2026. Prepared Oct 13, 2026.
A4: Policies in review | C4: Back in committee | E4: Open comments | F4: Regulations in progress | H4: Saved edits waiting
A5: =COUNTIFS(Drafts!$C$2:$C$251,"Policy*",Drafts!$E$2:$E$251,"<>Adopted",Drafts!$E$2:$E$251,"<>Withdrawn") -> 9 | C5: =COUNTIF(Drafts!$E$2:$E$251,"Back in committee") -> 2 | E5: =COUNTIF(Comments!$N$2:$N$2001,"Open") -> 5 | F5: =COUNTIFS(Drafts!$N$2:$N$251,"<>Complete",Drafts!$N$2:$N$251,"<>Not needed",Drafts!$N$2:$N$251,"<>To confirm",Drafts!$A$2:$A$251,"<>",Drafts!$E$2:$E$251,"<>Withdrawn") -> 5 | H5: =COUNTIF('Deferred edits'!$G$2:$G$201,"Waiting") -> 5
A6: Key | B6: On a board agenda | C6: Committee's move | D6: Waiting: held, drafting, regulation work | E6: Adopted, regulation still open | F6: Needs attention
A7: Policy | B7: Title | C7: Stage | D7: Last action | E7: Next step | F7: Next date | G7: Open comments | H7: Regulation
A8: =IFERROR(IF(INDEX(Drafts!$A$1:$A$251,MATCH(SMALL(Calc!$A$4:$A$253,1),Calc!$A$4:$A$253,0)+1)="","",INDEX(Drafts!$A$1:$A$251,MATCH(SMALL(Calc!$A$4:$A$253,1),Calc!$A$4:$A$253,0)+1)),"") -> KEB | B8: =IFERROR(IF(INDEX(Drafts!$B$1:$B$251,MATCH(SMALL(Calc!$A$4:$A$253,1),Calc!$A$4:$A$253,0)+1)="","",INDEX(Drafts!$B$1:$B$251,MATCH(SMALL(Calc!$A$4:$A$253,1),Calc!$A$4:$A$253,0)+1)),"") -> Solicitations | C8: =IFERROR(IF(INDEX(Drafts!$E$1:$E$251,MATCH(SMALL(Calc!$A$4:$A$253,1),Calc!$A$4:$A$253,0)+1)="","",INDEX(Drafts!$E$1:$E$251,MATCH(SMALL(Calc!$A$4:$A$253,1),Calc!$A$4:$A$253,0)+1)),"") -> Second read | D8: =IFERROR(IF(INDEX(Drafts!$F$1:$F$251,MATCH(SMALL(Calc!$A$4:$A$253,1),Calc!$A$4:$A$253,0)+1)="","",INDEX(Drafts!$F$1:$F$251,MATCH(SMALL(Calc!$A$4:$A$253,1),Calc!$A$4:$A$253,0)+1)),"") -> Second reading on the board's consent agenda. Committee agreed edits on Oct 1. | E8: =IFERROR(IF(INDEX(Drafts!$H$1:$H$251,MATCH(SMALL(Calc!$A$4:$A$253,1),Calc!$A$4:$A$253,0)+1)="","",INDEX(Drafts!$H$1:$H$251,MATCH(SMALL(Calc!$A$4:$A$253,1),Calc!$A$4:$A$253,0)+1)),"") -> Committee reviews the revised draft with the Oct 1 edits. | F8: =IFERROR(IF(INDEX(Drafts!$I$1:$I$251,MATCH(SMALL(Calc!$A$4:$A$253,1),Calc!$A$4:$A$253,0)+1)="","",INDEX(Drafts!$I$1:$I$251,MATCH(SMALL(Calc!$A$4:$A$253,1),Calc!$A$4:$A$253,0)+1)),"") -> 46323 | G8: =IFERROR(IF(INDEX(Drafts!$S$1:$S$251,MATCH(SMALL(Calc!$A$4:$A$253,1),Calc!$A$4:$A$253,0)+1)="","",INDEX(Drafts!$S$1:$S$251,MATCH(SMALL(Calc!$A$4:$A$253,1),Calc!$A$4:$A$253,0)+1)),"") -> 0 | H8: =IFERROR(IF(INDEX(Drafts!$M$1:$M$251,MATCH(SMALL(Calc!$A$4:$A$253,1),Calc!$A$4:$A$253,0)+1)&INDEX(Drafts!$N$1:$N$251,MATCH(SMALL(Calc!$A$4:$A$253,1),Calc!$A$4:$A$253,0)+1)="","",INDEX(Drafts!$M$1:$M$251,MATCH(SMALL(Calc!$A$4:$A$253,1),Calc!$A$4:$A$253,0)+1)&": "&INDEX(Drafts!$N$1:$N$251,MATCH(SMALL(Calc!$A$4:$A$253,1),Calc!$A$4:$A$253,0)+1)),"") -> KEB-R(1): Exists, update to match
A9: =IFERROR(IF(INDEX(Drafts!$A$1:$A$251,MATCH(SMALL(Calc!$A$4:$A$253,2),Calc!$A$4:$A$253,0)+1)="","",INDEX(Drafts!$A$1:$A$251,MATCH(SMALL(Calc!$A$4:$A$253,2),Calc!$A$4:$A$253,0)+1)),"") -> BBBE | B9: =IFERROR(IF(INDEX(Drafts!$B$1:$B$251,MATCH(SMALL(Calc!$A$4:$A$253,2),Calc!$A$4:$A$253,0)+1)="","",INDEX(Drafts!$B$1:$B$251,MATCH(SMALL(Calc!$A$4:$A$253,2),Calc!$A$4:$A$253,0)+1)),"") -> Board Member Compensation and Expenses | C9: =IFERROR(IF(INDEX(Drafts!$E$1:$E$251,MATCH(SMALL(Calc!$A$4:$A$253,2),Calc!$A$4:$A$253,0)+1)="","",INDEX(Drafts!$E$1:$E$251,MATCH(SMALL(Calc!$A$4:$A$253,2),Calc!$A$4:$A$253,0)+1)),"") -> First read: comment window | D9: =IFERROR(IF(INDEX(Drafts!$F$1:$F$251,MATCH(SMALL(Calc!$A$4:$A$253,2),Calc!$A$4:$A$253,0)+1)="","",INDEX(Drafts!$F$1:$F$251,MATCH(SMALL(Calc!$A$4:$A$253,2),Calc!$A$4:$A$253,0)+1)),"") -> First reading on the board's consent agenda. | E9: =IFERROR(IF(INDEX(Drafts!$H$1:$H$251,MATCH(SMALL(Calc!$A$4:$A$253,2),Calc!$A$4:$A$253,0)+1)="","",INDEX(Drafts!$H$1:$H$251,MATCH(SMALL(Calc!$A$4:$A$253,2),Calc!$A$4:$A$253,0)+1)),"") -> Board suggestion window closes (about 14 days, BDC-R(1)); committee review follows (current practice). | F9: =IFERROR(IF(INDEX(Drafts!$I$1:$I$251,MATCH(SMALL(Calc!$A$4:$A$253,2),Calc!$A$4:$A$253,0)+1)="","",INDEX(Drafts!$I$1:$I$251,MATCH(SMALL(Calc!$A$4:$A$253,2),Calc!$A$4:$A$253,0)+1)),"") -> 46314 | G9: =IFERROR(IF(INDEX(Drafts!$S$1:$S$251,MATCH(SMALL(Calc!$A$4:$A$253,2),Calc!$A$4:$A$253,0)+1)="","",INDEX(Drafts!$S$1:$S$251,MATCH(SMALL(Calc!$A$4:$A$253,2),Calc!$A$4:$A$253,0)+1)),"") -> 0 | H9: =IFERROR(IF(INDEX(Drafts!$M$1:$M$251,MATCH(SMALL(Calc!$A$4:$A$253,2),Calc!$A$4:$A$253,0)+1)&INDEX(Drafts!$N$1:$N$251,MATCH(SMALL(Calc!$A$4:$A$253,2),Calc!$A$4:$A$253,0)+1)="","",INDEX(Drafts!$M$1:$M$251,MATCH(SMALL(Calc!$A$4:$A$253,2),Calc!$A$4:$A$253,0)+1)&": "&INDEX(Drafts!$N$1:$N$251,MATCH(SMALL(Calc!$A$4:$A$253,2),Calc!$A$4:$A$253,0)+1)),"") -> None noted: To confirm
A10: =IFERROR(IF(INDEX(Drafts!$A$1:$A$251,MATCH(SMALL(Calc!$A$4:$A$253,3),Calc!$A$4:$A$253,0)+1)="","",INDEX(Drafts!$A$1:$A$251,MATCH(SMALL(Calc!$A$4:$A$253,3),Calc!$A$4:$A$253,0)+1)),"") -> BA | B10: =IFERROR(IF(INDEX(Drafts!$B$1:$B$251,MATCH(SMALL(Calc!$A$4:$A$253,3),Calc!$A$4:$A$253,0)+1)="","",INDEX(Drafts!$B$1:$B$251,MATCH(SMALL(Calc!$A$4:$A$253,3),Calc!$A$4:$A$253,0)+1)),"") -> Goals and Objectives | C10: =IFERROR(IF(INDEX(Drafts!$E$1:$E$251,MATCH(SMALL(Calc!$A$4:$A$253,3),Calc!$A$4:$A$253,0)+1)="","",INDEX(Drafts!$E$1:$E$251,MATCH(SMALL(Calc!$A$4:$A$253,3),Calc!$A$4:$A$253,0)+1)),"") -> Back in committee | D10: =IFERROR(IF(INDEX(Drafts!$F$1:$F$251,MATCH(SMALL(Calc!$A$4:$A$253,3),Calc!$A$4:$A$253,0)+1)="","",INDEX(Drafts!$F$1:$F$251,MATCH(SMALL(Calc!$A$4:$A$253,3),Calc!$A$4:$A$253,0)+1)),"") -> Board took it off the action agenda and returned it to committee. | E10: =IFERROR(IF(INDEX(Drafts!$H$1:$H$251,MATCH(SMALL(Calc!$A$4:$A$253,3),Calc!$A$4:$A$253,0)+1)="","",INDEX(Drafts!$H$1:$H$251,MATCH(SMALL(Calc!$A$4:$A$253,3),Calc!$A$4:$A$253,0)+1)),"") -> Committee revisits the title and placement, the implementation plan and the draft regulation. | F10: =IFERROR(IF(INDEX(Drafts!$I$1:$I$251,MATCH(SMALL(Calc!$A$4:$A$253,3),Calc!$A$4:$A$253,0)+1)="","",INDEX(Drafts!$I$1:$I$251,MATCH(SMALL(Calc!$A$4:$A$253,3),Calc!$A$4:$A$253,0)+1)),"") -> 46323 | G10: =IFERROR(IF(INDEX(Drafts!$S$1:$S$251,MATCH(SMALL(Calc!$A$4:$A$253,3),Calc!$A$4:$A$253,0)+1)="","",INDEX(Drafts!$S$1:$S$251,MATCH(SMALL(Calc!$A$4:$A$253,3),Calc!$A$4:$A$253,0)+1)),"") -> 4 | H10: =IFERROR(IF(INDEX(Drafts!$M$1:$M$251,MATCH(SMALL(Calc!$A$4:$A$253,3),Calc!$A$4:$A$253,0)+1)&INDEX(Drafts!$N$1:$N$251,MATCH(SMALL(Calc!$A$4:$A$253,3),Calc!$A$4:$A$253,0)+1)="","",INDEX(Drafts!$M$1:$M$251,MATCH(SMALL(Calc!$A$4:$A$253,3),Calc!$A$4:$A$253,0)+1)&": "&INDEX(Drafts!$N$1:$N$251,MATCH(SMALL(Calc!$A$4:$A$253,3),Calc!$A$4:$A$253,0)+1)),"") -> BA regulation: Draft exists
A11: =IFERROR(IF(INDEX(Drafts!$A$1:$A$251,MATCH(SMALL(Calc!$A$4:$A$253,4),Calc!$A$4:$A$253,0)+1)="","",INDEX(Drafts!$A$1:$A$251,MATCH(SMALL(Calc!$A$4:$A$253,4),Calc!$A$4:$A$253,0)+1)),"") -> JAA | B11: =IFERROR(IF(INDEX(Drafts!$B$1:$B$251,MATCH(SMALL(Calc!$A$4:$A$253,4),Calc!$A$4:$A$253,0)+1)="","",INDEX(Drafts!$B$1:$B$251,MATCH(SMALL(Calc!$A$4:$A$253,4),Calc!$A$4:$A$253,0)+1)),"") -> Equal Educational Opportunities | C11: =IFERROR(IF(INDEX(Drafts!$E$1:$E$251,MATCH(SMALL(Calc!$A$4:$A$253,4),Calc!$A$4:$A$253,0)+1)="","",INDEX(Drafts!$E$1:$E$251,MATCH(SMALL(Calc!$A$4:$A$253,4),Calc!$A$4:$A$253,0)+1)),"") -> Back in committee | D11: =IFERROR(IF(INDEX(Drafts!$F$1:$F$251,MATCH(SMALL(Calc!$A$4:$A$253,4),Calc!$A$4:$A$253,0)+1)="","",INDEX(Drafts!$F$1:$F$251,MATCH(SMALL(Calc!$A$4:$A$253,4),Calc!$A$4:$A$253,0)+1)),"") -> Board took it off the action agenda with BA and returned it to committee. | E11: =IFERROR(IF(INDEX(Drafts!$H$1:$H$251,MATCH(SMALL(Calc!$A$4:$A$253,4),Calc!$A$4:$A$253,0)+1)="","",INDEX(Drafts!$H$1:$H$251,MATCH(SMALL(Calc!$A$4:$A$253,4),Calc!$A$4:$A$253,0)+1)),"") -> Committee revisits it with BA, including whether to combine BA, JAA and GAAA. | F11: =IFERROR(IF(INDEX(Drafts!$I$1:$I$251,MATCH(SMALL(Calc!$A$4:$A$253,4),Calc!$A$4:$A$253,0)+1)="","",INDEX(Drafts!$I$1:$I$251,MATCH(SMALL(Calc!$A$4:$A$253,4),Calc!$A$4:$A$253,0)+1)),"") -> 46323 | G11: =IFERROR(IF(INDEX(Drafts!$S$1:$S$251,MATCH(SMALL(Calc!$A$4:$A$253,4),Calc!$A$4:$A$253,0)+1)="","",INDEX(Drafts!$S$1:$S$251,MATCH(SMALL(Calc!$A$4:$A$253,4),Calc!$A$4:$A$253,0)+1)),"") -> 1 | H11: =IFERROR(IF(INDEX(Drafts!$M$1:$M$251,MATCH(SMALL(Calc!$A$4:$A$253,4),Calc!$A$4:$A$253,0)+1)&INDEX(Drafts!$N$1:$N$251,MATCH(SMALL(Calc!$A$4:$A$253,4),Calc!$A$4:$A$253,0)+1)="","",INDEX(Drafts!$M$1:$M$251,MATCH(SMALL(Calc!$A$4:$A$253,4),Calc!$A$4:$A$253,0)+1)&": "&INDEX(Drafts!$N$1:$N$251,MATCH(SMALL(Calc!$A$4:$A$253,4),Calc!$A$4:$A$253,0)+1)),"") -> None noted: To confirm
A12: =IFERROR(IF(INDEX(Drafts!$A$1:$A$251,MATCH(SMALL(Calc!$A$4:$A$253,5),Calc!$A$4:$A$253,0)+1)="","",INDEX(Drafts!$A$1:$A$251,MATCH(SMALL(Calc!$A$4:$A$253,5),Calc!$A$4:$A$253,0)+1)),"") -> IFBI | B12: =IFERROR(IF(INDEX(Drafts!$B$1:$B$251,MATCH(SMALL(Calc!$A$4:$A$253,5),Calc!$A$4:$A$253,0)+1)="","",INDEX(Drafts!$B$1:$B$251,MATCH(SMALL(Calc!$A$4:$A$253,5),Calc!$A$4:$A$253,0)+1)),"") -> Artificial Intelligence | C12: =IFERROR(IF(INDEX(Drafts!$E$1:$E$251,MATCH(SMALL(Calc!$A$4:$A$253,5),Calc!$A$4:$A$253,0)+1)="","",INDEX(Drafts!$E$1:$E$251,MATCH(SMALL(Calc!$A$4:$A$253,5),Calc!$A$4:$A$253,0)+1)),"") -> Held | D12: =IFERROR(IF(INDEX(Drafts!$F$1:$F$251,MATCH(SMALL(Calc!$A$4:$A$253,5),Calc!$A$4:$A$253,0)+1)="","",INDEX(Drafts!$F$1:$F$251,MATCH(SMALL(Calc!$A$4:$A$253,5),Calc!$A$4:$A$253,0)+1)),"") -> Second reading on the board's consent agenda. Committee asked for a staff workshop first (Sep 24). | E12: =IFERROR(IF(INDEX(Drafts!$H$1:$H$251,MATCH(SMALL(Calc!$A$4:$A$253,5),Calc!$A$4:$A$253,0)+1)="","",INDEX(Drafts!$H$1:$H$251,MATCH(SMALL(Calc!$A$4:$A$253,5),Calc!$A$4:$A$253,0)+1)),"") -> Staff workshop on IFBI, IFBG and the planned screen time policy, then committee. No return date in the public record yet. | F12: =IFERROR(IF(INDEX(Drafts!$I$1:$I$251,MATCH(SMALL(Calc!$A$4:$A$253,5),Calc!$A$4:$A$253,0)+1)="","",INDEX(Drafts!$I$1:$I$251,MATCH(SMALL(Calc!$A$4:$A$253,5),Calc!$A$4:$A$253,0)+1)),"") | G12: =IFERROR(IF(INDEX(Drafts!$S$1:$S$251,MATCH(SMALL(Calc!$A$4:$A$253,5),Calc!$A$4:$A$253,0)+1)="","",INDEX(Drafts!$S$1:$S$251,MATCH(SMALL(Calc!$A$4:$A$253,5),Calc!$A$4:$A$253,0)+1)),"") -> 0 | H12: =IFERROR(IF(INDEX(Drafts!$M$1:$M$251,MATCH(SMALL(Calc!$A$4:$A$253,5),Calc!$A$4:$A$253,0)+1)&INDEX(Drafts!$N$1:$N$251,MATCH(SMALL(Calc!$A$4:$A$253,5),Calc!$A$4:$A$253,0)+1)="","",INDEX(Drafts!$M$1:$M$251,MATCH(SMALL(Calc!$A$4:$A$253,5),Calc!$A$4:$A$253,0)+1)&": "&INDEX(Drafts!$N$1:$N$251,MATCH(SMALL(Calc!$A$4:$A$253,5),Calc!$A$4:$A$253,0)+1)),"") -> Staff and student AI regulations: Draft ready for Legal
A13: =IFERROR(IF(INDEX(Drafts!$A$1:$A$251,MATCH(SMALL(Calc!$A$4:$A$253,6),Calc!$A$4:$A$253,0)+1)="","",INDEX(Drafts!$A$1:$A$251,MATCH(SMALL(Calc!$A$4:$A$253,6),Calc!$A$4:$A$253,0)+1)),"") -> IFBG | B13: =IFERROR(IF(INDEX(Drafts!$B$1:$B$251,MATCH(SMALL(Calc!$A$4:$A$253,6),Calc!$A$4:$A$253,0)+1)="","",INDEX(Drafts!$B$1:$B$251,MATCH(SMALL(Calc!$A$4:$A$253,6),Calc!$A$4:$A$253,0)+1)),"") -> Internet Acceptable Use | C13: =IFERROR(IF(INDEX(Drafts!$E$1:$E$251,MATCH(SMALL(Calc!$A$4:$A$253,6),Calc!$A$4:$A$253,0)+1)="","",INDEX(Drafts!$E$1:$E$251,MATCH(SMALL(Calc!$A$4:$A$253,6),Calc!$A$4:$A$253,0)+1)),"") -> Held | D13: =IFERROR(IF(INDEX(Drafts!$F$1:$F$251,MATCH(SMALL(Calc!$A$4:$A$253,6),Calc!$A$4:$A$253,0)+1)="","",INDEX(Drafts!$F$1:$F$251,MATCH(SMALL(Calc!$A$4:$A$253,6),Calc!$A$4:$A$253,0)+1)),"") -> Second reading on the board's consent agenda. To be reviewed with IFBI (Sep 24). | E13: =IFERROR(IF(INDEX(Drafts!$H$1:$H$251,MATCH(SMALL(Calc!$A$4:$A$253,6),Calc!$A$4:$A$253,0)+1)="","",INDEX(Drafts!$H$1:$H$251,MATCH(SMALL(Calc!$A$4:$A$253,6),Calc!$A$4:$A$253,0)+1)),"") -> Same staff workshop as IFBI, then committee. No return date in the public record yet. | F13: =IFERROR(IF(INDEX(Drafts!$I$1:$I$251,MATCH(SMALL(Calc!$A$4:$A$253,6),Calc!$A$4:$A$253,0)+1)="","",INDEX(Drafts!$I$1:$I$251,MATCH(SMALL(Calc!$A$4:$A$253,6),Calc!$A$4:$A$253,0)+1)),"") | G13: =IFERROR(IF(INDEX(Drafts!$S$1:$S$251,MATCH(SMALL(Calc!$A$4:$A$253,6),Calc!$A$4:$A$253,0)+1)="","",INDEX(Drafts!$S$1:$S$251,MATCH(SMALL(Calc!$A$4:$A$253,6),Calc!$A$4:$A$253,0)+1)),"") -> 0 | H13: =IFERROR(IF(INDEX(Drafts!$M$1:$M$251,MATCH(SMALL(Calc!$A$4:$A$253,6),Calc!$A$4:$A$253,0)+1)&INDEX(Drafts!$N$1:$N$251,MATCH(SMALL(Calc!$A$4:$A$253,6),Calc!$A$4:$A$253,0)+1)="","",INDEX(Drafts!$M$1:$M$251,MATCH(SMALL(Calc!$A$4:$A$253,6),Calc!$A$4:$A$253,0)+1)&": "&INDEX(Drafts!$N$1:$N$251,MATCH(SMALL(Calc!$A$4:$A$253,6),Calc!$A$4:$A$253,0)+1)),"") -> IFBG-R(1): To confirm
A14: =IFERROR(IF(INDEX(Drafts!$A$1:$A$251,MATCH(SMALL(Calc!$A$4:$A$253,7),Calc!$A$4:$A$253,0)+1)="","",INDEX(Drafts!$A$1:$A$251,MATCH(SMALL(Calc!$A$4:$A$253,7),Calc!$A$4:$A$253,0)+1)),"") -> DO | B14: =IFERROR(IF(INDEX(Drafts!$B$1:$B$251,MATCH(SMALL(Calc!$A$4:$A$253,7),Calc!$A$4:$A$253,0)+1)="","",INDEX(Drafts!$B$1:$B$251,MATCH(SMALL(Calc!$A$4:$A$253,7),Calc!$A$4:$A$253,0)+1)),"") -> School Properties Disposal Procedures | C14: =IFERROR(IF(INDEX(Drafts!$E$1:$E$251,MATCH(SMALL(Calc!$A$4:$A$253,7),Calc!$A$4:$A$253,0)+1)="","",INDEX(Drafts!$E$1:$E$251,MATCH(SMALL(Calc!$A$4:$A$253,7),Calc!$A$4:$A$253,0)+1)),"") -> Held | D14: =IFERROR(IF(INDEX(Drafts!$F$1:$F$251,MATCH(SMALL(Calc!$A$4:$A$253,7),Calc!$A$4:$A$253,0)+1)="","",INDEX(Drafts!$F$1:$F$251,MATCH(SMALL(Calc!$A$4:$A$253,7),Calc!$A$4:$A$253,0)+1)),"") -> Added to the committee's list; held back from first reading. | E14: =IFERROR(IF(INDEX(Drafts!$H$1:$H$251,MATCH(SMALL(Calc!$A$4:$A$253,7),Calc!$A$4:$A$253,0)+1)="","",INDEX(Drafts!$H$1:$H$251,MATCH(SMALL(Calc!$A$4:$A$253,7),Calc!$A$4:$A$253,0)+1)),"") -> Committee schedules its review. No return date in the public record yet. | F14: =IFERROR(IF(INDEX(Drafts!$I$1:$I$251,MATCH(SMALL(Calc!$A$4:$A$253,7),Calc!$A$4:$A$253,0)+1)="","",INDEX(Drafts!$I$1:$I$251,MATCH(SMALL(Calc!$A$4:$A$253,7),Calc!$A$4:$A$253,0)+1)),"") | G14: =IFERROR(IF(INDEX(Drafts!$S$1:$S$251,MATCH(SMALL(Calc!$A$4:$A$253,7),Calc!$A$4:$A$253,0)+1)="","",INDEX(Drafts!$S$1:$S$251,MATCH(SMALL(Calc!$A$4:$A$253,7),Calc!$A$4:$A$253,0)+1)),"") -> 0 | H14: =IFERROR(IF(INDEX(Drafts!$M$1:$M$251,MATCH(SMALL(Calc!$A$4:$A$253,7),Calc!$A$4:$A$253,0)+1)&INDEX(Drafts!$N$1:$N$251,MATCH(SMALL(Calc!$A$4:$A$253,7),Calc!$A$4:$A$253,0)+1)="","",INDEX(Drafts!$M$1:$M$251,MATCH(SMALL(Calc!$A$4:$A$253,7),Calc!$A$4:$A$253,0)+1)&": "&INDEX(Drafts!$N$1:$N$251,MATCH(SMALL(Calc!$A$4:$A$253,7),Calc!$A$4:$A$253,0)+1)),"") -> DO-R: To confirm
A15: =IFERROR(IF(INDEX(Drafts!$A$1:$A$251,MATCH(SMALL(Calc!$A$4:$A$253,8),Calc!$A$4:$A$253,0)+1)="","",INDEX(Drafts!$A$1:$A$251,MATCH(SMALL(Calc!$A$4:$A$253,8),Calc!$A$4:$A$253,0)+1)),"") -> DJE | B15: =IFERROR(IF(INDEX(Drafts!$B$1:$B$251,MATCH(SMALL(Calc!$A$4:$A$253,8),Calc!$A$4:$A$253,0)+1)="","",INDEX(Drafts!$B$1:$B$251,MATCH(SMALL(Calc!$A$4:$A$253,8),Calc!$A$4:$A$253,0)+1)),"") -> Purchasing | C15: =IFERROR(IF(INDEX(Drafts!$E$1:$E$251,MATCH(SMALL(Calc!$A$4:$A$253,8),Calc!$A$4:$A$253,0)+1)="","",INDEX(Drafts!$E$1:$E$251,MATCH(SMALL(Calc!$A$4:$A$253,8),Calc!$A$4:$A$253,0)+1)),"") -> Held | D15: =IFERROR(IF(INDEX(Drafts!$F$1:$F$251,MATCH(SMALL(Calc!$A$4:$A$253,8),Calc!$A$4:$A$253,0)+1)="","",INDEX(Drafts!$F$1:$F$251,MATCH(SMALL(Calc!$A$4:$A$253,8),Calc!$A$4:$A$253,0)+1)),"") -> Added to the committee's list; held back from first reading. | E15: =IFERROR(IF(INDEX(Drafts!$H$1:$H$251,MATCH(SMALL(Calc!$A$4:$A$253,8),Calc!$A$4:$A$253,0)+1)="","",INDEX(Drafts!$H$1:$H$251,MATCH(SMALL(Calc!$A$4:$A$253,8),Calc!$A$4:$A$253,0)+1)),"") -> Committee schedules its review. No return date in the public record yet. | F15: =IFERROR(IF(INDEX(Drafts!$I$1:$I$251,MATCH(SMALL(Calc!$A$4:$A$253,8),Calc!$A$4:$A$253,0)+1)="","",INDEX(Drafts!$I$1:$I$251,MATCH(SMALL(Calc!$A$4:$A$253,8),Calc!$A$4:$A$253,0)+1)),"") | G15: =IFERROR(IF(INDEX(Drafts!$S$1:$S$251,MATCH(SMALL(Calc!$A$4:$A$253,8),Calc!$A$4:$A$253,0)+1)="","",INDEX(Drafts!$S$1:$S$251,MATCH(SMALL(Calc!$A$4:$A$253,8),Calc!$A$4:$A$253,0)+1)),"") -> 0 | H15: =IFERROR(IF(INDEX(Drafts!$M$1:$M$251,MATCH(SMALL(Calc!$A$4:$A$253,8),Calc!$A$4:$A$253,0)+1)&INDEX(Drafts!$N$1:$N$251,MATCH(SMALL(Calc!$A$4:$A$253,8),Calc!$A$4:$A$253,0)+1)="","",INDEX(Drafts!$M$1:$M$251,MATCH(SMALL(Calc!$A$4:$A$253,8),Calc!$A$4:$A$253,0)+1)&": "&INDEX(Drafts!$N$1:$N$251,MATCH(SMALL(Calc!$A$4:$A$253,8),Calc!$A$4:$A$253,0)+1)),"") -> DJE-R(1): To confirm
A16: =IFERROR(IF(INDEX(Drafts!$A$1:$A$251,MATCH(SMALL(Calc!$A$4:$A$253,9),Calc!$A$4:$A$253,0)+1)="","",INDEX(Drafts!$A$1:$A$251,MATCH(SMALL(Calc!$A$4:$A$253,9),Calc!$A$4:$A$253,0)+1)),"") -> NEW-1 | B16: =IFERROR(IF(INDEX(Drafts!$B$1:$B$251,MATCH(SMALL(Calc!$A$4:$A$253,9),Calc!$A$4:$A$253,0)+1)="","",INDEX(Drafts!$B$1:$B$251,MATCH(SMALL(Calc!$A$4:$A$253,9),Calc!$A$4:$A$253,0)+1)),"") -> Screen time | C16: =IFERROR(IF(INDEX(Drafts!$E$1:$E$251,MATCH(SMALL(Calc!$A$4:$A$253,9),Calc!$A$4:$A$253,0)+1)="","",INDEX(Drafts!$E$1:$E$251,MATCH(SMALL(Calc!$A$4:$A$253,9),Calc!$A$4:$A$253,0)+1)),"") -> Drafting | D16: =IFERROR(IF(INDEX(Drafts!$F$1:$F$251,MATCH(SMALL(Calc!$A$4:$A$253,9),Calc!$A$4:$A$253,0)+1)="","",INDEX(Drafts!$F$1:$F$251,MATCH(SMALL(Calc!$A$4:$A$253,9),Calc!$A$4:$A$253,0)+1)),"") -> Staff described a policy with regulations planned this semester. | E16: =IFERROR(IF(INDEX(Drafts!$H$1:$H$251,MATCH(SMALL(Calc!$A$4:$A$253,9),Calc!$A$4:$A$253,0)+1)="","",INDEX(Drafts!$H$1:$H$251,MATCH(SMALL(Calc!$A$4:$A$253,9),Calc!$A$4:$A$253,0)+1)),"") -> Reviewed with IFBI and IFBG. | F16: =IFERROR(IF(INDEX(Drafts!$I$1:$I$251,MATCH(SMALL(Calc!$A$4:$A$253,9),Calc!$A$4:$A$253,0)+1)="","",INDEX(Drafts!$I$1:$I$251,MATCH(SMALL(Calc!$A$4:$A$253,9),Calc!$A$4:$A$253,0)+1)),"") | G16: =IFERROR(IF(INDEX(Drafts!$S$1:$S$251,MATCH(SMALL(Calc!$A$4:$A$253,9),Calc!$A$4:$A$253,0)+1)="","",INDEX(Drafts!$S$1:$S$251,MATCH(SMALL(Calc!$A$4:$A$253,9),Calc!$A$4:$A$253,0)+1)),"") -> 0 | H16: =IFERROR(IF(INDEX(Drafts!$M$1:$M$251,MATCH(SMALL(Calc!$A$4:$A$253,9),Calc!$A$4:$A$253,0)+1)&INDEX(Drafts!$N$1:$N$251,MATCH(SMALL(Calc!$A$4:$A$253,9),Calc!$A$4:$A$253,0)+1)="","",INDEX(Drafts!$M$1:$M$251,MATCH(SMALL(Calc!$A$4:$A$253,9),Calc!$A$4:$A$253,0)+1)&": "&INDEX(Drafts!$N$1:$N$251,MATCH(SMALL(Calc!$A$4:$A$253,9),Calc!$A$4:$A$253,0)+1)),"") -> Screen time regulation: Planned
A17: =IFERROR(IF(INDEX(Drafts!$A$1:$A$251,MATCH(SMALL(Calc!$A$4:$A$253,10),Calc!$A$4:$A$253,0)+1)="","",INDEX(Drafts!$A$1:$A$251,MATCH(SMALL(Calc!$A$4:$A$253,10),Calc!$A$4:$A$253,0)+1)),"") -> BC reg | B17: =IFERROR(IF(INDEX(Drafts!$B$1:$B$251,MATCH(SMALL(Calc!$A$4:$A$253,10),Calc!$A$4:$A$253,0)+1)="","",INDEX(Drafts!$B$1:$B$251,MATCH(SMALL(Calc!$A$4:$A$253,10),Calc!$A$4:$A$253,0)+1)),"") -> Board Meetings regulation (amendment) | C17: =IFERROR(IF(INDEX(Drafts!$E$1:$E$251,MATCH(SMALL(Calc!$A$4:$A$253,10),Calc!$A$4:$A$253,0)+1)="","",INDEX(Drafts!$E$1:$E$251,MATCH(SMALL(Calc!$A$4:$A$253,10),Calc!$A$4:$A$253,0)+1)),"") -> Regulation work | D17: =IFERROR(IF(INDEX(Drafts!$F$1:$F$251,MATCH(SMALL(Calc!$A$4:$A$253,10),Calc!$A$4:$A$253,0)+1)="","",INDEX(Drafts!$F$1:$F$251,MATCH(SMALL(Calc!$A$4:$A$253,10),Calc!$A$4:$A$253,0)+1)),"") -> Board member requests on agenda timing logged for the regulation; board recognition criteria planned. | E17: =IFERROR(IF(INDEX(Drafts!$H$1:$H$251,MATCH(SMALL(Calc!$A$4:$A$253,10),Calc!$A$4:$A$253,0)+1)="","",INDEX(Drafts!$H$1:$H$251,MATCH(SMALL(Calc!$A$4:$A$253,10),Calc!$A$4:$A$253,0)+1)),"") -> Draft the amendment; share with the board before it is issued. | F17: =IFERROR(IF(INDEX(Drafts!$I$1:$I$251,MATCH(SMALL(Calc!$A$4:$A$253,10),Calc!$A$4:$A$253,0)+1)="","",INDEX(Drafts!$I$1:$I$251,MATCH(SMALL(Calc!$A$4:$A$253,10),Calc!$A$4:$A$253,0)+1)),"") | G17: =IFERROR(IF(INDEX(Drafts!$S$1:$S$251,MATCH(SMALL(Calc!$A$4:$A$253,10),Calc!$A$4:$A$253,0)+1)="","",INDEX(Drafts!$S$1:$S$251,MATCH(SMALL(Calc!$A$4:$A$253,10),Calc!$A$4:$A$253,0)+1)),"") -> 0 | H17: =IFERROR(IF(INDEX(Drafts!$M$1:$M$251,MATCH(SMALL(Calc!$A$4:$A$253,10),Calc!$A$4:$A$253,0)+1)&INDEX(Drafts!$N$1:$N$251,MATCH(SMALL(Calc!$A$4:$A$253,10),Calc!$A$4:$A$253,0)+1)="","",INDEX(Drafts!$M$1:$M$251,MATCH(SMALL(Calc!$A$4:$A$253,10),Calc!$A$4:$A$253,0)+1)&": "&INDEX(Drafts!$N$1:$N$251,MATCH(SMALL(Calc!$A$4:$A$253,10),Calc!$A$4:$A$253,0)+1)),"") -> BC regulation: To confirm
A18: =IFERROR(IF(INDEX(Drafts!$A$1:$A$251,MATCH(SMALL(Calc!$A$4:$A$253,11),Calc!$A$4:$A$253,0)+1)="","",INDEX(Drafts!$A$1:$A$251,MATCH(SMALL(Calc!$A$4:$A$253,11),Calc!$A$4:$A$253,0)+1)),"") -> LE regs | B18: =IFERROR(IF(INDEX(Drafts!$B$1:$B$251,MATCH(SMALL(Calc!$A$4:$A$253,11),Calc!$A$4:$A$253,0)+1)="","",INDEX(Drafts!$B$1:$B$251,MATCH(SMALL(Calc!$A$4:$A$253,11),Calc!$A$4:$A$253,0)+1)),"") -> School-Community Organizations regulations | C18: =IFERROR(IF(INDEX(Drafts!$E$1:$E$251,MATCH(SMALL(Calc!$A$4:$A$253,11),Calc!$A$4:$A$253,0)+1)="","",INDEX(Drafts!$E$1:$E$251,MATCH(SMALL(Calc!$A$4:$A$253,11),Calc!$A$4:$A$253,0)+1)),"") -> Regulation work | D18: =IFERROR(IF(INDEX(Drafts!$F$1:$F$251,MATCH(SMALL(Calc!$A$4:$A$253,11),Calc!$A$4:$A$253,0)+1)="","",INDEX(Drafts!$F$1:$F$251,MATCH(SMALL(Calc!$A$4:$A$253,11),Calc!$A$4:$A$253,0)+1)),"") -> Regulations not yet posted; a booster club regulation was submitted for review. | E18: =IFERROR(IF(INDEX(Drafts!$H$1:$H$251,MATCH(SMALL(Calc!$A$4:$A$253,11),Calc!$A$4:$A$253,0)+1)="","",INDEX(Drafts!$H$1:$H$251,MATCH(SMALL(Calc!$A$4:$A$253,11),Calc!$A$4:$A$253,0)+1)),"") -> Finish the booster club regulation, then support organizations generally. | F18: =IFERROR(IF(INDEX(Drafts!$I$1:$I$251,MATCH(SMALL(Calc!$A$4:$A$253,11),Calc!$A$4:$A$253,0)+1)="","",INDEX(Drafts!$I$1:$I$251,MATCH(SMALL(Calc!$A$4:$A$253,11),Calc!$A$4:$A$253,0)+1)),"") | G18: =IFERROR(IF(INDEX(Drafts!$S$1:$S$251,MATCH(SMALL(Calc!$A$4:$A$253,11),Calc!$A$4:$A$253,0)+1)="","",INDEX(Drafts!$S$1:$S$251,MATCH(SMALL(Calc!$A$4:$A$253,11),Calc!$A$4:$A$253,0)+1)),"") -> 0 | H18: =IFERROR(IF(INDEX(Drafts!$M$1:$M$251,MATCH(SMALL(Calc!$A$4:$A$253,11),Calc!$A$4:$A$253,0)+1)&INDEX(Drafts!$N$1:$N$251,MATCH(SMALL(Calc!$A$4:$A$253,11),Calc!$A$4:$A$253,0)+1)="","",INDEX(Drafts!$M$1:$M$251,MATCH(SMALL(Calc!$A$4:$A$253,11),Calc!$A$4:$A$253,0)+1)&": "&INDEX(Drafts!$N$1:$N$251,MATCH(SMALL(Calc!$A$4:$A$253,11),Calc!$A$4:$A$253,0)+1)),"") -> LE regulations: Drafting
A19: =IFERROR(IF(INDEX(Drafts!$A$1:$A$251,MATCH(SMALL(Calc!$A$4:$A$253,12),Calc!$A$4:$A$253,0)+1)="","",INDEX(Drafts!$A$1:$A$251,MATCH(SMALL(Calc!$A$4:$A$253,12),Calc!$A$4:$A$253,0)+1)),"") | B19: =IFERROR(IF(INDEX(Drafts!$B$1:$B$251,MATCH(SMALL(Calc!$A$4:$A$253,12),Calc!$A$4:$A$253,0)+1)="","",INDEX(Drafts!$B$1:$B$251,MATCH(SMALL(Calc!$A$4:$A$253,12),Calc!$A$4:$A$253,0)+1)),"") | C19: =IFERROR(IF(INDEX(Drafts!$E$1:$E$251,MATCH(SMALL(Calc!$A$4:$A$253,12),Calc!$A$4:$A$253,0)+1)="","",INDEX(Drafts!$E$1:$E$251,MATCH(SMALL(Calc!$A$4:$A$253,12),Calc!$A$4:$A$253,0)+1)),"") | D19: =IFERROR(IF(INDEX(Drafts!$F$1:$F$251,MATCH(SMALL(Calc!$A$4:$A$253,12),Calc!$A$4:$A$253,0)+1)="","",INDEX(Drafts!$F$1:$F$251,MATCH(SMALL(Calc!$A$4:$A$253,12),Calc!$A$4:$A$253,0)+1)),"") | E19: =IFERROR(IF(INDEX(Drafts!$H$1:$H$251,MATCH(SMALL(Calc!$A$4:$A$253,12),Calc!$A$4:$A$253,0)+1)="","",INDEX(Drafts!$H$1:$H$251,MATCH(SMALL(Calc!$A$4:$A$253,12),Calc!$A$4:$A$253,0)+1)),"") | F19: =IFERROR(IF(INDEX(Drafts!$I$1:$I$251,MATCH(SMALL(Calc!$A$4:$A$253,12),Calc!$A$4:$A$253,0)+1)="","",INDEX(Drafts!$I$1:$I$251,MATCH(SMALL(Calc!$A$4:$A$253,12),Calc!$A$4:$A$253,0)+1)),"") | G19: =IFERROR(IF(INDEX(Drafts!$S$1:$S$251,MATCH(SMALL(Calc!$A$4:$A$253,12),Calc!$A$4:$A$253,0)+1)="","",INDEX(Drafts!$S$1:$S$251,MATCH(SMALL(Calc!$A$4:$A$253,12),Calc!$A$4:$A$253,0)+1)),"") | H19: =IFERROR(IF(INDEX(Drafts!$M$1:$M$251,MATCH(SMALL(Calc!$A$4:$A$253,12),Calc!$A$4:$A$253,0)+1)&INDEX(Drafts!$N$1:$N$251,MATCH(SMALL(Calc!$A$4:$A$253,12),Calc!$A$4:$A$253,0)+1)="","",INDEX(Drafts!$M$1:$M$251,MATCH(SMALL(Calc!$A$4:$A$253,12),Calc!$A$4:$A$253,0)+1)&": "&INDEX(Drafts!$N$1:$N$251,MATCH(SMALL(Calc!$A$4:$A$253,12),Calc!$A$4:$A$253,0)+1)),"")
A20: =IFERROR(IF(INDEX(Drafts!$A$1:$A$251,MATCH(SMALL(Calc!$A$4:$A$253,13),Calc!$A$4:$A$253,0)+1)="","",INDEX(Drafts!$A$1:$A$251,MATCH(SMALL(Calc!$A$4:$A$253,13),Calc!$A$4:$A$253,0)+1)),"") | B20: =IFERROR(IF(INDEX(Drafts!$B$1:$B$251,MATCH(SMALL(Calc!$A$4:$A$253,13),Calc!$A$4:$A$253,0)+1)="","",INDEX(Drafts!$B$1:$B$251,MATCH(SMALL(Calc!$A$4:$A$253,13),Calc!$A$4:$A$253,0)+1)),"") | C20: =IFERROR(IF(INDEX(Drafts!$E$1:$E$251,MATCH(SMALL(Calc!$A$4:$A$253,13),Calc!$A$4:$A$253,0)+1)="","",INDEX(Drafts!$E$1:$E$251,MATCH(SMALL(Calc!$A$4:$A$253,13),Calc!$A$4:$A$253,0)+1)),"") | D20: =IFERROR(IF(INDEX(Drafts!$F$1:$F$251,MATCH(SMALL(Calc!$A$4:$A$253,13),Calc!$A$4:$A$253,0)+1)="","",INDEX(Drafts!$F$1:$F$251,MATCH(SMALL(Calc!$A$4:$A$253,13),Calc!$A$4:$A$253,0)+1)),"") | E20: =IFERROR(IF(INDEX(Drafts!$H$1:$H$251,MATCH(SMALL(Calc!$A$4:$A$253,13),Calc!$A$4:$A$253,0)+1)="","",INDEX(Drafts!$H$1:$H$251,MATCH(SMALL(Calc!$A$4:$A$253,13),Calc!$A$4:$A$253,0)+1)),"") | F20: =IFERROR(IF(INDEX(Drafts!$I$1:$I$251,MATCH(SMALL(Calc!$A$4:$A$253,13),Calc!$A$4:$A$253,0)+1)="","",INDEX(Drafts!$I$1:$I$251,MATCH(SMALL(Calc!$A$4:$A$253,13),Calc!$A$4:$A$253,0)+1)),"") | G20: =IFERROR(IF(INDEX(Drafts!$S$1:$S$251,MATCH(SMALL(Calc!$A$4:$A$253,13),Calc!$A$4:$A$253,0)+1)="","",INDEX(Drafts!$S$1:$S$251,MATCH(SMALL(Calc!$A$4:$A$253,13),Calc!$A$4:$A$253,0)+1)),"") | H20: =IFERROR(IF(INDEX(Drafts!$M$1:$M$251,MATCH(SMALL(Calc!$A$4:$A$253,13),Calc!$A$4:$A$253,0)+1)&INDEX(Drafts!$N$1:$N$251,MATCH(SMALL(Calc!$A$4:$A$253,13),Calc!$A$4:$A$253,0)+1)="","",INDEX(Drafts!$M$1:$M$251,MATCH(SMALL(Calc!$A$4:$A$253,13),Calc!$A$4:$A$253,0)+1)&": "&INDEX(Drafts!$N$1:$N$251,MATCH(SMALL(Calc!$A$4:$A$253,13),Calc!$A$4:$A$253,0)+1)),"")
A21: =IFERROR(IF(INDEX(Drafts!$A$1:$A$251,MATCH(SMALL(Calc!$A$4:$A$253,14),Calc!$A$4:$A$253,0)+1)="","",INDEX(Drafts!$A$1:$A$251,MATCH(SMALL(Calc!$A$4:$A$253,14),Calc!$A$4:$A$253,0)+1)),"") | B21: =IFERROR(IF(INDEX(Drafts!$B$1:$B$251,MATCH(SMALL(Calc!$A$4:$A$253,14),Calc!$A$4:$A$253,0)+1)="","",INDEX(Drafts!$B$1:$B$251,MATCH(SMALL(Calc!$A$4:$A$253,14),Calc!$A$4:$A$253,0)+1)),"") | C21: =IFERROR(IF(INDEX(Drafts!$E$1:$E$251,MATCH(SMALL(Calc!$A$4:$A$253,14),Calc!$A$4:$A$253,0)+1)="","",INDEX(Drafts!$E$1:$E$251,MATCH(SMALL(Calc!$A$4:$A$253,14),Calc!$A$4:$A$253,0)+1)),"") | D21: =IFERROR(IF(INDEX(Drafts!$F$1:$F$251,MATCH(SMALL(Calc!$A$4:$A$253,14),Calc!$A$4:$A$253,0)+1)="","",INDEX(Drafts!$F$1:$F$251,MATCH(SMALL(Calc!$A$4:$A$253,14),Calc!$A$4:$A$253,0)+1)),"") | E21: =IFERROR(IF(INDEX(Drafts!$H$1:$H$251,MATCH(SMALL(Calc!$A$4:$A$253,14),Calc!$A$4:$A$253,0)+1)="","",INDEX(Drafts!$H$1:$H$251,MATCH(SMALL(Calc!$A$4:$A$253,14),Calc!$A$4:$A$253,0)+1)),"") | F21: =IFERROR(IF(INDEX(Drafts!$I$1:$I$251,MATCH(SMALL(Calc!$A$4:$A$253,14),Calc!$A$4:$A$253,0)+1)="","",INDEX(Drafts!$I$1:$I$251,MATCH(SMALL(Calc!$A$4:$A$253,14),Calc!$A$4:$A$253,0)+1)),"") | G21: =IFERROR(IF(INDEX(Drafts!$S$1:$S$251,MATCH(SMALL(Calc!$A$4:$A$253,14),Calc!$A$4:$A$253,0)+1)="","",INDEX(Drafts!$S$1:$S$251,MATCH(SMALL(Calc!$A$4:$A$253,14),Calc!$A$4:$A$253,0)+1)),"") | H21: =IFERROR(IF(INDEX(Drafts!$M$1:$M$251,MATCH(SMALL(Calc!$A$4:$A$253,14),Calc!$A$4:$A$253,0)+1)&INDEX(Drafts!$N$1:$N$251,MATCH(SMALL(Calc!$A$4:$A$253,14),Calc!$A$4:$A$253,0)+1)="","",INDEX(Drafts!$M$1:$M$251,MATCH(SMALL(Calc!$A$4:$A$253,14),Calc!$A$4:$A$253,0)+1)&": "&INDEX(Drafts!$N$1:$N$251,MATCH(SMALL(Calc!$A$4:$A$253,14),Calc!$A$4:$A$253,0)+1)),"")
A22: =IFERROR(IF(INDEX(Drafts!$A$1:$A$251,MATCH(SMALL(Calc!$A$4:$A$253,15),Calc!$A$4:$A$253,0)+1)="","",INDEX(Drafts!$A$1:$A$251,MATCH(SMALL(Calc!$A$4:$A$253,15),Calc!$A$4:$A$253,0)+1)),"") | B22: =IFERROR(IF(INDEX(Drafts!$B$1:$B$251,MATCH(SMALL(Calc!$A$4:$A$253,15),Calc!$A$4:$A$253,0)+1)="","",INDEX(Drafts!$B$1:$B$251,MATCH(SMALL(Calc!$A$4:$A$253,15),Calc!$A$4:$A$253,0)+1)),"") | C22: =IFERROR(IF(INDEX(Drafts!$E$1:$E$251,MATCH(SMALL(Calc!$A$4:$A$253,15),Calc!$A$4:$A$253,0)+1)="","",INDEX(Drafts!$E$1:$E$251,MATCH(SMALL(Calc!$A$4:$A$253,15),Calc!$A$4:$A$253,0)+1)),"") | D22: =IFERROR(IF(INDEX(Drafts!$F$1:$F$251,MATCH(SMALL(Calc!$A$4:$A$253,15),Calc!$A$4:$A$253,0)+1)="","",INDEX(Drafts!$F$1:$F$251,MATCH(SMALL(Calc!$A$4:$A$253,15),Calc!$A$4:$A$253,0)+1)),"") | E22: =IFERROR(IF(INDEX(Drafts!$H$1:$H$251,MATCH(SMALL(Calc!$A$4:$A$253,15),Calc!$A$4:$A$253,0)+1)="","",INDEX(Drafts!$H$1:$H$251,MATCH(SMALL(Calc!$A$4:$A$253,15),Calc!$A$4:$A$253,0)+1)),"") | F22: =IFERROR(IF(INDEX(Drafts!$I$1:$I$251,MATCH(SMALL(Calc!$A$4:$A$253,15),Calc!$A$4:$A$253,0)+1)="","",INDEX(Drafts!$I$1:$I$251,MATCH(SMALL(Calc!$A$4:$A$253,15),Calc!$A$4:$A$253,0)+1)),"") | G22: =IFERROR(IF(INDEX(Drafts!$S$1:$S$251,MATCH(SMALL(Calc!$A$4:$A$253,15),Calc!$A$4:$A$253,0)+1)="","",INDEX(Drafts!$S$1:$S$251,MATCH(SMALL(Calc!$A$4:$A$253,15),Calc!$A$4:$A$253,0)+1)),"") | H22: =IFERROR(IF(INDEX(Drafts!$M$1:$M$251,MATCH(SMALL(Calc!$A$4:$A$253,15),Calc!$A$4:$A$253,0)+1)&INDEX(Drafts!$N$1:$N$251,MATCH(SMALL(Calc!$A$4:$A$253,15),Calc!$A$4:$A$253,0)+1)="","",INDEX(Drafts!$M$1:$M$251,MATCH(SMALL(Calc!$A$4:$A$253,15),Calc!$A$4:$A$253,0)+1)&": "&INDEX(Drafts!$N$1:$N$251,MATCH(SMALL(Calc!$A$4:$A$253,15),Calc!$A$4:$A$253,0)+1)),"")
A23: =IFERROR(IF(INDEX(Drafts!$A$1:$A$251,MATCH(SMALL(Calc!$A$4:$A$253,16),Calc!$A$4:$A$253,0)+1)="","",INDEX(Drafts!$A$1:$A$251,MATCH(SMALL(Calc!$A$4:$A$253,16),Calc!$A$4:$A$253,0)+1)),"") | B23: =IFERROR(IF(INDEX(Drafts!$B$1:$B$251,MATCH(SMALL(Calc!$A$4:$A$253,16),Calc!$A$4:$A$253,0)+1)="","",INDEX(Drafts!$B$1:$B$251,MATCH(SMALL(Calc!$A$4:$A$253,16),Calc!$A$4:$A$253,0)+1)),"") | C23: =IFERROR(IF(INDEX(Drafts!$E$1:$E$251,MATCH(SMALL(Calc!$A$4:$A$253,16),Calc!$A$4:$A$253,0)+1)="","",INDEX(Drafts!$E$1:$E$251,MATCH(SMALL(Calc!$A$4:$A$253,16),Calc!$A$4:$A$253,0)+1)),"") | D23: =IFERROR(IF(INDEX(Drafts!$F$1:$F$251,MATCH(SMALL(Calc!$A$4:$A$253,16),Calc!$A$4:$A$253,0)+1)="","",INDEX(Drafts!$F$1:$F$251,MATCH(SMALL(Calc!$A$4:$A$253,16),Calc!$A$4:$A$253,0)+1)),"") | E23: =IFERROR(IF(INDEX(Drafts!$H$1:$H$251,MATCH(SMALL(Calc!$A$4:$A$253,16),Calc!$A$4:$A$253,0)+1)="","",INDEX(Drafts!$H$1:$H$251,MATCH(SMALL(Calc!$A$4:$A$253,16),Calc!$A$4:$A$253,0)+1)),"") | F23: =IFERROR(IF(INDEX(Drafts!$I$1:$I$251,MATCH(SMALL(Calc!$A$4:$A$253,16),Calc!$A$4:$A$253,0)+1)="","",INDEX(Drafts!$I$1:$I$251,MATCH(SMALL(Calc!$A$4:$A$253,16),Calc!$A$4:$A$253,0)+1)),"") | G23: =IFERROR(IF(INDEX(Drafts!$S$1:$S$251,MATCH(SMALL(Calc!$A$4:$A$253,16),Calc!$A$4:$A$253,0)+1)="","",INDEX(Drafts!$S$1:$S$251,MATCH(SMALL(Calc!$A$4:$A$253,16),Calc!$A$4:$A$253,0)+1)),"") | H23: =IFERROR(IF(INDEX(Drafts!$M$1:$M$251,MATCH(SMALL(Calc!$A$4:$A$253,16),Calc!$A$4:$A$253,0)+1)&INDEX(Drafts!$N$1:$N$251,MATCH(SMALL(Calc!$A$4:$A$253,16),Calc!$A$4:$A$253,0)+1)="","",INDEX(Drafts!$M$1:$M$251,MATCH(SMALL(Calc!$A$4:$A$253,16),Calc!$A$4:$A$253,0)+1)&": "&INDEX(Drafts!$N$1:$N$251,MATCH(SMALL(Calc!$A$4:$A$253,16),Calc!$A$4:$A$253,0)+1)),"")
A24: =IF(COUNT(Calc!$A$4:$A$253)>16,"+ "&(COUNT(Calc!$A$4:$A$253)-16)&" more open items, not shown. Filter the Drafts tab to see them.","")
A25: Edits saved for a later revision
A26: Goes into | B26: Edit | G26: Agreed | H26: Status
A27: =IFERROR(INDEX('Deferred edits'!$C$2:$C$201,MATCH(1,Calc!$J$4:$J$203,0)),"") -> DFK | B27: =IFERROR(IF(INDEX('Deferred edits'!$J$2:$J$201,MATCH(1,Calc!$J$4:$J$203,0))="Proposed",IF(RIGHT(INDEX('Deferred edits'!$D$2:$D$201,MATCH(1,Calc!$J$4:$J$203,0)),1)=".",LEFT(INDEX('Deferred edits'!$D$2:$D$201,MATCH(1,Calc!$J$4:$J$203,0)),LEN(INDEX('Deferred edits'!$D$2:$D$201,MATCH(1,Calc!$J$4:$J$203,0)))-1)&" (proposed).",INDEX('Deferred edits'!$D$2:$D$201,MATCH(1,Calc!$J$4:$J$203,0))&" (proposed)"),INDEX('Deferred edits'!$D$2:$D$201,MATCH(1,Calc!$J$4:$J$203,0))),"") -> Move the donor-influence sentence from KEB to DFK. | G27: =IFERROR(INDEX('Deferred edits'!$E$2:$E$201,MATCH(1,Calc!$J$4:$J$203,0)),"") -> 46296 | H27: =IFERROR(INDEX('Deferred edits'!$I$2:$I$201,MATCH(1,Calc!$J$4:$J$203,0)),"") -> Waiting
A28: =IFERROR(INDEX('Deferred edits'!$C$2:$C$201,MATCH(2,Calc!$J$4:$J$203,0)),"") -> GANA | B28: =IFERROR(IF(INDEX('Deferred edits'!$J$2:$J$201,MATCH(2,Calc!$J$4:$J$203,0))="Proposed",IF(RIGHT(INDEX('Deferred edits'!$D$2:$D$201,MATCH(2,Calc!$J$4:$J$203,0)),1)=".",LEFT(INDEX('Deferred edits'!$D$2:$D$201,MATCH(2,Calc!$J$4:$J$203,0)),LEN(INDEX('Deferred edits'!$D$2:$D$201,MATCH(2,Calc!$J$4:$J$203,0)))-1)&" (proposed).",INDEX('Deferred edits'!$D$2:$D$201,MATCH(2,Calc!$J$4:$J$203,0))&" (proposed)"),INDEX('Deferred edits'!$D$2:$D$201,MATCH(2,Calc!$J$4:$J$203,0))),"") -> GANA names JGCC, which is not in the manual (JGCC-R is). Update the cross-reference. | G28: =IFERROR(INDEX('Deferred edits'!$E$2:$E$201,MATCH(2,Calc!$J$4:$J$203,0)),"") -> 46303 | H28: =IFERROR(INDEX('Deferred edits'!$I$2:$I$201,MATCH(2,Calc!$J$4:$J$203,0)),"") -> Waiting
A29: =IFERROR(INDEX('Deferred edits'!$C$2:$C$201,MATCH(3,Calc!$J$4:$J$203,0)),"") -> GBA | B29: =IFERROR(IF(INDEX('Deferred edits'!$J$2:$J$201,MATCH(3,Calc!$J$4:$J$203,0))="Proposed",IF(RIGHT(INDEX('Deferred edits'!$D$2:$D$201,MATCH(3,Calc!$J$4:$J$203,0)),1)=".",LEFT(INDEX('Deferred edits'!$D$2:$D$201,MATCH(3,Calc!$J$4:$J$203,0)),LEN(INDEX('Deferred edits'!$D$2:$D$201,MATCH(3,Calc!$J$4:$J$203,0)))-1)&" (proposed).",INDEX('Deferred edits'!$D$2:$D$201,MATCH(3,Calc!$J$4:$J$203,0))&" (proposed)"),INDEX('Deferred edits'!$D$2:$D$201,MATCH(3,Calc!$J$4:$J$203,0))),"") -> GBA names GDA-E(1), which is not in the manual. Update the cross-reference. | G29: =IFERROR(INDEX('Deferred edits'!$E$2:$E$201,MATCH(3,Calc!$J$4:$J$203,0)),"") -> 46303 | H29: =IFERROR(INDEX('Deferred edits'!$I$2:$I$201,MATCH(3,Calc!$J$4:$J$203,0)),"") -> Waiting
A30: =IFERROR(INDEX('Deferred edits'!$C$2:$C$201,MATCH(4,Calc!$J$4:$J$203,0)),"") -> JBC(1)-R(1) | B30: =IFERROR(IF(INDEX('Deferred edits'!$J$2:$J$201,MATCH(4,Calc!$J$4:$J$203,0))="Proposed",IF(RIGHT(INDEX('Deferred edits'!$D$2:$D$201,MATCH(4,Calc!$J$4:$J$203,0)),1)=".",LEFT(INDEX('Deferred edits'!$D$2:$D$201,MATCH(4,Calc!$J$4:$J$203,0)),LEN(INDEX('Deferred edits'!$D$2:$D$201,MATCH(4,Calc!$J$4:$J$203,0)))-1)&" (proposed).",INDEX('Deferred edits'!$D$2:$D$201,MATCH(4,Calc!$J$4:$J$203,0))&" (proposed)"),INDEX('Deferred edits'!$D$2:$D$201,MATCH(4,Calc!$J$4:$J$203,0))),"") -> JBC(1)-R(1) names JCE, which is not in the manual. Update the cross-reference. | G30: =IFERROR(INDEX('Deferred edits'!$E$2:$E$201,MATCH(4,Calc!$J$4:$J$203,0)),"") -> 46303 | H30: =IFERROR(INDEX('Deferred edits'!$I$2:$I$201,MATCH(4,Calc!$J$4:$J$203,0)),"") -> Waiting
A31: =IFERROR(INDEX('Deferred edits'!$C$2:$C$201,MATCH(5,Calc!$J$4:$J$203,0)),"") -> IFBG | B31: =IFERROR(IF(INDEX('Deferred edits'!$J$2:$J$201,MATCH(5,Calc!$J$4:$J$203,0))="Proposed",IF(RIGHT(INDEX('Deferred edits'!$D$2:$D$201,MATCH(5,Calc!$J$4:$J$203,0)),1)=".",LEFT(INDEX('Deferred edits'!$D$2:$D$201,MATCH(5,Calc!$J$4:$J$203,0)),LEN(INDEX('Deferred edits'!$D$2:$D$201,MATCH(5,Calc!$J$4:$J$203,0)))-1)&" (proposed).",INDEX('Deferred edits'!$D$2:$D$201,MATCH(5,Calc!$J$4:$J$203,0))&" (proposed)"),INDEX('Deferred edits'!$D$2:$D$201,MATCH(5,Calc!$J$4:$J$203,0))),"") -> Add a cross-reference between IFBG and IFBI so the two policies point to each other (proposed). | G31: =IFERROR(INDEX('Deferred edits'!$E$2:$E$201,MATCH(5,Calc!$J$4:$J$203,0)),"") -> 46307 | H31: =IFERROR(INDEX('Deferred edits'!$I$2:$I$201,MATCH(5,Calc!$J$4:$J$203,0)),"") -> ● Ready to pick up
A32: =IFERROR(INDEX('Deferred edits'!$C$2:$C$201,MATCH(6,Calc!$J$4:$J$203,0)),"") | B32: =IFERROR(IF(INDEX('Deferred edits'!$J$2:$J$201,MATCH(6,Calc!$J$4:$J$203,0))="Proposed",IF(RIGHT(INDEX('Deferred edits'!$D$2:$D$201,MATCH(6,Calc!$J$4:$J$203,0)),1)=".",LEFT(INDEX('Deferred edits'!$D$2:$D$201,MATCH(6,Calc!$J$4:$J$203,0)),LEN(INDEX('Deferred edits'!$D$2:$D$201,MATCH(6,Calc!$J$4:$J$203,0)))-1)&" (proposed).",INDEX('Deferred edits'!$D$2:$D$201,MATCH(6,Calc!$J$4:$J$203,0))&" (proposed)"),INDEX('Deferred edits'!$D$2:$D$201,MATCH(6,Calc!$J$4:$J$203,0))),"") | G32: =IFERROR(INDEX('Deferred edits'!$E$2:$E$201,MATCH(6,Calc!$J$4:$J$203,0)),"") | H32: =IFERROR(INDEX('Deferred edits'!$I$2:$I$201,MATCH(6,Calc!$J$4:$J$203,0)),"")
A34: Board and staff feedback: Word redlines or the feedback form, so every comment is logged once. Public comment: online, during each comment window. Stages and dates come from public meeting records; staff confirm before each packet. Independent sample built by Samantha Rubin from public records. Not a district document.

Sheet How to use
A1: How to use this workbook
A2: Type only in Drafts, Comments, Versions, Deferred edits and the dates in About. Status and the Policy card fill themselves in.
A4: Task | B4: Where | C4: Steps
A5: Look up one policy | B5: Policy card | C5: Click the code at the top (cell C3) and pick a policy from the list. The card fills in its stage, links, regulation, versions, comments and saved edits. In a file several people have open at once, the selection is shared: changing it changes the card for everyone.
A6: Get ready for a committee meeting | B6: About, Drafts, Status, Policy card | C6: 1. In About, update As of, Record through and Next committee meeting. 2. In Drafts, update each open row: stage, last action and date, next step and date. 3. Look for rose cells in Drafts, Comments and Versions, and deal with each one. 4. Export Status as a PDF (File > Export, current sheet). It prints on one page. 5. For each policy on the agenda, pick it on the Policy card and export that page too.
A7: Add a policy or regulation | B7: Drafts | C7: Type in the first empty row. Every other tab picks it up. Each code gets one row. Excel stops a code that already has a row. A new policy without a code yet gets a placeholder: NEW-2, NEW-3 and so on. Fill in title, type, content owner, stage, last action and date, next step and date, and the regulation. Paste Simbli links into current_url and draft_url. The clickable Simbli links build themselves.
A8: Return a redline (board and staff) | B8: Word comments folder | C8: Board members and staff comment in Word on the redline, as they do now, and send it back by email or the shared folder. Staff save each returned file to the Word comments folder as CODE_vN_date_purpose.docx, for example KEB_v4_2026-10-28_committee.docx. Planned: one refresh pulls every comment from every file, with the sentence it is attached to. Until then, log each one by hand.
A9: Use the feedback form | B9: Feedback form | C9: For feedback not written in a redline: a question, a request or a general comment. Each answer goes into the matching Comments column (see the Feedback form tab). Set channel to Board feedback form.
A10: Log a comment | B10: Comments | C10: Start in the first row with no code. The ID is already filled in and never changes. Pick the code from the list (Excel warns if it isn't in Drafts). Set from to Public, Board member or Staff, never a name. Fill in channel, version_read, section, and the comment in one or two sentences, plus where it came from in source. Leave route blank until it is decided. Until then the row shows Open.
A11: Route and answer a comment | B11: Comments | C11: Pick the route. goes_to fills in from the routes table on the Comment flow tab. Record the response, the responding office and date_resolved. The row turns Closed. Open: needs a decision stays Open; it belongs on the next committee agenda. Save for a later revision: also add a row in Deferred edits with the comment's ID in from_comment. Until you do, deferred_check shows a rose reminder.
A12: Save a new version | B12: Versions | C12: Add a row whenever the text changes after a version was frozen: code, date, purpose and what changed. The version number fills itself in. Set home to Simbli or Shared folder only. Paste the file link. Set frozen to Yes once a version is posted or sent in a packet. Never edit a frozen file; changes go in a new version. Before a packet, mark the three checks Yes. The newest frozen version becomes official on its own.
A13: Save an edit for later | B13: Deferred edits | C13: Add a row: raised_in, to_code, the edit, the date agreed, status Waiting, and from_comment if it came from a comment. When to_code is added to Drafts or reopened, the alert reads Ready to pick up. Set status to Picked up once the edit is in the new draft, Done after adoption, or Dropped if the committee decides against it.
A14: Close out a policy | B14: Drafts | C14: Adopted: set stage to Adopted and enter action_date (the board vote). regulation_due fills in from the target in About. An adopted policy stays on Status until regulation_status is Complete or Not needed, so the regulation is not forgotten. Withdrawn: set stage to Withdrawn. It leaves Status. Pulled before a vote: set stage to Back in committee and record the next step. Not adopted: BDC-R(1) returns the draft to the superintendent or designee for refinement and a later vote, or it is abandoned. Set the stage to Drafting with a note, or to Withdrawn if it is abandoned. Never delete a row. Closed rows are the record, and the Policy card still shows them.
A15: Reopen a policy | B15: Drafts | C15: Find its existing row and change the stage. Update last action and next step. Don't add a second row for the same code. Versions continue from the last number. Any edits saved for that code show Ready to pick up.
... A19: Keep it working | B19: All tabs | C19: Don't delete rows, insert columns or type in lighter-header columns. Sorting and filtering any table is fine.

Sheet Policy card
A1: Policy card
A3: Pick a policy | C3: KEB | D3: ◀ choose from the list
A5: Policy name | B5: =IFERROR(IF(INDEX(Drafts!$B$1:$B$251,MATCH($C$3,Drafts!$A$1:$A$251,0))="","",INDEX(Drafts!$B$1:$B$251,MATCH($C$3,Drafts!$A$1:$A$251,0))),"") -> Solicitations | E5: Regulation | F5: =IFERROR(IF(INDEX(Drafts!$M$1:$M$251,MATCH($C$3,Drafts!$A$1:$A$251,0))="","",INDEX(Drafts!$M$1:$M$251,MATCH($C$3,Drafts!$A$1:$A$251,0))),"") -> KEB-R(1)
A6: Type | B6: =IFERROR(IF(INDEX(Drafts!$C$1:$C$251,MATCH($C$3,Drafts!$A$1:$A$251,0))="","",INDEX(Drafts!$C$1:$C$251,MATCH($C$3,Drafts!$A$1:$A$251,0))),"") -> Policy (revision) | E6: Regulation status | F6: =IFERROR(IF(INDEX(Drafts!$N$1:$N$251,MATCH($C$3,Drafts!$A$1:$A$251,0))="","",INDEX(Drafts!$N$1:$N$251,MATCH($C$3,Drafts!$A$1:$A$251,0))),"") -> Exists, update to match
A7: Stage | B7: =IFERROR(IF(INDEX(Drafts!$E$1:$E$251,MATCH($C$3,Drafts!$A$1:$A$251,0))="","",INDEX(Drafts!$E$1:$E$251,MATCH($C$3,Drafts!$A$1:$A$251,0))),"") -> Second read | E7: Regulation due | F7: =IFERROR(IF(INDEX(Drafts!$P$1:$P$251,MATCH($C$3,Drafts!$A$1:$A$251,0))="","",INDEX(Drafts!$P$1:$P$251,MATCH($C$3,Drafts!$A$1:$A$251,0))),"")
A8: Content owner | B8: =IFERROR(IF(INDEX(Drafts!$D$1:$D$251,MATCH($C$3,Drafts!$A$1:$A$251,0))="","",INDEX(Drafts!$D$1:$D$251,MATCH($C$3,Drafts!$A$1:$A$251,0))),"") -> To confirm | E8: Last action | F8: =IFERROR(IF(INDEX(Drafts!$F$1:$F$251,MATCH($C$3,Drafts!$A$1:$A$251,0))="","",INDEX(Drafts!$F$1:$F$251,MATCH($C$3,Drafts!$A$1:$A$251,0))),"") -> Second reading on the board's consent agenda. Committee agreed edits on Oct 1.
A9: Current policy | B9: =IFERROR(IF(INDEX(Drafts!$W$1:$W$251,MATCH($C$3,Drafts!$A$1:$A$251,0))="","None (new policy)",HYPERLINK(INDEX(Drafts!$W$1:$W$251,MATCH($C$3,Drafts!$A$1:$A$251,0)),"Open adopted version in Simbli")),"") -> Open adopted version in Simbli | E9: Last action date | F9: =IFERROR(IF(INDEX(Drafts!$G$1:$G$251,MATCH($C$3,Drafts!$A$1:$A$251,0))="","",INDEX(Drafts!$G$1:$G$251,MATCH($C$3,Drafts!$A$1:$A$251,0))),"") -> 46300
A10: Draft posted for comment | B10: =IFERROR(IF(INDEX(Drafts!$X$1:$X$251,MATCH($C$3,Drafts!$A$1:$A$251,0))="","Not posted",HYPERLINK(INDEX(Drafts!$X$1:$X$251,MATCH($C$3,Drafts!$A$1:$A$251,0)),"Open posted draft in Simbli")),"") -> Open posted draft in Simbli | E10: Next step | F10: =IFERROR(IF(INDEX(Drafts!$H$1:$H$251,MATCH($C$3,Drafts!$A$1:$A$251,0))="","",INDEX(Drafts!$H$1:$H$251,MATCH($C$3,Drafts!$A$1:$A$251,0))),"") -> Committee reviews the revised draft with the Oct 1 edits.
A11: Official version | B11: =IFERROR(IF(INDEX(Drafts!$Q$1:$Q$251,MATCH($C$3,Drafts!$A$1:$A$251,0))="","",INDEX(Drafts!$Q$1:$Q$251,MATCH($C$3,Drafts!$A$1:$A$251,0))),"") -> V-005 | E11: Next date | F11: =IFERROR(IF(INDEX(Drafts!$I$1:$I$251,MATCH($C$3,Drafts!$A$1:$A$251,0))="","",INDEX(Drafts!$I$1:$I$251,MATCH($C$3,Drafts!$A$1:$A$251,0))),"") -> 46323
A13: What's changing | B13: =IFERROR(IF(INDEX(Drafts!$J$1:$J$251,MATCH($C$3,Drafts!$A$1:$A$251,0))="","",INDEX(Drafts!$J$1:$J$251,MATCH($C$3,Drafts!$A$1:$A$251,0))),"") -> Adds scope, a Foundation section and limits on donor influence.
A14: Comments | B14: =IFERROR(INDEX(Drafts!$R$1:$R$251,MATCH($C$3,Drafts!$A$1:$A$251,0))&" logged, "&INDEX(Drafts!$S$1:$S$251,MATCH($C$3,Drafts!$A$1:$A$251,0))&" open","") -> 7 logged, 0 open
A16: Versions
A17: Version | B17: No. | C17: Date | D17: Purpose | E17: Home | F17: What changed | H17: Frozen | I17: Official
A18: =IFERROR(INDEX(Versions!$A$2:$A$501,MATCH(1,Calc!$M$4:$M$503,0)),"") -> V-005 | B18: =IFERROR(INDEX(Versions!$C$2:$C$501,MATCH(1,Calc!$M$4:$M$503,0)),"") -> 1 | C18: =IFERROR(INDEX(Versions!$D$2:$D$501,MATCH(1,Calc!$M$4:$M$503,0)),"") -> 46300 | D18: =IFERROR(INDEX(Versions!$E$2:$E$501,MATCH(1,Calc!$M$4:$M$503,0))&IF(LEFT(INDEX(Versions!$P$2:$P$501,MATCH(1,Calc!$M$4:$M$503,0)),12)="Illustrative"," (example)",""),"") -> Posted: second reading | E18: =IFERROR(INDEX(Versions!$F$2:$F$501,MATCH(1,Calc!$M$4:$M$503,0)),"") -> Simbli | F18: =IFERROR(INDEX(Versions!$I$2:$I$501,MATCH(1,Calc!$M$4:$M$503,0)),"") -> As posted in Simbli for the board meeting. | H18: =IFERROR(INDEX(Versions!$H$2:$H$501,MATCH(1,Calc!$M$4:$M$503,0)),"") -> Yes | I18: =IFERROR(INDEX(Versions!$M$2:$M$501,MATCH(1,Calc!$M$4:$M$503,0)),"") -> Yes
A19: =IFERROR(INDEX(Versions!$A$2:$A$501,MATCH(2,Calc!$M$4:$M$503,0)),"") -> V-006 | B19: =IFERROR(INDEX(Versions!$C$2:$C$501,MATCH(2,Calc!$M$4:$M$503,0)),"") -> 2 | C19: =IFERROR(INDEX(Versions!$D$2:$D$501,MATCH(2,Calc!$M$4:$M$503,0)),"") -> 46307 | D19: =IFERROR(INDEX(Versions!$E$2:$E$501,MATCH(2,Calc!$M$4:$M$503,0))&IF(LEFT(INDEX(Versions!$P$2:$P$501,MATCH(2,Calc!$M$4:$M$503,0)),12)="Illustrative"," (example)",""),"") -> Working draft for Oct 28 committee (example) | E19: =IFERROR(INDEX(Versions!$F$2:$F$501,MATCH(2,Calc!$M$4:$M$503,0)),"") -> Shared folder | F19: =IFERROR(INDEX(Versions!$I$2:$I$501,MATCH(2,Calc!$M$4:$M$503,0)),"") -> Oct 1 edits: Foundation sentence and 501(c)(3), scope moved up, sections regrouped, procedures sentence clarified, wording for school-level fundraising. | H19: =IFERROR(INDEX(Versions!$H$2:$H$501,MATCH(2,Calc!$M$4:$M$503,0)),"") -> No | I19: =IFERROR(INDEX(Versions!$M$2:$M$501,MATCH(2,Calc!$M$4:$M$503,0)),"") -> No
A20: =IFERROR(INDEX(Versions!$A$2:$A$501,MATCH(3,Calc!$M$4:$M$503,0)),"") | B20: =IFERROR(INDEX(Versions!$C$2:$C$501,MATCH(3,Calc!$M$4:$M$503,0)),"") | C20: =IFERROR(INDEX(Versions!$D$2:$D$501,MATCH(3,Calc!$M$4:$M$503,0)),"") | D20: =IFERROR(INDEX(Versions!$E$2:$E$501,MATCH(3,Calc!$M$4:$M$503,0))&IF(LEFT(INDEX(Versions!$P$2:$P$501,MATCH(3,Calc!$M$4:$M$503,0)),12)="Illustrative"," (example)",""),"") | E20: =IFERROR(INDEX(Versions!$F$2:$F$501,MATCH(3,Calc!$M$4:$M$503,0)),"") | F20: =IFERROR(INDEX(Versions!$I$2:$I$501,MATCH(3,Calc!$M$4:$M$503,0)),"") | H20: =IFERROR(INDEX(Versions!$H$2:$H$501,MATCH(3,Calc!$M$4:$M$503,0)),"") | I20: =IFERROR(INDEX(Versions!$M$2:$M$501,MATCH(3,Calc!$M$4:$M$503,0)),"")
A21: =IFERROR(INDEX(Versions!$A$2:$A$501,MATCH(4,Calc!$M$4:$M$503,0)),"") | B21: =IFERROR(INDEX(Versions!$C$2:$C$501,MATCH(4,Calc!$M$4:$M$503,0)),"") | C21: =IFERROR(INDEX(Versions!$D$2:$D$501,MATCH(4,Calc!$M$4:$M$503,0)),"") | D21: =IFERROR(INDEX(Versions!$E$2:$E$501,MATCH(4,Calc!$M$4:$M$503,0))&IF(LEFT(INDEX(Versions!$P$2:$P$501,MATCH(4,Calc!$M$4:$M$503,0)),12)="Illustrative"," (example)",""),"") | E21: =IFERROR(INDEX(Versions!$F$2:$F$501,MATCH(4,Calc!$M$4:$M$503,0)),"") | F21: =IFERROR(INDEX(Versions!$I$2:$I$501,MATCH(4,Calc!$M$4:$M$503,0)),"") | H21: =IFERROR(INDEX(Versions!$H$2:$H$501,MATCH(4,Calc!$M$4:$M$503,0)),"") | I21: =IFERROR(INDEX(Versions!$M$2:$M$501,MATCH(4,Calc!$M$4:$M$503,0)),"")
A23: Questions, answers and other feedback
A24: Date | B24: From | C24: Channel | D24: Section | E24: Route | F24: Comment | G24: Response | I24: Status
A25: =IFERROR(INDEX(Comments!$C$2:$C$2001,MATCH(1,Calc!$D$4:$D$2003,0)),"") -> 46295 | B25: =IFERROR(INDEX(Comments!$D$2:$D$2001,MATCH(1,Calc!$D$4:$D$2003,0)),"") -> Board member | C25: =IFERROR(INDEX(Comments!$E$2:$E$2001,MATCH(1,Calc!$D$4:$D$2003,0)),"") -> Word comment in draft | D25: =IFERROR(INDEX(Comments!$G$2:$G$2001,MATCH(1,Calc!$D$4:$D$2003,0)),"") -> Solicitations/Donations | E25: =IFERROR(INDEX(Comments!$I$2:$I$2001,MATCH(1,Calc!$D$4:$D$2003,0)),"") -> Change the policy | F25: =IFERROR(INDEX(Comments!$H$2:$H$2001,MATCH(1,Calc!$D$4:$D$2003,0)),"") -> Is calling the Foundation an arm of the district accurate if it is an independent 501(c)(3)? | G25: =IFERROR(INDEX(Comments!$J$2:$J$2001,MATCH(1,Calc!$D$4:$D$2003,0)),"") -> Reword: the Foundation implements philanthropic and strategic initiatives; add a sentence that it is an independent 501(c)(3) with its own board. | I25: =IFERROR(INDEX(Comments!$N$2:$N$2001,MATCH(1,Calc!$D$4:$D$2003,0)),"") -> Closed
A26: =IFERROR(INDEX(Comments!$C$2:$C$2001,MATCH(2,Calc!$D$4:$D$2003,0)),"") -> 46296 | B26: =IFERROR(INDEX(Comments!$D$2:$D$2001,MATCH(2,Calc!$D$4:$D$2003,0)),"") -> Public | C26: =IFERROR(INDEX(Comments!$E$2:$E$2001,MATCH(2,Calc!$D$4:$D$2003,0)),"") -> Online public comment | D26: =IFERROR(INDEX(Comments!$G$2:$G$2001,MATCH(2,Calc!$D$4:$D$2003,0)),"") -> Solicitations/Donations | E26: =IFERROR(INDEX(Comments!$I$2:$I$2001,MATCH(2,Calc!$D$4:$D$2003,0)),"") -> Change the policy | F26: =IFERROR(INDEX(Comments!$H$2:$H$2001,MATCH(2,Calc!$D$4:$D$2003,0)),"") -> The policy should make clear the Foundation is a separate entity. | G26: =IFERROR(INDEX(Comments!$J$2:$J$2001,MATCH(2,Calc!$D$4:$D$2003,0)),"") -> Same change as the board member's comment above. | I26: =IFERROR(INDEX(Comments!$N$2:$N$2001,MATCH(2,Calc!$D$4:$D$2003,0)),"") -> Closed
A27: =IFERROR(INDEX(Comments!$C$2:$C$2001,MATCH(3,Calc!$D$4:$D$2003,0)),"") -> 46295 | B27: =IFERROR(INDEX(Comments!$D$2:$D$2001,MATCH(3,Calc!$D$4:$D$2003,0)),"") -> Board member | C27: =IFERROR(INDEX(Comments!$E$2:$E$2001,MATCH(3,Calc!$D$4:$D$2003,0)),"") -> Word comment in draft | D27: =IFERROR(INDEX(Comments!$G$2:$G$2001,MATCH(3,Calc!$D$4:$D$2003,0)),"") -> Scope | E27: =IFERROR(INDEX(Comments!$I$2:$I$2001,MATCH(3,Calc!$D$4:$D$2003,0)),"") -> Change the policy | F27: =IFERROR(INDEX(Comments!$H$2:$H$2001,MATCH(3,Calc!$D$4:$D$2003,0)),"") -> The scope belongs at the top; the policy reads out of order. | G27: =IFERROR(INDEX(Comments!$J$2:$J$2001,MATCH(3,Calc!$D$4:$D$2003,0)),"") -> Move scope near the top and regroup the sections. | I27: =IFERROR(INDEX(Comments!$N$2:$N$2001,MATCH(3,Calc!$D$4:$D$2003,0)),"") -> Closed
A28: =IFERROR(INDEX(Comments!$C$2:$C$2001,MATCH(4,Calc!$D$4:$D$2003,0)),"") -> 46295 | B28: =IFERROR(INDEX(Comments!$D$2:$D$2001,MATCH(4,Calc!$D$4:$D$2003,0)),"") -> Board member | C28: =IFERROR(INDEX(Comments!$E$2:$E$2001,MATCH(4,Calc!$D$4:$D$2003,0)),"") -> Word comment in draft | D28: =IFERROR(INDEX(Comments!$G$2:$G$2001,MATCH(4,Calc!$D$4:$D$2003,0)),"") -> Solicitations/Donations | E28: =IFERROR(INDEX(Comments!$I$2:$I$2001,MATCH(4,Calc!$D$4:$D$2003,0)),"") -> Change the policy | F28: =IFERROR(INDEX(Comments!$H$2:$H$2001,MATCH(4,Calc!$D$4:$D$2003,0)),"") -> What does it mean that the superintendent maintains the Foundation's procedures? | G28: =IFERROR(INDEX(Comments!$J$2:$J$2001,MATCH(4,Calc!$D$4:$D$2003,0)),"") -> Clarify that the district keeps its own procedures and the Foundation board keeps its own; any detail goes in the regulation. | I28: =IFERROR(INDEX(Comments!$N$2:$N$2001,MATCH(4,Calc!$D$4:$D$2003,0)),"") -> Closed
A29: =IFERROR(INDEX(Comments!$C$2:$C$2001,MATCH(5,Calc!$D$4:$D$2003,0)),"") -> 46296 | B29: =IFERROR(INDEX(Comments!$D$2:$D$2001,MATCH(5,Calc!$D$4:$D$2003,0)),"") -> Staff | C29: =IFERROR(INDEX(Comments!$E$2:$E$2001,MATCH(5,Calc!$D$4:$D$2003,0)),"") -> Said at committee meeting | D29: =IFERROR(INDEX(Comments!$G$2:$G$2001,MATCH(5,Calc!$D$4:$D$2003,0)),"") -> Solicitations/Donations | E29: =IFERROR(INDEX(Comments!$I$2:$I$2001,MATCH(5,Calc!$D$4:$D$2003,0)),"") -> Save for a later revision | F29: =IFERROR(INDEX(Comments!$H$2:$H$2001,MATCH(5,Calc!$D$4:$D$2003,0)),"") -> The donor-influence sentence fits Policy DFK better than KEB. | G29: =IFERROR(INDEX(Comments!$J$2:$J$2001,MATCH(5,Calc!$D$4:$D$2003,0)),"") -> Keep it in KEB for now, rewritten as shorter sentences; move it to DFK at DFK's next revision (D-001). | I29: =IFERROR(INDEX(Comments!$N$2:$N$2001,MATCH(5,Calc!$D$4:$D$2003,0)),"") -> Closed
A30: =IFERROR(INDEX(Comments!$C$2:$C$2001,MATCH(6,Calc!$D$4:$D$2003,0)),"") -> 46296 | B30: =IFERROR(INDEX(Comments!$D$2:$D$2001,MATCH(6,Calc!$D$4:$D$2003,0)),"") -> Public | C30: =IFERROR(INDEX(Comments!$E$2:$E$2001,MATCH(6,Calc!$D$4:$D$2003,0)),"") -> Online public comment | D30: =IFERROR(INDEX(Comments!$G$2:$G$2001,MATCH(6,Calc!$D$4:$D$2003,0)),"") -> Whole policy | E30: =IFERROR(INDEX(Comments!$I$2:$I$2001,MATCH(6,Calc!$D$4:$D$2003,0)),"") -> Move to the regulation | F30: =IFERROR(INDEX(Comments!$H$2:$H$2001,MATCH(6,Calc!$D$4:$D$2003,0)),"") -> Strengthen transparency and accountability requirements for PTAs, PTSAs and booster clubs. | G30: =IFERROR(INDEX(Comments!$J$2:$J$2001,MATCH(6,Calc!$D$4:$D$2003,0)),"") -> Belongs in the LE regulations on support organizations; a booster club regulation is in review. | I30: =IFERROR(INDEX(Comments!$N$2:$N$2001,MATCH(6,Calc!$D$4:$D$2003,0)),"") -> Closed
A31: =IFERROR(INDEX(Comments!$C$2:$C$2001,MATCH(7,Calc!$D$4:$D$2003,0)),"") -> 46296 | B31: =IFERROR(INDEX(Comments!$D$2:$D$2001,MATCH(7,Calc!$D$4:$D$2003,0)),"") -> Board member | C31: =IFERROR(INDEX(Comments!$E$2:$E$2001,MATCH(7,Calc!$D$4:$D$2003,0)),"") -> Said at committee meeting | D31: =IFERROR(INDEX(Comments!$G$2:$G$2001,MATCH(7,Calc!$D$4:$D$2003,0)),"") -> Solicitations/Donations | E31: =IFERROR(INDEX(Comments!$I$2:$I$2001,MATCH(7,Calc!$D$4:$D$2003,0)),"") -> Change the policy | F31: =IFERROR(INDEX(Comments!$H$2:$H$2001,MATCH(7,Calc!$D$4:$D$2003,0)),"") -> 'Equitable educational opportunities for students across the district' may not fit fundraising for one school. | G31: =IFERROR(INDEX(Comments!$J$2:$J$2001,MATCH(7,Calc!$D$4:$D$2003,0)),"") -> Reword to allow district-wide or school-level efforts. | I31: =IFERROR(INDEX(Comments!$N$2:$N$2001,MATCH(7,Calc!$D$4:$D$2003,0)),"") -> Closed
A32: =IFERROR(INDEX(Comments!$C$2:$C$2001,MATCH(8,Calc!$D$4:$D$2003,0)),"") | B32: =IFERROR(INDEX(Comments!$D$2:$D$2001,MATCH(8,Calc!$D$4:$D$2003,0)),"") | C32: =IFERROR(INDEX(Comments!$E$2:$E$2001,MATCH(8,Calc!$D$4:$D$2003,0)),"") | D32: =IFERROR(INDEX(Comments!$G$2:$G$2001,MATCH(8,Calc!$D$4:$D$2003,0)),"") | E32: =IFERROR(INDEX(Comments!$I$2:$I$2001,MATCH(8,Calc!$D$4:$D$2003,0)),"") | F32: =IFERROR(INDEX(Comments!$H$2:$H$2001,MATCH(8,Calc!$D$4:$D$2003,0)),"") | G32: =IFERROR(INDEX(Comments!$J$2:$J$2001,MATCH(8,Calc!$D$4:$D$2003,0)),"") | I32: =IFERROR(INDEX(Comments!$N$2:$N$2001,MATCH(8,Calc!$D$4:$D$2003,0)),"")
A33: =IFERROR(INDEX(Comments!$C$2:$C$2001,MATCH(9,Calc!$D$4:$D$2003,0)),"") | B33: =IFERROR(INDEX(Comments!$D$2:$D$2001,MATCH(9,Calc!$D$4:$D$2003,0)),"") | C33: =IFERROR(INDEX(Comments!$E$2:$E$2001,MATCH(9,Calc!$D$4:$D$2003,0)),"") | D33: =IFERROR(INDEX(Comments!$G$2:$G$2001,MATCH(9,Calc!$D$4:$D$2003,0)),"") | E33: =IFERROR(INDEX(Comments!$I$2:$I$2001,MATCH(9,Calc!$D$4:$D$2003,0)),"") | F33: =IFERROR(INDEX(Comments!$H$2:$H$2001,MATCH(9,Calc!$D$4:$D$2003,0)),"") | G33: =IFERROR(INDEX(Comments!$J$2:$J$2001,MATCH(9,Calc!$D$4:$D$2003,0)),"") | I33: =IFERROR(INDEX(Comments!$N$2:$N$2001,MATCH(9,Calc!$D$4:$D$2003,0)),"")
A34: =IFERROR(INDEX(Comments!$C$2:$C$2001,MATCH(10,Calc!$D$4:$D$2003,0)),"") | B34: =IFERROR(INDEX(Comments!$D$2:$D$2001,MATCH(10,Calc!$D$4:$D$2003,0)),"") | C34: =IFERROR(INDEX(Comments!$E$2:$E$2001,MATCH(10,Calc!$D$4:$D$2003,0)),"") | D34: =IFERROR(INDEX(Comments!$G$2:$G$2001,MATCH(10,Calc!$D$4:$D$2003,0)),"") | E34: =IFERROR(INDEX(Comments!$I$2:$I$2001,MATCH(10,Calc!$D$4:$D$2003,0)),"") | F34: =IFERROR(INDEX(Comments!$H$2:$H$2001,MATCH(10,Calc!$D$4:$D$2003,0)),"") | G34: =IFERROR(INDEX(Comments!$J$2:$J$2001,MATCH(10,Calc!$D$4:$D$2003,0)),"") | I34: =IFERROR(INDEX(Comments!$N$2:$N$2001,MATCH(10,Calc!$D$4:$D$2003,0)),"")
A35: =IFERROR(INDEX(Comments!$C$2:$C$2001,MATCH(11,Calc!$D$4:$D$2003,0)),"") | B35: =IFERROR(INDEX(Comments!$D$2:$D$2001,MATCH(11,Calc!$D$4:$D$2003,0)),"") | C35: =IFERROR(INDEX(Comments!$E$2:$E$2001,MATCH(11,Calc!$D$4:$D$2003,0)),"") | D35: =IFERROR(INDEX(Comments!$G$2:$G$2001,MATCH(11,Calc!$D$4:$D$2003,0)),"") | E35: =IFERROR(INDEX(Comments!$I$2:$I$2001,MATCH(11,Calc!$D$4:$D$2003,0)),"") | F35: =IFERROR(INDEX(Comments!$H$2:$H$2001,MATCH(11,Calc!$D$4:$D$2003,0)),"") | G35: =IFERROR(INDEX(Comments!$J$2:$J$2001,MATCH(11,Calc!$D$4:$D$2003,0)),"") | I35: =IFERROR(INDEX(Comments!$N$2:$N$2001,MATCH(11,Calc!$D$4:$D$2003,0)),"")
A36: =IFERROR(INDEX(Comments!$C$2:$C$2001,MATCH(12,Calc!$D$4:$D$2003,0)),"") | B36: =IFERROR(INDEX(Comments!$D$2:$D$2001,MATCH(12,Calc!$D$4:$D$2003,0)),"") | C36: =IFERROR(INDEX(Comments!$E$2:$E$2001,MATCH(12,Calc!$D$4:$D$2003,0)),"") | D36: =IFERROR(INDEX(Comments!$G$2:$G$2001,MATCH(12,Calc!$D$4:$D$2003,0)),"") | E36: =IFERROR(INDEX(Comments!$I$2:$I$2001,MATCH(12,Calc!$D$4:$D$2003,0)),"") | F36: =IFERROR(INDEX(Comments!$H$2:$H$2001,MATCH(12,Calc!$D$4:$D$2003,0)),"") | G36: =IFERROR(INDEX(Comments!$J$2:$J$2001,MATCH(12,Calc!$D$4:$D$2003,0)),"") | I36: =IFERROR(INDEX(Comments!$N$2:$N$2001,MATCH(12,Calc!$D$4:$D$2003,0)),"")
A37: =IFERROR(INDEX(Comments!$C$2:$C$2001,MATCH(13,Calc!$D$4:$D$2003,0)),"") | B37: =IFERROR(INDEX(Comments!$D$2:$D$2001,MATCH(13,Calc!$D$4:$D$2003,0)),"") | C37: =IFERROR(INDEX(Comments!$E$2:$E$2001,MATCH(13,Calc!$D$4:$D$2003,0)),"") | D37: =IFERROR(INDEX(Comments!$G$2:$G$2001,MATCH(13,Calc!$D$4:$D$2003,0)),"") | E37: =IFERROR(INDEX(Comments!$I$2:$I$2001,MATCH(13,Calc!$D$4:$D$2003,0)),"") | F37: =IFERROR(INDEX(Comments!$H$2:$H$2001,MATCH(13,Calc!$D$4:$D$2003,0)),"") | G37: =IFERROR(INDEX(Comments!$J$2:$J$2001,MATCH(13,Calc!$D$4:$D$2003,0)),"") | I37: =IFERROR(INDEX(Comments!$N$2:$N$2001,MATCH(13,Calc!$D$4:$D$2003,0)),"")
A38: =IFERROR(INDEX(Comments!$C$2:$C$2001,MATCH(14,Calc!$D$4:$D$2003,0)),"") | B38: =IFERROR(INDEX(Comments!$D$2:$D$2001,MATCH(14,Calc!$D$4:$D$2003,0)),"") | C38: =IFERROR(INDEX(Comments!$E$2:$E$2001,MATCH(14,Calc!$D$4:$D$2003,0)),"") | D38: =IFERROR(INDEX(Comments!$G$2:$G$2001,MATCH(14,Calc!$D$4:$D$2003,0)),"") | E38: =IFERROR(INDEX(Comments!$I$2:$I$2001,MATCH(14,Calc!$D$4:$D$2003,0)),"") | F38: =IFERROR(INDEX(Comments!$H$2:$H$2001,MATCH(14,Calc!$D$4:$D$2003,0)),"") | G38: =IFERROR(INDEX(Comments!$J$2:$J$2001,MATCH(14,Calc!$D$4:$D$2003,0)),"") | I38: =IFERROR(INDEX(Comments!$N$2:$N$2001,MATCH(14,Calc!$D$4:$D$2003,0)),"")
A39: =IFERROR(INDEX(Comments!$C$2:$C$2001,MATCH(15,Calc!$D$4:$D$2003,0)),"") | B39: =IFERROR(INDEX(Comments!$D$2:$D$2001,MATCH(15,Calc!$D$4:$D$2003,0)),"") | C39: =IFERROR(INDEX(Comments!$E$2:$E$2001,MATCH(15,Calc!$D$4:$D$2003,0)),"") | D39: =IFERROR(INDEX(Comments!$G$2:$G$2001,MATCH(15,Calc!$D$4:$D$2003,0)),"") | E39: =IFERROR(INDEX(Comments!$I$2:$I$2001,MATCH(15,Calc!$D$4:$D$2003,0)),"") | F39: =IFERROR(INDEX(Comments!$H$2:$H$2001,MATCH(15,Calc!$D$4:$D$2003,0)),"") | G39: =IFERROR(INDEX(Comments!$J$2:$J$2001,MATCH(15,Calc!$D$4:$D$2003,0)),"") | I39: =IFERROR(INDEX(Comments!$N$2:$N$2001,MATCH(15,Calc!$D$4:$D$2003,0)),"")
A40: =IFERROR(INDEX(Comments!$C$2:$C$2001,MATCH(16,Calc!$D$4:$D$2003,0)),"") | B40: =IFERROR(INDEX(Comments!$D$2:$D$2001,MATCH(16,Calc!$D$4:$D$2003,0)),"") | C40: =IFERROR(INDEX(Comments!$E$2:$E$2001,MATCH(16,Calc!$D$4:$D$2003,0)),"") | D40: =IFERROR(INDEX(Comments!$G$2:$G$2001,MATCH(16,Calc!$D$4:$D$2003,0)),"") | E40: =IFERROR(INDEX(Comments!$I$2:$I$2001,MATCH(16,Calc!$D$4:$D$2003,0)),"") | F40: =IFERROR(INDEX(Comments!$H$2:$H$2001,MATCH(16,Calc!$D$4:$D$2003,0)),"") | G40: =IFERROR(INDEX(Comments!$J$2:$J$2001,MATCH(16,Calc!$D$4:$D$2003,0)),"") | I40: =IFERROR(INDEX(Comments!$N$2:$N$2001,MATCH(16,Calc!$D$4:$D$2003,0)),"")
A41: =IFERROR(INDEX(Comments!$C$2:$C$2001,MATCH(17,Calc!$D$4:$D$2003,0)),"") | B41: =IFERROR(INDEX(Comments!$D$2:$D$2001,MATCH(17,Calc!$D$4:$D$2003,0)),"") | C41: =IFERROR(INDEX(Comments!$E$2:$E$2001,MATCH(17,Calc!$D$4:$D$2003,0)),"") | D41: =IFERROR(INDEX(Comments!$G$2:$G$2001,MATCH(17,Calc!$D$4:$D$2003,0)),"") | E41: =IFERROR(INDEX(Comments!$I$2:$I$2001,MATCH(17,Calc!$D$4:$D$2003,0)),"") | F41: =IFERROR(INDEX(Comments!$H$2:$H$2001,MATCH(17,Calc!$D$4:$D$2003,0)),"") | G41: =IFERROR(INDEX(Comments!$J$2:$J$2001,MATCH(17,Calc!$D$4:$D$2003,0)),"") | I41: =IFERROR(INDEX(Comments!$N$2:$N$2001,MATCH(17,Calc!$D$4:$D$2003,0)),"")
A42: =IFERROR(INDEX(Comments!$C$2:$C$2001,MATCH(18,Calc!$D$4:$D$2003,0)),"") | B42: =IFERROR(INDEX(Comments!$D$2:$D$2001,MATCH(18,Calc!$D$4:$D$2003,0)),"") | C42: =IFERROR(INDEX(Comments!$E$2:$E$2001,MATCH(18,Calc!$D$4:$D$2003,0)),"") | D42: =IFERROR(INDEX(Comments!$G$2:$G$2001,MATCH(18,Calc!$D$4:$D$2003,0)),"") | E42: =IFERROR(INDEX(Comments!$I$2:$I$2001,MATCH(18,Calc!$D$4:$D$2003,0)),"") | F42: =IFERROR(INDEX(Comments!$H$2:$H$2001,MATCH(18,Calc!$D$4:$D$2003,0)),"") | G42: =IFERROR(INDEX(Comments!$J$2:$J$2001,MATCH(18,Calc!$D$4:$D$2003,0)),"") | I42: =IFERROR(INDEX(Comments!$N$2:$N$2001,MATCH(18,Calc!$D$4:$D$2003,0)),"")
A43: =IFERROR(INDEX(Comments!$C$2:$C$2001,MATCH(19,Calc!$D$4:$D$2003,0)),"") | B43: =IFERROR(INDEX(Comments!$D$2:$D$2001,MATCH(19,Calc!$D$4:$D$2003,0)),"") | C43: =IFERROR(INDEX(Comments!$E$2:$E$2001,MATCH(19,Calc!$D$4:$D$2003,0)),"") | D43: =IFERROR(INDEX(Comments!$G$2:$G$2001,MATCH(19,Calc!$D$4:$D$2003,0)),"") | E43: =IFERROR(INDEX(Comments!$I$2:$I$2001,MATCH(19,Calc!$D$4:$D$2003,0)),"") | F43: =IFERROR(INDEX(Comments!$H$2:$H$2001,MATCH(19,Calc!$D$4:$D$2003,0)),"") | G43: =IFERROR(INDEX(Comments!$J$2:$J$2001,MATCH(19,Calc!$D$4:$D$2003,0)),"") | I43: =IFERROR(INDEX(Comments!$N$2:$N$2001,MATCH(19,Calc!$D$4:$D$2003,0)),"")
A44: =IFERROR(INDEX(Comments!$C$2:$C$2001,MATCH(20,Calc!$D$4:$D$2003,0)),"") | B44: =IFERROR(INDEX(Comments!$D$2:$D$2001,MATCH(20,Calc!$D$4:$D$2003,0)),"") | C44: =IFERROR(INDEX(Comments!$E$2:$E$2001,MATCH(20,Calc!$D$4:$D$2003,0)),"") | D44: =IFERROR(INDEX(Comments!$G$2:$G$2001,MATCH(20,Calc!$D$4:$D$2003,0)),"") | E44: =IFERROR(INDEX(Comments!$I$2:$I$2001,MATCH(20,Calc!$D$4:$D$2003,0)),"") | F44: =IFERROR(INDEX(Comments!$H$2:$H$2001,MATCH(20,Calc!$D$4:$D$2003,0)),"") | G44: =IFERROR(INDEX(Comments!$J$2:$J$2001,MATCH(20,Calc!$D$4:$D$2003,0)),"") | I44: =IFERROR(INDEX(Comments!$N$2:$N$2001,MATCH(20,Calc!$D$4:$D$2003,0)),"")
A45: =IFERROR(IF(INDEX(Drafts!$R$1:$R$251,MATCH($C$3,Drafts!$A$1:$A$251,0))>20,"Showing 20 of "&INDEX(Drafts!$R$1:$R$251,MATCH($C$3,Drafts!$A$1:$A$251,0))&" comments, open ones first. Filter the Comments tab by code to see the rest.",""),"")
A47: Edits saved for later that involve this policy
A48: ID | B48: Raised in | C48: Goes into | D48: Edit | H48: Agreed | I48: Alert
A49: =IFERROR(INDEX('Deferred edits'!$A$2:$A$201,MATCH(1,Calc!$G$4:$G$203,0)),"") -> D-001 | B49: =IFERROR(INDEX('Deferred edits'!$B$2:$B$201,MATCH(1,Calc!$G$4:$G$203,0)),"") -> KEB | C49: =IFERROR(INDEX('Deferred edits'!$C$2:$C$201,MATCH(1,Calc!$G$4:$G$203,0)),"") -> DFK | D49: =IFERROR(IF(INDEX('Deferred edits'!$J$2:$J$201,MATCH(1,Calc!$G$4:$G$203,0))="Proposed",IF(RIGHT(INDEX('Deferred edits'!$D$2:$D$201,MATCH(1,Calc!$G$4:$G$203,0)),1)=".",LEFT(INDEX('Deferred edits'!$D$2:$D$201,MATCH(1,Calc!$G$4:$G$203,0)),LEN(INDEX('Deferred edits'!$D$2:$D$201,MATCH(1,Calc!$G$4:$G$203,0)))-1)&" (proposed).",INDEX('Deferred edits'!$D$2:$D$201,MATCH(1,Calc!$G$4:$G$203,0))&" (proposed)"),INDEX('Deferred edits'!$D$2:$D$201,MATCH(1,Calc!$G$4:$G$203,0))),"") -> Move the donor-influence sentence from KEB to DFK. | H49: =IFERROR(INDEX('Deferred edits'!$E$2:$E$201,MATCH(1,Calc!$G$4:$G$203,0)),"") -> 46296 | I49: =IFERROR(INDEX('Deferred edits'!$I$2:$I$201,MATCH(1,Calc!$G$4:$G$203,0)),"") -> Waiting
A50: =IFERROR(INDEX('Deferred edits'!$A$2:$A$201,MATCH(2,Calc!$G$4:$G$203,0)),"") | B50: =IFERROR(INDEX('Deferred edits'!$B$2:$B$201,MATCH(2,Calc!$G$4:$G$203,0)),"") | C50: =IFERROR(INDEX('Deferred edits'!$C$2:$C$201,MATCH(2,Calc!$G$4:$G$203,0)),"") | D50: =IFERROR(IF(INDEX('Deferred edits'!$J$2:$J$201,MATCH(2,Calc!$G$4:$G$203,0))="Proposed",IF(RIGHT(INDEX('Deferred edits'!$D$2:$D$201,MATCH(2,Calc!$G$4:$G$203,0)),1)=".",LEFT(INDEX('Deferred edits'!$D$2:$D$201,MATCH(2,Calc!$G$4:$G$203,0)),LEN(INDEX('Deferred edits'!$D$2:$D$201,MATCH(2,Calc!$G$4:$G$203,0)))-1)&" (proposed).",INDEX('Deferred edits'!$D$2:$D$201,MATCH(2,Calc!$G$4:$G$203,0))&" (proposed)"),INDEX('Deferred edits'!$D$2:$D$201,MATCH(2,Calc!$G$4:$G$203,0))),"") | H50: =IFERROR(INDEX('Deferred edits'!$E$2:$E$201,MATCH(2,Calc!$G$4:$G$203,0)),"") | I50: =IFERROR(INDEX('Deferred edits'!$I$2:$I$201,MATCH(2,Calc!$G$4:$G$203,0)),"")
A51: =IFERROR(INDEX('Deferred edits'!$A$2:$A$201,MATCH(3,Calc!$G$4:$G$203,0)),"") | B51: =IFERROR(INDEX('Deferred edits'!$B$2:$B$201,MATCH(3,Calc!$G$4:$G$203,0)),"") | C51: =IFERROR(INDEX('Deferred edits'!$C$2:$C$201,MATCH(3,Calc!$G$4:$G$203,0)),"") | D51: =IFERROR(IF(INDEX('Deferred edits'!$J$2:$J$201,MATCH(3,Calc!$G$4:$G$203,0))="Proposed",IF(RIGHT(INDEX('Deferred edits'!$D$2:$D$201,MATCH(3,Calc!$G$4:$G$203,0)),1)=".",LEFT(INDEX('Deferred edits'!$D$2:$D$201,MATCH(3,Calc!$G$4:$G$203,0)),LEN(INDEX('Deferred edits'!$D$2:$D$201,MATCH(3,Calc!$G$4:$G$203,0)))-1)&" (proposed).",INDEX('Deferred edits'!$D$2:$D$201,MATCH(3,Calc!$G$4:$G$203,0))&" (proposed)"),INDEX('Deferred edits'!$D$2:$D$201,MATCH(3,Calc!$G$4:$G$203,0))),"") | H51: =IFERROR(INDEX('Deferred edits'!$E$2:$E$201,MATCH(3,Calc!$G$4:$G$203,0)),"") | I51: =IFERROR(INDEX('Deferred edits'!$I$2:$I$201,MATCH(3,Calc!$G$4:$G$203,0)),"")
A52: =IFERROR(INDEX('Deferred edits'!$A$2:$A$201,MATCH(4,Calc!$G$4:$G$203,0)),"") | B52: =IFERROR(INDEX('Deferred edits'!$B$2:$B$201,MATCH(4,Calc!$G$4:$G$203,0)),"") | C52: =IFERROR(INDEX('Deferred edits'!$C$2:$C$201,MATCH(4,Calc!$G$4:$G$203,0)),"") | D52: =IFERROR(IF(INDEX('Deferred edits'!$J$2:$J$201,MATCH(4,Calc!$G$4:$G$203,0))="Proposed",IF(RIGHT(INDEX('Deferred edits'!$D$2:$D$201,MATCH(4,Calc!$G$4:$G$203,0)),1)=".",LEFT(INDEX('Deferred edits'!$D$2:$D$201,MATCH(4,Calc!$G$4:$G$203,0)),LEN(INDEX('Deferred edits'!$D$2:$D$201,MATCH(4,Calc!$G$4:$G$203,0)))-1)&" (proposed).",INDEX('Deferred edits'!$D$2:$D$201,MATCH(4,Calc!$G$4:$G$203,0))&" (proposed)"),INDEX('Deferred edits'!$D$2:$D$201,MATCH(4,Calc!$G$4:$G$203,0))),"") | H52: =IFERROR(INDEX('Deferred edits'!$E$2:$E$201,MATCH(4,Calc!$G$4:$G$203,0)),"") | I52: =IFERROR(INDEX('Deferred edits'!$I$2:$I$201,MATCH(4,Calc!$G$4:$G$203,0)),"")

Sheet Drafts
A1: code | B1: title | C1: type | D1: content_owner | E1: stage | F1: last_action | G1: last_action_date | H1: next_step | I1: next_date | J1: whats_changing | K1: current_link | L1: posted_draft_link | M1: regulation | N1: regulation_status | O1: action_date | P1: regulation_due | Q1: official_version | R1: comments | S1: open_comments | T1: saved_edits | U1: flag | V1: source | W1: current_url | X1: draft_url
A2: BA | B2: Goals and Objectives | C2: Policy (new) | D2: Access and Opportunity | E2: Back in committee | F2: Board took it off the action agenda and returned it to committee. | G2: 46300 | H2: Committee revisits the title and placement, the implementation plan and the draft regulation. | I2: 46323 | J2: New policy on access and opportunity: commitments, data monitoring and transparency, enforcement, legal compliance. | K2: =IF(W2="","",HYPERLINK(W2,"Simbli")) | L2: =IF(X2="","",HYPERLINK(X2,"Simbli")) -> Simbli | M2: BA regulation | N2: Draft exists | P2: =IF(OR(A2="",O2=""),"",O2+RegDays) | Q2: =IF(A2="","",IF(SUMPRODUCT(MAX((Versions!$B$2:$B$501=A2)*(Versions!$M$2:$M$501="Yes")*ROW(Versions!$B$2:$B$501)))=0,"",INDEX(Versions!$A$1:$A$501,SUMPRODUCT(MAX((Versions!$B$2:$B$501=A2)*(Versions!$M$2:$M$501="Yes")*ROW(Versions!$B$2:$B$501)))))) -> V-001 | R2: =IF(A2="","",COUNTIF(Comments!$B$2:$B$2001,A2)) -> 6 | S2: =IF(A2="","",COUNTIFS(Comments!$B$2:$B$2001,A2,Comments!$N$2:$N$2001,"Open")) -> 4 | T2: =IF(A2="","",COUNTIFS('Deferred edits'!$C$2:$C$201,A2,'Deferred edits'!$G$2:$G$201,"Waiting")) -> 0 | U2: =IF(A2="","",IF(AND(I2<>"",I2<AsOfDate),"▲ Next date passed",IF(AND(I2<>"",I2<=AsOfDate+7),"● Next date within 7 days",IF(AND(P2<>"",P2<AsOfDate,N2<>"Complete"),"▲ Regulation past target",IF(S2>0,"Open comments",""))))) -> Open comments | V2: Public record: Oct 5 board meeting | X2: https://simbli.eboardsolutions.com/Policy/ViewPolicy.aspx?S=4054&revid=EVcNNgzCCvQaTXsZyQH8dw==
A3: JAA | B3: Equal Educational Opportunities | C3: Policy (revision) | D3: Access and Opportunity | E3: Back in committee | F3: Board took it off the action agenda with BA and returned it to committee. | G3: 46300 | H3: Committee revisits it with BA, including whether to combine BA, JAA and GAAA. | I3: 46323 | J3: Revision that removes overlap with BA. | K3: =IF(W3="","",HYPERLINK(W3,"Simbli")) -> Simbli | L3: =IF(X3="","",HYPERLINK(X3,"Simbli")) -> Simbli | M3: None noted | N3: To confirm | P3: =IF(OR(A3="",O3=""),"",O3+RegDays) | Q3: =IF(A3="","",IF(SUMPRODUCT(MAX((Versions!$B$2:$B$501=A3)*(Versions!$M$2:$M$501="Yes")*ROW(Versions!$B$2:$B$501)))=0,"",INDEX(Versions!$A$1:$A$501,SUMPRODUCT(MAX((Versions!$B$2:$B$501=A3)*(Versions!$M$2:$M$501="Yes")*ROW(Versions!$B$2:$B$501)))))) -> V-003 | R3: =IF(A3="","",COUNTIF(Comments!$B$2:$B$2001,A3)) -> 1 | S3: =IF(A3="","",COUNTIFS(Comments!$B$2:$B$2001,A3,Comments!$N$2:$N$2001,"Open")) -> 1 | T3: =IF(A3="","",COUNTIFS('Deferred edits'!$C$2:$C$201,A3,'Deferred edits'!$G$2:$G$201,"Waiting")) -> 0 | U3: =IF(A3="","",IF(AND(I3<>"",I3<AsOfDate),"▲ Next date passed",IF(AND(I3<>"",I3<=AsOfDate+7),"● Next date within 7 days",IF(AND(P3<>"",P3<AsOfDate,N3<>"Complete"),"▲ Regulation past target",IF(S3>0,"Open comments",""))))) -> Open comments | V3: Public record: Oct 5 board meeting | W3: https://simbli.eboardsolutions.com/Policy/ViewPolicy.aspx?S=4054&revid=AidLCSIgZacYcQJuVjYupA== | X3: https://simbli.eboardsolutions.com/Policy/ViewPolicy.aspx?S=4054&revid=FupPPql4Q4NTplusoqslshqlGy5g==
A4: KEB | B4: Solicitations | C4: Policy (revision) | D4: To confirm | E4: Second read | F4: Second reading on the board's consent agenda. Committee agreed edits on Oct 1. | G4: 46300 | H4: Committee reviews the revised draft with the Oct 1 edits. | I4: 46323 | J4: Adds scope, a Foundation section and limits on donor influence. | K4: =IF(W4="","",HYPERLINK(W4,"Simbli")) -> Simbli | L4: =IF(X4="","",HYPERLINK(X4,"Simbli")) -> Simbli | M4: KEB-R(1) | N4: Exists, update to match | P4: =IF(OR(A4="",O4=""),"",O4+RegDays) | Q4: =IF(A4="","",IF(SUMPRODUCT(MAX((Versions!$B$2:$B$501=A4)*(Versions!$M$2:$M$501="Yes")*ROW(Versions!$B$2:$B$501)))=0,"",INDEX(Versions!$A$1:$A$501,SUMPRODUCT(MAX((Versions!$B$2:$B$501=A4)*(Versions!$M$2:$M$501="Yes")*ROW(Versions!$B$2:$B$501)))))) -> V-005 | R4: =IF(A4="","",COUNTIF(Comments!$B$2:$B$2001,A4)) -> 7 | S4: =IF(A4="","",COUNTIFS(Comments!$B$2:$B$2001,A4,Comments!$N$2:$N$2001,"Open")) -> 0 | T4: =IF(A4="","",COUNTIFS('Deferred edits'!$C$2:$C$201,A4,'Deferred edits'!$G$2:$G$201,"Waiting")) -> 0 | U4: =IF(A4="","",IF(AND(I4<>"",I4<AsOfDate),"▲ Next date passed",IF(AND(I4<>"",I4<=AsOfDate+7),"● Next date within 7 days",IF(AND(P4<>"",P4<AsOfDate,N4<>"Complete"),"▲ Regulation past target",IF(S4>0,"Open comments",""))))) | V4: Public record: Oct 5 board meeting | W4: https://simbli.eboardsolutions.com/Policy/ViewPolicy.aspx?S=4054&revid=brPWx18AD9dPHmTpRNrPVw== | X4: https://simbli.eboardsolutions.com/Policy/ViewPolicy.aspx?S=4054&revid=t2liMYmYJqH0ai2plusKo5oplusA==
A5: BBBE | B5: Board Member Compensation and Expenses | C5: Policy (revision) | D5: To confirm | E5: First read: comment window | F5: First reading on the board's consent agenda. | G5: 46300 | H5: Board suggestion window closes (about 14 days, BDC-R(1)); committee review follows (current practice). | I5: 46314 | J5: Separate travel and professional development budgets; limits on staff approving expenses over budget. | K5: =IF(W5="","",HYPERLINK(W5,"Simbli")) -> Simbli | L5: =IF(X5="","",HYPERLINK(X5,"Simbli")) -> Simbli | M5: None noted | N5: To confirm | P5: =IF(OR(A5="",O5=""),"",O5+RegDays) | Q5: =IF(A5="","",IF(SUMPRODUCT(MAX((Versions!$B$2:$B$501=A5)*(Versions!$M$2:$M$501="Yes")*ROW(Versions!$B$2:$B$501)))=0,"",INDEX(Versions!$A$1:$A$501,SUMPRODUCT(MAX((Versions!$B$2:$B$501=A5)*(Versions!$M$2:$M$501="Yes")*ROW(Versions!$B$2:$B$501)))))) -> V-007 | R5: =IF(A5="","",COUNTIF(Comments!$B$2:$B$2001,A5)) -> 0 | S5: =IF(A5="","",COUNTIFS(Comments!$B$2:$B$2001,A5,Comments!$N$2:$N$2001,"Open")) -> 0 | T5: =IF(A5="","",COUNTIFS('Deferred edits'!$C$2:$C$201,A5,'Deferred edits'!$G$2:$G$201,"Waiting")) -> 0 | U5: =IF(A5="","",IF(AND(I5<>"",I5<AsOfDate),"▲ Next date passed",IF(AND(I5<>"",I5<=AsOfDate+7),"● Next date within 7 days",IF(AND(P5<>"",P5<AsOfDate,N5<>"Complete"),"▲ Regulation past target",IF(S5>0,"Open comments",""))))) -> ● Next date within 7 days | V5: Public record: Oct 5 board meeting | W5: https://simbli.eboardsolutions.com/Policy/ViewPolicy.aspx?S=4054&revid=aMTr8Qfz3pfjua3a19THFQ== | X5: https://simbli.eboardsolutions.com/Policy/ViewPolicy.aspx?S=4054&revid=nvgTxPXZlDRvplusXc31BnTXg==
A6: IFBI | B6: Artificial Intelligence | C6: Policy (new) | D6: Information Technology | E6: Held | F6: Second reading on the board's consent agenda. Committee asked for a staff workshop first (Sep 24). | G6: 46300 | H6: Staff workshop on IFBI, IFBG and the planned screen time policy, then committee. No return date in the public record yet. | J6: New AI policy: purpose, definitions, scope, guiding principles, data protection and privacy. Detail goes in staff and student regulations. | K6: =IF(W6="","",HYPERLINK(W6,"Simbli")) | L6: =IF(X6="","",HYPERLINK(X6,"Simbli")) -> Simbli | M6: Staff and student AI regulations | N6: Draft ready for Legal | P6: =IF(OR(A6="",O6=""),"",O6+RegDays) | Q6: =IF(A6="","",IF(SUMPRODUCT(MAX((Versions!$B$2:$B$501=A6)*(Versions!$M$2:$M$501="Yes")*ROW(Versions!$B$2:$B$501)))=0,"",INDEX(Versions!$A$1:$A$501,SUMPRODUCT(MAX((Versions!$B$2:$B$501=A6)*(Versions!$M$2:$M$501="Yes")*ROW(Versions!$B$2:$B$501)))))) -> V-008 | R6: =IF(A6="","",COUNTIF(Comments!$B$2:$B$2001,A6)) -> 2 | S6: =IF(A6="","",COUNTIFS(Comments!$B$2:$B$2001,A6,Comments!$N$2:$N$2001,"Open")) -> 0 | T6: =IF(A6="","",COUNTIFS('Deferred edits'!$C$2:$C$201,A6,'Deferred edits'!$G$2:$G$201,"Waiting")) -> 0 | U6: =IF(A6="","",IF(AND(I6<>"",I6<AsOfDate),"▲ Next date passed",IF(AND(I6<>"",I6<=AsOfDate+7),"● Next date within 7 days",IF(AND(P6<>"",P6<AsOfDate,N6<>"Complete"),"▲ Regulation past target",IF(S6>0,"Open comments",""))))) | V6: Public record: Oct 5 board meeting | X6: https://simbli.eboardsolutions.com/Policy/ViewPolicy.aspx?S=4054&revid=nCtYhCWxvVL2EKdoeFhdVg==
A7: IFBG | B7: Internet Acceptable Use | C7: Policy (revision) | D7: Information Technology | E7: Held | F7: Second reading on the board's consent agenda. To be reviewed with IFBI (Sep 24). | G7: 46300 | H7: Same staff workshop as IFBI, then committee. No return date in the public record yet. | J7: Revision of the 2011 internet acceptable use policy. | K7: =IF(W7="","",HYPERLINK(W7,"Simbli")) -> Simbli | L7: =IF(X7="","",HYPERLINK(X7,"Simbli")) -> Simbli | M7: IFBG-R(1) | N7: To confirm | P7: =IF(OR(A7="",O7=""),"",O7+RegDays) | Q7: =IF(A7="","",IF(SUMPRODUCT(MAX((Versions!$B$2:$B$501=A7)*(Versions!$M$2:$M$501="Yes")*ROW(Versions!$B$2:$B$501)))=0,"",INDEX(Versions!$A$1:$A$501,SUMPRODUCT(MAX((Versions!$B$2:$B$501=A7)*(Versions!$M$2:$M$501="Yes")*ROW(Versions!$B$2:$B$501)))))) -> V-010 | R7: =IF(A7="","",COUNTIF(Comments!$B$2:$B$2001,A7)) -> 0 | S7: =IF(A7="","",COUNTIFS(Comments!$B$2:$B$2001,A7,Comments!$N$2:$N$2001,"Open")) -> 0 | T7: =IF(A7="","",COUNTIFS('Deferred edits'!$C$2:$C$201,A7,'Deferred edits'!$G$2:$G$201,"Waiting")) -> 1 | U7: =IF(A7="","",IF(AND(I7<>"",I7<AsOfDate),"▲ Next date passed",IF(AND(I7<>"",I7<=AsOfDate+7),"● Next date within 7 days",IF(AND(P7<>"",P7<AsOfDate,N7<>"Complete"),"▲ Regulation past target",IF(S7>0,"Open comments",""))))) | V7: Public record: Oct 5 board meeting | W7: https://simbli.eboardsolutions.com/Policy/ViewPolicy.aspx?S=4054&revid=Xstr9mzDih1R0V4Wf8vj7A== | X7: https://simbli.eboardsolutions.com/Policy/ViewPolicy.aspx?S=4054&revid=V4yb8EtMkypOQhz767mqcA==
A8: DO | B8: School Properties Disposal Procedures | C8: Policy (revision) | D8: To confirm | E8: Held | F8: Added to the committee's list; held back from first reading. | G8: 46289 | H8: Committee schedules its review. No return date in the public record yet. | J8: Review of the 2013 policy. | K8: =IF(W8="","",HYPERLINK(W8,"Simbli")) -> Simbli | L8: =IF(X8="","",HYPERLINK(X8,"Simbli")) | M8: DO-R | N8: To confirm | P8: =IF(OR(A8="",O8=""),"",O8+RegDays) | Q8: =IF(A8="","",IF(SUMPRODUCT(MAX((Versions!$B$2:$B$501=A8)*(Versions!$M$2:$M$501="Yes")*ROW(Versions!$B$2:$B$501)))=0,"",INDEX(Versions!$A$1:$A$501,SUMPRODUCT(MAX((Versions!$B$2:$B$501=A8)*(Versions!$M$2:$M$501="Yes")*ROW(Versions!$B$2:$B$501)))))) | R8: =IF(A8="","",COUNTIF(Comments!$B$2:$B$2001,A8)) -> 0 | S8: =IF(A8="","",COUNTIFS(Comments!$B$2:$B$2001,A8,Comments!$N$2:$N$2001,"Open")) -> 0 | T8: =IF(A8="","",COUNTIFS('Deferred edits'!$C$2:$C$201,A8,'Deferred edits'!$G$2:$G$201,"Waiting")) -> 0 | U8: =IF(A8="","",IF(AND(I8<>"",I8<AsOfDate),"▲ Next date passed",IF(AND(I8<>"",I8<=AsOfDate+7),"● Next date within 7 days",IF(AND(P8<>"",P8<AsOfDate,N8<>"Complete"),"▲ Regulation past target",IF(S8>0,"Open comments",""))))) | V8: Public record: Sep 24 committee | W8: https://simbli.eboardsolutions.com/Policy/ViewPolicy.aspx?S=4054&revid=uLIX3ysHXXTt67w4w99Haw==
A9: DJE | B9: Purchasing | C9: Policy (revision) | D9: To confirm | E9: Held | F9: Added to the committee's list; held back from first reading. | G9: 46289 | H9: Committee schedules its review. No return date in the public record yet. | J9: Review of the 2021 policy. | K9: =IF(W9="","",HYPERLINK(W9,"Simbli")) -> Simbli | L9: =IF(X9="","",HYPERLINK(X9,"Simbli")) | M9: DJE-R(1) | N9: To confirm | P9: =IF(OR(A9="",O9=""),"",O9+RegDays) | Q9: =IF(A9="","",IF(SUMPRODUCT(MAX((Versions!$B$2:$B$501=A9)*(Versions!$M$2:$M$501="Yes")*ROW(Versions!$B$2:$B$501)))=0,"",INDEX(Versions!$A$1:$A$501,SUMPRODUCT(MAX((Versions!$B$2:$B$501=A9)*(Versions!$M$2:$M$501="Yes")*ROW(Versions!$B$2:$B$501)))))) | R9: =IF(A9="","",COUNTIF(Comments!$B$2:$B$2001,A9)) -> 0 | S9: =IF(A9="","",COUNTIFS(Comments!$B$2:$B$2001,A9,Comments!$N$2:$N$2001,"Open")) -> 0 | T9: =IF(A9="","",COUNTIFS('Deferred edits'!$C$2:$C$201,A9,'Deferred edits'!$G$2:$G$201,"Waiting")) -> 0 | U9: =IF(A9="","",IF(AND(I9<>"",I9<AsOfDate),"▲ Next date passed",IF(AND(I9<>"",I9<=AsOfDate+7),"● Next date within 7 days",IF(AND(P9<>"",P9<AsOfDate,N9<>"Complete"),"▲ Regulation past target",IF(S9>0,"Open comments",""))))) | V9: Public record: Sep 24 committee | W9: https://simbli.eboardsolutions.com/Policy/ViewPolicy.aspx?S=4054&revid=IsVaB6Z2x9NPZkwqJm84zQ==
A10: NEW-1 | B10: Screen time | C10: Policy (new) | D10: To confirm | E10: Drafting | F10: Staff described a policy with regulations planned this semester. | G10: 46260 | H10: Reviewed with IFBI and IFBG. | J10: New policy on student screen time. | K10: =IF(W10="","",HYPERLINK(W10,"Simbli")) | L10: =IF(X10="","",HYPERLINK(X10,"Simbli")) | M10: Screen time regulation | N10: Planned | P10: =IF(OR(A10="",O10=""),"",O10+RegDays) | Q10: =IF(A10="","",IF(SUMPRODUCT(MAX((Versions!$B$2:$B$501=A10)*(Versions!$M$2:$M$501="Yes")*ROW(Versions!$B$2:$B$501)))=0,"",INDEX(Versions!$A$1:$A$501,SUMPRODUCT(MAX((Versions!$B$2:$B$501=A10)*(Versions!$M$2:$M$501="Yes")*ROW(Versions!$B$2:$B$501)))))) | R10: =IF(A10="","",COUNTIF(Comments!$B$2:$B$2001,A10)) -> 0 | S10: =IF(A10="","",COUNTIFS(Comments!$B$2:$B$2001,A10,Comments!$N$2:$N$2001,"Open")) -> 0 | T10: =IF(A10="","",COUNTIFS('Deferred edits'!$C$2:$C$201,A10,'Deferred edits'!$G$2:$G$201,"Waiting")) -> 0 | U10: =IF(A10="","",IF(AND(I10<>"",I10<AsOfDate),"▲ Next date passed",IF(AND(I10<>"",I10<=AsOfDate+7),"● Next date within 7 days",IF(AND(P10<>"",P10<AsOfDate,N10<>"Complete"),"▲ Regulation past target",IF(S10>0,"Open comments",""))))) | V10: Public record: Aug 26 committee
A11: BC reg | B11: Board Meetings regulation (amendment) | C11: Regulation | D11: Board Office | E11: Regulation work | F11: Board member requests on agenda timing logged for the regulation; board recognition criteria planned. | G11: 46260 | H11: Draft the amendment; share with the board before it is issued. | J11: Agenda materials timing and board recognition criteria. | K11: =IF(W11="","",HYPERLINK(W11,"Simbli")) -> Simbli | L11: =IF(X11="","",HYPERLINK(X11,"Simbli")) | M11: BC regulation | N11: To confirm | P11: =IF(OR(A11="",O11=""),"",O11+RegDays) | Q11: =IF(A11="","",IF(SUMPRODUCT(MAX((Versions!$B$2:$B$501=A11)*(Versions!$M$2:$M$501="Yes")*ROW(Versions!$B$2:$B$501)))=0,"",INDEX(Versions!$A$1:$A$501,SUMPRODUCT(MAX((Versions!$B$2:$B$501=A11)*(Versions!$M$2:$M$501="Yes")*ROW(Versions!$B$2:$B$501)))))) | R11: =IF(A11="","",COUNTIF(Comments!$B$2:$B$2001,A11)) -> 1 | S11: =IF(A11="","",COUNTIFS(Comments!$B$2:$B$2001,A11,Comments!$N$2:$N$2001,"Open")) -> 0 | T11: =IF(A11="","",COUNTIFS('Deferred edits'!$C$2:$C$201,A11,'Deferred edits'!$G$2:$G$201,"Waiting")) -> 0 | U11: =IF(A11="","",IF(AND(I11<>"",I11<AsOfDate),"▲ Next date passed",IF(AND(I11<>"",I11<=AsOfDate+7),"● Next date within 7 days",IF(AND(P11<>"",P11<AsOfDate,N11<>"Complete"),"▲ Regulation past target",IF(S11>0,"Open comments",""))))) | V11: Public record: Aug 26 committee | W11: https://simbli.eboardsolutions.com/Policy/ViewPolicy.aspx?S=4054&revid=9mI7naMRmKUplusI5UuO3VTnw==
A12: LE regs | B12: School-Community Organizations regulations | C12: Regulation | D12: To confirm | E12: Regulation work | F12: Regulations not yet posted; a booster club regulation was submitted for review. | G12: 46296 | H12: Finish the booster club regulation, then support organizations generally. | J12: Oversight of school support organizations, starting with booster clubs. | K12: =IF(W12="","",HYPERLINK(W12,"Simbli")) -> Simbli | L12: =IF(X12="","",HYPERLINK(X12,"Simbli")) | M12: LE regulations | N12: Drafting | P12: =IF(OR(A12="",O12=""),"",O12+RegDays) | Q12: =IF(A12="","",IF(SUMPRODUCT(MAX((Versions!$B$2:$B$501=A12)*(Versions!$M$2:$M$501="Yes")*ROW(Versions!$B$2:$B$501)))=0,"",INDEX(Versions!$A$1:$A$501,SUMPRODUCT(MAX((Versions!$B$2:$B$501=A12)*(Versions!$M$2:$M$501="Yes")*ROW(Versions!$B$2:$B$501)))))) | R12: =IF(A12="","",COUNTIF(Comments!$B$2:$B$2001,A12)) -> 0 | S12: =IF(A12="","",COUNTIFS(Comments!$B$2:$B$2001,A12,Comments!$N$2:$N$2001,"Open")) -> 0 | T12: =IF(A12="","",COUNTIFS('Deferred edits'!$C$2:$C$201,A12,'Deferred edits'!$G$2:$G$201,"Waiting")) -> 0 | U12: =IF(A12="","",IF(AND(I12<>"",I12<AsOfDate),"▲ Next date passed",IF(AND(I12<>"",I12<=AsOfDate+7),"● Next date within 7 days",IF(AND(P12<>"",P12<AsOfDate,N12<>"Complete"),"▲ Regulation past target",IF(S12>0,"Open comments",""))))) | V12: Public record: Oct 1 committee | W12: https://simbli.eboardsolutions.com/Policy/ViewPolicy.aspx?S=4054&revid=IrzEplusrYpYqGqepqfDAgbyw==
K13: =IF(W13="","",HYPERLINK(W13,"Simbli")) | L13: =IF(X13="","",HYPERLINK(X13,"Simbli")) | P13: =IF(OR(A13="",O13=""),"",O13+RegDays) | Q13: =IF(A13="","",IF(SUMPRODUCT(MAX((Versions!$B$2:$B$501=A13)*(Versions!$M$2:$M$501="Yes")*ROW(Versions!$B$2:$B$501)))=0,"",INDEX(Versions!$A$1:$A$501,SUMPRODUCT(MAX((Versions!$B$2:$B$501=A13)*(Versions!$M$2:$M$501="Yes")*ROW(Versions!$B$2:$B$501)))))) | R13: =IF(A13="","",COUNTIF(Comments!$B$2:$B$2001,A13)) | S13: =IF(A13="","",COUNTIFS(Comments!$B$2:$B$2001,A13,Comments!$N$2:$N$2001,"Open")) | T13: =IF(A13="","",COUNTIFS('Deferred edits'!$C$2:$C$201,A13,'Deferred edits'!$G$2:$G$201,"Waiting")) | U13: =IF(A13="","",IF(AND(I13<>"",I13<AsOfDate),"▲ Next date passed",IF(AND(I13<>"",I13<=AsOfDate+7),"● Next date within 7 days",IF(AND(P13<>"",P13<AsOfDate,N13<>"Complete"),"▲ Regulation past target",IF(S13>0,"Open comments","")))))
K14: =IF(W14="","",HYPERLINK(W14,"Simbli")) | L14: =IF(X14="","",HYPERLINK(X14,"Simbli")) | P14: =IF(OR(A14="",O14=""),"",O14+RegDays) | Q14: =IF(A14="","",IF(SUMPRODUCT(MAX((Versions!$B$2:$B$501=A14)*(Versions!$M$2:$M$501="Yes")*ROW(Versions!$B$2:$B$501)))=0,"",INDEX(Versions!$A$1:$A$501,SUMPRODUCT(MAX((Versions!$B$2:$B$501=A14)*(Versions!$M$2:$M$501="Yes")*ROW(Versions!$B$2:$B$501)))))) | R14: =IF(A14="","",COUNTIF(Comments!$B$2:$B$2001,A14)) | S14: =IF(A14="","",COUNTIFS(Comments!$B$2:$B$2001,A14,Comments!$N$2:$N$2001,"Open")) | T14: =IF(A14="","",COUNTIFS('Deferred edits'!$C$2:$C$201,A14,'Deferred edits'!$G$2:$G$201,"Waiting")) | U14: =IF(A14="","",IF(AND(I14<>"",I14<AsOfDate),"▲ Next date passed",IF(AND(I14<>"",I14<=AsOfDate+7),"● Next date within 7 days",IF(AND(P14<>"",P14<AsOfDate,N14<>"Complete"),"▲ Regulation past target",IF(S14>0,"Open comments","")))))
K15: =IF(W15="","",HYPERLINK(W15,"Simbli")) | L15: =IF(X15="","",HYPERLINK(X15,"Simbli")) | P15: =IF(OR(A15="",O15=""),"",O15+RegDays) | Q15: =IF(A15="","",IF(SUMPRODUCT(MAX((Versions!$B$2:$B$501=A15)*(Versions!$M$2:$M$501="Yes")*ROW(Versions!$B$2:$B$501)))=0,"",INDEX(Versions!$A$1:$A$501,SUMPRODUCT(MAX((Versions!$B$2:$B$501=A15)*(Versions!$M$2:$M$501="Yes")*ROW(Versions!$B$2:$B$501)))))) | R15: =IF(A15="","",COUNTIF(Comments!$B$2:$B$2001,A15)) | S15: =IF(A15="","",COUNTIFS(Comments!$B$2:$B$2001,A15,Comments!$N$2:$N$2001,"Open")) | T15: =IF(A15="","",COUNTIFS('Deferred edits'!$C$2:$C$201,A15,'Deferred edits'!$G$2:$G$201,"Waiting")) | U15: =IF(A15="","",IF(AND(I15<>"",I15<AsOfDate),"▲ Next date passed",IF(AND(I15<>"",I15<=AsOfDate+7),"● Next date within 7 days",IF(AND(P15<>"",P15<AsOfDate,N15<>"Complete"),"▲ Regulation past target",IF(S15>0,"Open comments","")))))
K16: =IF(W16="","",HYPERLINK(W16,"Simbli")) | L16: =IF(X16="","",HYPERLINK(X16,"Simbli")) | P16: =IF(OR(A16="",O16=""),"",O16+RegDays) | Q16: =IF(A16="","",IF(SUMPRODUCT(MAX((Versions!$B$2:$B$501=A16)*(Versions!$M$2:$M$501="Yes")*ROW(Versions!$B$2:$B$501)))=0,"",INDEX(Versions!$A$1:$A$501,SUMPRODUCT(MAX((Versions!$B$2:$B$501=A16)*(Versions!$M$2:$M$501="Yes")*ROW(Versions!$B$2:$B$501)))))) | R16: =IF(A16="","",COUNTIF(Comments!$B$2:$B$2001,A16)) | S16: =IF(A16="","",COUNTIFS(Comments!$B$2:$B$2001,A16,Comments!$N$2:$N$2001,"Open")) | T16: =IF(A16="","",COUNTIFS('Deferred edits'!$C$2:$C$201,A16,'Deferred edits'!$G$2:$G$201,"Waiting")) | U16: =IF(A16="","",IF(AND(I16<>"",I16<AsOfDate),"▲ Next date passed",IF(AND(I16<>"",I16<=AsOfDate+7),"● Next date within 7 days",IF(AND(P16<>"",P16<AsOfDate,N16<>"Complete"),"▲ Regulation past target",IF(S16>0,"Open comments","")))))
K17: =IF(W17="","",HYPERLINK(W17,"Simbli")) | L17: =IF(X17="","",HYPERLINK(X17,"Simbli")) | P17: =IF(OR(A17="",O17=""),"",O17+RegDays) | Q17: =IF(A17="","",IF(SUMPRODUCT(MAX((Versions!$B$2:$B$501=A17)*(Versions!$M$2:$M$501="Yes")*ROW(Versions!$B$2:$B$501)))=0,"",INDEX(Versions!$A$1:$A$501,SUMPRODUCT(MAX((Versions!$B$2:$B$501=A17)*(Versions!$M$2:$M$501="Yes")*ROW(Versions!$B$2:$B$501)))))) | R17: =IF(A17="","",COUNTIF(Comments!$B$2:$B$2001,A17)) | S17: =IF(A17="","",COUNTIFS(Comments!$B$2:$B$2001,A17,Comments!$N$2:$N$2001,"Open")) | T17: =IF(A17="","",COUNTIFS('Deferred edits'!$C$2:$C$201,A17,'Deferred edits'!$G$2:$G$201,"Waiting")) | U17: =IF(A17="","",IF(AND(I17<>"",I17<AsOfDate),"▲ Next date passed",IF(AND(I17<>"",I17<=AsOfDate+7),"● Next date within 7 days",IF(AND(P17<>"",P17<AsOfDate,N17<>"Complete"),"▲ Regulation past target",IF(S17>0,"Open comments","")))))
K18: =IF(W18="","",HYPERLINK(W18,"Simbli")) | L18: =IF(X18="","",HYPERLINK(X18,"Simbli")) | P18: =IF(OR(A18="",O18=""),"",O18+RegDays) | Q18: =IF(A18="","",IF(SUMPRODUCT(MAX((Versions!$B$2:$B$501=A18)*(Versions!$M$2:$M$501="Yes")*ROW(Versions!$B$2:$B$501)))=0,"",INDEX(Versions!$A$1:$A$501,SUMPRODUCT(MAX((Versions!$B$2:$B$501=A18)*(Versions!$M$2:$M$501="Yes")*ROW(Versions!$B$2:$B$501)))))) | R18: =IF(A18="","",COUNTIF(Comments!$B$2:$B$2001,A18)) | S18: =IF(A18="","",COUNTIFS(Comments!$B$2:$B$2001,A18,Comments!$N$2:$N$2001,"Open")) | T18: =IF(A18="","",COUNTIFS('Deferred edits'!$C$2:$C$201,A18,'Deferred edits'!$G$2:$G$201,"Waiting")) | U18: =IF(A18="","",IF(AND(I18<>"",I18<AsOfDate),"▲ Next date passed",IF(AND(I18<>"",I18<=AsOfDate+7),"● Next date within 7 days",IF(AND(P18<>"",P18<AsOfDate,N18<>"Complete"),"▲ Regulation past target",IF(S18>0,"Open comments","")))))
K19: =IF(W19="","",HYPERLINK(W19,"Simbli")) | L19: =IF(X19="","",HYPERLINK(X19,"Simbli")) | P19: =IF(OR(A19="",O19=""),"",O19+RegDays) | Q19: =IF(A19="","",IF(SUMPRODUCT(MAX((Versions!$B$2:$B$501=A19)*(Versions!$M$2:$M$501="Yes")*ROW(Versions!$B$2:$B$501)))=0,"",INDEX(Versions!$A$1:$A$501,SUMPRODUCT(MAX((Versions!$B$2:$B$501=A19)*(Versions!$M$2:$M$501="Yes")*ROW(Versions!$B$2:$B$501)))))) | R19: =IF(A19="","",COUNTIF(Comments!$B$2:$B$2001,A19)) | S19: =IF(A19="","",COUNTIFS(Comments!$B$2:$B$2001,A19,Comments!$N$2:$N$2001,"Open")) | T19: =IF(A19="","",COUNTIFS('Deferred edits'!$C$2:$C$201,A19,'Deferred edits'!$G$2:$G$201,"Waiting")) | U19: =IF(A19="","",IF(AND(I19<>"",I19<AsOfDate),"▲ Next date passed",IF(AND(I19<>"",I19<=AsOfDate+7),"● Next date within 7 days",IF(AND(P19<>"",P19<AsOfDate,N19<>"Complete"),"▲ Regulation past target",IF(S19>0,"Open comments","")))))
K20: =IF(W20="","",HYPERLINK(W20,"Simbli")) | L20: =IF(X20="","",HYPERLINK(X20,"Simbli")) | P20: =IF(OR(A20="",O20=""),"",O20+RegDays) | Q20: =IF(A20="","",IF(SUMPRODUCT(MAX((Versions!$B$2:$B$501=A20)*(Versions!$M$2:$M$501="Yes")*ROW(Versions!$B$2:$B$501)))=0,"",INDEX(Versions!$A$1:$A$501,SUMPRODUCT(MAX((Versions!$B$2:$B$501=A20)*(Versions!$M$2:$M$501="Yes")*ROW(Versions!$B$2:$B$501)))))) | R20: =IF(A20="","",COUNTIF(Comments!$B$2:$B$2001,A20)) | S20: =IF(A20="","",COUNTIFS(Comments!$B$2:$B$2001,A20,Comments!$N$2:$N$2001,"Open")) | T20: =IF(A20="","",COUNTIFS('Deferred edits'!$C$2:$C$201,A20,'Deferred edits'!$G$2:$G$201,"Waiting")) | U20: =IF(A20="","",IF(AND(I20<>"",I20<AsOfDate),"▲ Next date passed",IF(AND(I20<>"",I20<=AsOfDate+7),"● Next date within 7 days",IF(AND(P20<>"",P20<AsOfDate,N20<>"Complete"),"▲ Regulation past target",IF(S20>0,"Open comments","")))))
K21: =IF(W21="","",HYPERLINK(W21,"Simbli")) | L21: =IF(X21="","",HYPERLINK(X21,"Simbli")) | P21: =IF(OR(A21="",O21=""),"",O21+RegDays) | Q21: =IF(A21="","",IF(SUMPRODUCT(MAX((Versions!$B$2:$B$501=A21)*(Versions!$M$2:$M$501="Yes")*ROW(Versions!$B$2:$B$501)))=0,"",INDEX(Versions!$A$1:$A$501,SUMPRODUCT(MAX((Versions!$B$2:$B$501=A21)*(Versions!$M$2:$M$501="Yes")*ROW(Versions!$B$2:$B$501)))))) | R21: =IF(A21="","",COUNTIF(Comments!$B$2:$B$2001,A21)) | S21: =IF(A21="","",COUNTIFS(Comments!$B$2:$B$2001,A21,Comments!$N$2:$N$2001,"Open")) | T21: =IF(A21="","",COUNTIFS('Deferred edits'!$C$2:$C$201,A21,'Deferred edits'!$G$2:$G$201,"Waiting")) | U21: =IF(A21="","",IF(AND(I21<>"",I21<AsOfDate),"▲ Next date passed",IF(AND(I21<>"",I21<=AsOfDate+7),"● Next date within 7 days",IF(AND(P21<>"",P21<AsOfDate,N21<>"Complete"),"▲ Regulation past target",IF(S21>0,"Open comments","")))))
K22: =IF(W22="","",HYPERLINK(W22,"Simbli")) | L22: =IF(X22="","",HYPERLINK(X22,"Simbli")) | P22: =IF(OR(A22="",O22=""),"",O22+RegDays) | Q22: =IF(A22="","",IF(SUMPRODUCT(MAX((Versions!$B$2:$B$501=A22)*(Versions!$M$2:$M$501="Yes")*ROW(Versions!$B$2:$B$501)))=0,"",INDEX(Versions!$A$1:$A$501,SUMPRODUCT(MAX((Versions!$B$2:$B$501=A22)*(Versions!$M$2:$M$501="Yes")*ROW(Versions!$B$2:$B$501)))))) | R22: =IF(A22="","",COUNTIF(Comments!$B$2:$B$2001,A22)) | S22: =IF(A22="","",COUNTIFS(Comments!$B$2:$B$2001,A22,Comments!$N$2:$N$2001,"Open")) | T22: =IF(A22="","",COUNTIFS('Deferred edits'!$C$2:$C$201,A22,'Deferred edits'!$G$2:$G$201,"Waiting")) | U22: =IF(A22="","",IF(AND(I22<>"",I22<AsOfDate),"▲ Next date passed",IF(AND(I22<>"",I22<=AsOfDate+7),"● Next date within 7 days",IF(AND(P22<>"",P22<AsOfDate,N22<>"Complete"),"▲ Regulation past target",IF(S22>0,"Open comments","")))))
K23: =IF(W23="","",HYPERLINK(W23,"Simbli")) | L23: =IF(X23="","",HYPERLINK(X23,"Simbli")) | P23: =IF(OR(A23="",O23=""),"",O23+RegDays) | Q23: =IF(A23="","",IF(SUMPRODUCT(MAX((Versions!$B$2:$B$501=A23)*(Versions!$M$2:$M$501="Yes")*ROW(Versions!$B$2:$B$501)))=0,"",INDEX(Versions!$A$1:$A$501,SUMPRODUCT(MAX((Versions!$B$2:$B$501=A23)*(Versions!$M$2:$M$501="Yes")*ROW(Versions!$B$2:$B$501)))))) | R23: =IF(A23="","",COUNTIF(Comments!$B$2:$B$2001,A23)) | S23: =IF(A23="","",COUNTIFS(Comments!$B$2:$B$2001,A23,Comments!$N$2:$N$2001,"Open")) | T23: =IF(A23="","",COUNTIFS('Deferred edits'!$C$2:$C$201,A23,'Deferred edits'!$G$2:$G$201,"Waiting")) | U23: =IF(A23="","",IF(AND(I23<>"",I23<AsOfDate),"▲ Next date passed",IF(AND(I23<>"",I23<=AsOfDate+7),"● Next date within 7 days",IF(AND(P23<>"",P23<AsOfDate,N23<>"Complete"),"▲ Regulation past target",IF(S23>0,"Open comments","")))))
K24: =IF(W24="","",HYPERLINK(W24,"Simbli")) | L24: =IF(X24="","",HYPERLINK(X24,"Simbli")) | P24: =IF(OR(A24="",O24=""),"",O24+RegDays) | Q24: =IF(A24="","",IF(SUMPRODUCT(MAX((Versions!$B$2:$B$501=A24)*(Versions!$M$2:$M$501="Yes")*ROW(Versions!$B$2:$B$501)))=0,"",INDEX(Versions!$A$1:$A$501,SUMPRODUCT(MAX((Versions!$B$2:$B$501=A24)*(Versions!$M$2:$M$501="Yes")*ROW(Versions!$B$2:$B$501)))))) | R24: =IF(A24="","",COUNTIF(Comments!$B$2:$B$2001,A24)) | S24: =IF(A24="","",COUNTIFS(Comments!$B$2:$B$2001,A24,Comments!$N$2:$N$2001,"Open")) | T24: =IF(A24="","",COUNTIFS('Deferred edits'!$C$2:$C$201,A24,'Deferred edits'!$G$2:$G$201,"Waiting")) | U24: =IF(A24="","",IF(AND(I24<>"",I24<AsOfDate),"▲ Next date passed",IF(AND(I24<>"",I24<=AsOfDate+7),"● Next date within 7 days",IF(AND(P24<>"",P24<AsOfDate,N24<>"Complete"),"▲ Regulation past target",IF(S24>0,"Open comments","")))))
... K251: =IF(W251="","",HYPERLINK(W251,"Simbli")) | L251: =IF(X251="","",HYPERLINK(X251,"Simbli")) | P251: =IF(OR(A251="",O251=""),"",O251+RegDays) | Q251: =IF(A251="","",IF(SUMPRODUCT(MAX((Versions!$B$2:$B$501=A251)*(Versions!$M$2:$M$501="Yes")*ROW(Versions!$B$2:$B$501)))=0,"",INDEX(Versions!$A$1:$A$501,SUMPRODUCT(MAX((Versions!$B$2:$B$501=A251)*(Versions!$M$2:$M$501="Yes")*ROW(Versions!$B$2:$B$501)))))) | R251: =IF(A251="","",COUNTIF(Comments!$B$2:$B$2001,A251)) | S251: =IF(A251="","",COUNTIFS(Comments!$B$2:$B$2001,A251,Comments!$N$2:$N$2001,"Open")) | T251: =IF(A251="","",COUNTIFS('Deferred edits'!$C$2:$C$201,A251,'Deferred edits'!$G$2:$G$201,"Waiting")) | U251: =IF(A251="","",IF(AND(I251<>"",I251<AsOfDate),"▲ Next date passed",IF(AND(I251<>"",I251<=AsOfDate+7),"● Next date within 7 days",IF(AND(P251<>"",P251<AsOfDate,N251<>"Complete"),"▲ Regulation past target",IF(S251>0,"Open comments","")))))

Sheet Comments
A1: comment_id | B1: code | C1: date_logged | D1: from | E1: channel | F1: version_read | G1: section | H1: comment | I1: route | J1: response | K1: responding_office | L1: date_resolved | M1: goes_to | N1: status | O1: source | P1: deferred_check
A2: C-001 | B2: IFBI | C2: 46198 | D2: Public | E2: Online public comment | F2: First-read draft | G2: Data protection and privacy | H2: Policy isn't strict enough on privacy; asks about ethical use and credit to original authors. | I2: Move to the regulation | J2: Addressed in the AI regulation under development; the policy states the what, the regulation the how. | K2: Legal Affairs | L2: 46198 | M2: =IF(OR(B2="",I2=""),"",IFERROR(INDEX('Comment flow'!$C$40:$C$46,MATCH(I2,'Comment flow'!$A$40:$A$46,0)),"")) -> The regulation draft for that policy | N2: =IF(B2="","",IF(OR(I2="",I2="Open: needs a decision",L2=""),"Open","Closed")) -> Closed | O2: Public record: Jun 25 committee | P2: =IF(OR(B2="",I2<>"Save for a later revision"),"",IF(COUNTIF('Deferred edits'!$K$2:$K$201,A2)>0,"Yes","● Add to Deferred edits"))
A3: C-002 | B3: IFBI | C3: 46198 | D3: Public | E3: Online public comment | F3: First-read draft | G3: Whole policy | H3: Asks for rules on student use of AI and academic dishonesty. | I3: Move to the regulation | J3: Permitted and prohibited student uses go in the student regulation. | K3: Legal Affairs | L3: 46198 | M3: =IF(OR(B3="",I3=""),"",IFERROR(INDEX('Comment flow'!$C$40:$C$46,MATCH(I3,'Comment flow'!$A$40:$A$46,0)),"")) -> The regulation draft for that policy | N3: =IF(B3="","",IF(OR(I3="",I3="Open: needs a decision",L3=""),"Open","Closed")) -> Closed | O3: Public record: Jun 25 committee | P3: =IF(OR(B3="",I3<>"Save for a later revision"),"",IF(COUNTIF('Deferred edits'!$K$2:$K$201,A3)>0,"Yes","● Add to Deferred edits"))
A4: C-003 | B4: LDAJ | C4: 46244 | D4: Public | E4: Online public comment | F4: First-read draft | G4: Whole policy | H4: Asks that the district not contract with third parties that share parent information with federal law enforcement, and that visitor check-in not discourage parent volunteers. | I4: Answered, no change | J4: A legal question; the policy doesn't conflict with it, and FERPA governs release of records. | K4: Legal Affairs | L4: 46260 | M4: =IF(OR(B4="",I4=""),"",IFERROR(INDEX('Comment flow'!$C$40:$C$46,MATCH(I4,'Comment flow'!$A$40:$A$46,0)),"")) -> Response recorded in the log | N4: =IF(B4="","",IF(OR(I4="",I4="Open: needs a decision",L4=""),"Open","Closed")) -> Closed | O4: Public record: Aug 26 committee | P4: =IF(OR(B4="",I4<>"Save for a later revision"),"",IF(COUNTIF('Deferred edits'!$K$2:$K$201,A4)>0,"Yes","● Add to Deferred edits"))
A5: C-004 | B5: BC reg | C5: 46260 | D5: Board member | E5: Email | F5: Second-read draft of BC | G5: Meeting agenda | H5: Asks for meeting materials five business days ahead, dated notice of late additions, and deferral of major items with late documents. | I5: Move to the regulation | J5: Logged for the BC regulation amendment; the policy moved forward. | K5: Legal Affairs | L5: 46260 | M5: =IF(OR(B5="",I5=""),"",IFERROR(INDEX('Comment flow'!$C$40:$C$46,MATCH(I5,'Comment flow'!$A$40:$A$46,0)),"")) -> The regulation draft for that policy | N5: =IF(B5="","",IF(OR(I5="",I5="Open: needs a decision",L5=""),"Open","Closed")) -> Closed | O5: Public record: Aug 26 committee | P5: =IF(OR(B5="",I5<>"Save for a later revision"),"",IF(COUNTIF('Deferred edits'!$K$2:$K$201,A5)>0,"Yes","● Add to Deferred edits"))
A6: C-005 | B6: BA | C6: 46273 | D6: Public | E6: Online public comment | F6: Second-read draft | G6: Data monitoring and transparency | H6: Asks to keep annual measurable goals and public reporting of progress. | I6: Move to the regulation | J6: The deleted sentence on publicly reporting disaggregated data is logged for the BA regulation. | K6: Access and Opportunity | L6: 46289 | M6: =IF(OR(B6="",I6=""),"",IFERROR(INDEX('Comment flow'!$C$40:$C$46,MATCH(I6,'Comment flow'!$A$40:$A$46,0)),"")) -> The regulation draft for that policy | N6: =IF(B6="","",IF(OR(I6="",I6="Open: needs a decision",L6=""),"Open","Closed")) -> Closed | O6: Public record: Sep 24 committee | P6: =IF(OR(B6="",I6<>"Save for a later revision"),"",IF(COUNTIF('Deferred edits'!$K$2:$K$201,A6)>0,"Yes","● Add to Deferred edits"))
A7: C-006 | B7: BA | C7: 46288 | D7: Public | E7: Online public comment | F7: Second-read draft | G7: Whole policy | H7: Supports the policy. | I7: Noted | J7: Logged. | K7: Access and Opportunity | L7: 46289 | M7: =IF(OR(B7="",I7=""),"",IFERROR(INDEX('Comment flow'!$C$40:$C$46,MATCH(I7,'Comment flow'!$A$40:$A$46,0)),"")) -> Counted in the log | N7: =IF(B7="","",IF(OR(I7="",I7="Open: needs a decision",L7=""),"Open","Closed")) -> Closed | O7: Public record: Sep 24 committee | P7: =IF(OR(B7="",I7<>"Save for a later revision"),"",IF(COUNTIF('Deferred edits'!$K$2:$K$201,A7)>0,"Yes","● Add to Deferred edits"))
A8: C-007 | B8: BA | C8: 46289 | D8: Board member | E8: Said at committee meeting | F8: Second-read draft | G8: Whole policy | H8: Combine BA, JAA and GAAA into one policy instead of three. | I8: Open: needs a decision | J8: Committee kept them separate on Sep 24; the board raised it again on Oct 5. | K8: Committee | M8: =IF(OR(B8="",I8=""),"",IFERROR(INDEX('Comment flow'!$C$40:$C$46,MATCH(I8,'Comment flow'!$A$40:$A$46,0)),"")) -> The next committee agenda | N8: =IF(B8="","",IF(OR(I8="",I8="Open: needs a decision",L8=""),"Open","Closed")) -> Open | O8: Public record: Sep 24 committee; Oct 5 board | P8: =IF(OR(B8="",I8<>"Save for a later revision"),"",IF(COUNTIF('Deferred edits'!$K$2:$K$201,A8)>0,"Yes","● Add to Deferred edits"))
A9: C-008 | B9: KEB | C9: 46295 | D9: Board member | E9: Word comment in draft | F9: Second-read draft | G9: Solicitations/Donations | H9: Is calling the Foundation an arm of the district accurate if it is an independent 501(c)(3)? | I9: Change the policy | J9: Reword: the Foundation implements philanthropic and strategic initiatives; add a sentence that it is an independent 501(c)(3) with its own board. | K9: Legal Affairs | L9: 46296 | M9: =IF(OR(B9="",I9=""),"",IFERROR(INDEX('Comment flow'!$C$40:$C$46,MATCH(I9,'Comment flow'!$A$40:$A$46,0)),"")) -> The next draft version (Versions tab) | N9: =IF(B9="","",IF(OR(I9="",I9="Open: needs a decision",L9=""),"Open","Closed")) -> Closed | O9: Public record: Oct 1 committee | P9: =IF(OR(B9="",I9<>"Save for a later revision"),"",IF(COUNTIF('Deferred edits'!$K$2:$K$201,A9)>0,"Yes","● Add to Deferred edits"))
A10: C-009 | B10: KEB | C10: 46296 | D10: Public | E10: Online public comment | F10: Second-read draft | G10: Solicitations/Donations | H10: The policy should make clear the Foundation is a separate entity. | I10: Change the policy | J10: Same change as the board member's comment above. | K10: Legal Affairs | L10: 46296 | M10: =IF(OR(B10="",I10=""),"",IFERROR(INDEX('Comment flow'!$C$40:$C$46,MATCH(I10,'Comment flow'!$A$40:$A$46,0)),"")) -> The next draft version (Versions tab) | N10: =IF(B10="","",IF(OR(I10="",I10="Open: needs a decision",L10=""),"Open","Closed")) -> Closed | O10: Public record: Oct 1 committee | P10: =IF(OR(B10="",I10<>"Save for a later revision"),"",IF(COUNTIF('Deferred edits'!$K$2:$K$201,A10)>0,"Yes","● Add to Deferred edits"))
A11: C-010 | B11: KEB | C11: 46295 | D11: Board member | E11: Word comment in draft | F11: Second-read draft | G11: Scope | H11: The scope belongs at the top; the policy reads out of order. | I11: Change the policy | J11: Move scope near the top and regroup the sections. | K11: Legal Affairs | L11: 46296 | M11: =IF(OR(B11="",I11=""),"",IFERROR(INDEX('Comment flow'!$C$40:$C$46,MATCH(I11,'Comment flow'!$A$40:$A$46,0)),"")) -> The next draft version (Versions tab) | N11: =IF(B11="","",IF(OR(I11="",I11="Open: needs a decision",L11=""),"Open","Closed")) -> Closed | O11: Public record: Oct 1 committee | P11: =IF(OR(B11="",I11<>"Save for a later revision"),"",IF(COUNTIF('Deferred edits'!$K$2:$K$201,A11)>0,"Yes","● Add to Deferred edits"))
A12: C-011 | B12: KEB | C12: 46295 | D12: Board member | E12: Word comment in draft | F12: Second-read draft | G12: Solicitations/Donations | H12: What does it mean that the superintendent maintains the Foundation's procedures? | I12: Change the policy | J12: Clarify that the district keeps its own procedures and the Foundation board keeps its own; any detail goes in the regulation. | K12: Legal Affairs | L12: 46296 | M12: =IF(OR(B12="",I12=""),"",IFERROR(INDEX('Comment flow'!$C$40:$C$46,MATCH(I12,'Comment flow'!$A$40:$A$46,0)),"")) -> The next draft version (Versions tab) | N12: =IF(B12="","",IF(OR(I12="",I12="Open: needs a decision",L12=""),"Open","Closed")) -> Closed | O12: Public record: Oct 1 committee | P12: =IF(OR(B12="",I12<>"Save for a later revision"),"",IF(COUNTIF('Deferred edits'!$K$2:$K$201,A12)>0,"Yes","● Add to Deferred edits"))
A13: C-012 | B13: KEB | C13: 46296 | D13: Staff | E13: Said at committee meeting | F13: Second-read draft | G13: Solicitations/Donations | H13: The donor-influence sentence fits Policy DFK better than KEB. | I13: Save for a later revision | J13: Keep it in KEB for now, rewritten as shorter sentences; move it to DFK at DFK's next revision (D-001). | K13: Legal Affairs | L13: 46296 | M13: =IF(OR(B13="",I13=""),"",IFERROR(INDEX('Comment flow'!$C$40:$C$46,MATCH(I13,'Comment flow'!$A$40:$A$46,0)),"")) -> Deferred edits tab; flagged when that policy reopens | N13: =IF(B13="","",IF(OR(I13="",I13="Open: needs a decision",L13=""),"Open","Closed")) -> Closed | O13: Public record: Oct 1 committee | P13: =IF(OR(B13="",I13<>"Save for a later revision"),"",IF(COUNTIF('Deferred edits'!$K$2:$K$201,A13)>0,"Yes","● Add to Deferred edits")) -> Yes
A14: C-013 | B14: KEB | C14: 46296 | D14: Public | E14: Online public comment | F14: Second-read draft | G14: Whole policy | H14: Strengthen transparency and accountability requirements for PTAs, PTSAs and booster clubs. | I14: Move to the regulation | J14: Belongs in the LE regulations on support organizations; a booster club regulation is in review. | K14: Legal Affairs | L14: 46296 | M14: =IF(OR(B14="",I14=""),"",IFERROR(INDEX('Comment flow'!$C$40:$C$46,MATCH(I14,'Comment flow'!$A$40:$A$46,0)),"")) -> The regulation draft for that policy | N14: =IF(B14="","",IF(OR(I14="",I14="Open: needs a decision",L14=""),"Open","Closed")) -> Closed | O14: Public record: Oct 1 committee | P14: =IF(OR(B14="",I14<>"Save for a later revision"),"",IF(COUNTIF('Deferred edits'!$K$2:$K$201,A14)>0,"Yes","● Add to Deferred edits"))
A15: C-014 | B15: KEB | C15: 46296 | D15: Board member | E15: Said at committee meeting | F15: Second-read draft | G15: Solicitations/Donations | H15: 'Equitable educational opportunities for students across the district' may not fit fundraising for one school. | I15: Change the policy | J15: Reword to allow district-wide or school-level efforts. | K15: Legal Affairs | L15: 46296 | M15: =IF(OR(B15="",I15=""),"",IFERROR(INDEX('Comment flow'!$C$40:$C$46,MATCH(I15,'Comment flow'!$A$40:$A$46,0)),"")) -> The next draft version (Versions tab) | N15: =IF(B15="","",IF(OR(I15="",I15="Open: needs a decision",L15=""),"Open","Closed")) -> Closed | O15: Public record: Oct 1 committee | P15: =IF(OR(B15="",I15<>"Save for a later revision"),"",IF(COUNTIF('Deferred edits'!$K$2:$K$201,A15)>0,"Yes","● Add to Deferred edits"))
A16: C-015 | B16: BA | C16: 46300 | D16: Board member | E16: Said at board meeting | F16: Action packet | G16: Title | H16: The title 'Goals and Objectives' doesn't describe the policy; revisit the name and placement. | I16: Open: needs a decision | J16: Returned to committee. | K16: Committee | M16: =IF(OR(B16="",I16=""),"",IFERROR(INDEX('Comment flow'!$C$40:$C$46,MATCH(I16,'Comment flow'!$A$40:$A$46,0)),"")) -> The next committee agenda | N16: =IF(B16="","",IF(OR(I16="",I16="Open: needs a decision",L16=""),"Open","Closed")) -> Open | O16: Public record: Oct 5 board meeting | P16: =IF(OR(B16="",I16<>"Save for a later revision"),"",IF(COUNTIF('Deferred edits'!$K$2:$K$201,A16)>0,"Yes","● Add to Deferred edits"))
A17: C-016 | B17: BA | C17: 46300 | D17: Board member | E17: Said at board meeting | F17: Action packet | G17: Whole policy | H17: Plan how it will be carried out before adopting it. | I17: Open: needs a decision | J17: Returned to committee. | K17: Committee | M17: =IF(OR(B17="",I17=""),"",IFERROR(INDEX('Comment flow'!$C$40:$C$46,MATCH(I17,'Comment flow'!$A$40:$A$46,0)),"")) -> The next committee agenda | N17: =IF(B17="","",IF(OR(I17="",I17="Open: needs a decision",L17=""),"Open","Closed")) -> Open | O17: Public record: Oct 5 board meeting | P17: =IF(OR(B17="",I17<>"Save for a later revision"),"",IF(COUNTIF('Deferred edits'!$K$2:$K$201,A17)>0,"Yes","● Add to Deferred edits"))
A18: C-017 | B18: BA | C18: 46300 | D18: Board member | E18: Said at board meeting | F18: Action packet | G18: Whole policy | H18: Share draft regulations with the policy before the vote. | I18: Open: needs a decision | J18: Staff will share the draft BA regulation before the committee meets. | K18: Committee | M18: =IF(OR(B18="",I18=""),"",IFERROR(INDEX('Comment flow'!$C$40:$C$46,MATCH(I18,'Comment flow'!$A$40:$A$46,0)),"")) -> The next committee agenda | N18: =IF(B18="","",IF(OR(I18="",I18="Open: needs a decision",L18=""),"Open","Closed")) -> Open | O18: Public record: Oct 5 board meeting | P18: =IF(OR(B18="",I18<>"Save for a later revision"),"",IF(COUNTIF('Deferred edits'!$K$2:$K$201,A18)>0,"Yes","● Add to Deferred edits"))
A19: C-018 | B19: JAA | C19: 46300 | D19: Board member | E19: Said at board meeting | F19: Action packet | G19: Whole policy | H19: Pulled from action with BA; consider combining with BA and GAAA. | I19: Open: needs a decision | J19: Returned to committee. | K19: Committee | M19: =IF(OR(B19="",I19=""),"",IFERROR(INDEX('Comment flow'!$C$40:$C$46,MATCH(I19,'Comment flow'!$A$40:$A$46,0)),"")) -> The next committee agenda | N19: =IF(B19="","",IF(OR(I19="",I19="Open: needs a decision",L19=""),"Open","Closed")) -> Open | O19: Public record: Oct 5 board meeting | P19: =IF(OR(B19="",I19<>"Save for a later revision"),"",IF(COUNTIF('Deferred edits'!$K$2:$K$201,A19)>0,"Yes","● Add to Deferred edits"))
A20: C-019 | M20: =IF(OR(B20="",I20=""),"",IFERROR(INDEX('Comment flow'!$C$40:$C$46,MATCH(I20,'Comment flow'!$A$40:$A$46,0)),"")) | N20: =IF(B20="","",IF(OR(I20="",I20="Open: needs a decision",L20=""),"Open","Closed")) | P20: =IF(OR(B20="",I20<>"Save for a later revision"),"",IF(COUNTIF('Deferred edits'!$K$2:$K$201,A20)>0,"Yes","● Add to Deferred edits"))
A21: C-020 | M21: =IF(OR(B21="",I21=""),"",IFERROR(INDEX('Comment flow'!$C$40:$C$46,MATCH(I21,'Comment flow'!$A$40:$A$46,0)),"")) | N21: =IF(B21="","",IF(OR(I21="",I21="Open: needs a decision",L21=""),"Open","Closed")) | P21: =IF(OR(B21="",I21<>"Save for a later revision"),"",IF(COUNTIF('Deferred edits'!$K$2:$K$201,A21)>0,"Yes","● Add to Deferred edits"))
A22: C-021 | M22: =IF(OR(B22="",I22=""),"",IFERROR(INDEX('Comment flow'!$C$40:$C$46,MATCH(I22,'Comment flow'!$A$40:$A$46,0)),"")) | N22: =IF(B22="","",IF(OR(I22="",I22="Open: needs a decision",L22=""),"Open","Closed")) | P22: =IF(OR(B22="",I22<>"Save for a later revision"),"",IF(COUNTIF('Deferred edits'!$K$2:$K$201,A22)>0,"Yes","● Add to Deferred edits"))
A23: C-022 | M23: =IF(OR(B23="",I23=""),"",IFERROR(INDEX('Comment flow'!$C$40:$C$46,MATCH(I23,'Comment flow'!$A$40:$A$46,0)),"")) | N23: =IF(B23="","",IF(OR(I23="",I23="Open: needs a decision",L23=""),"Open","Closed")) | P23: =IF(OR(B23="",I23<>"Save for a later revision"),"",IF(COUNTIF('Deferred edits'!$K$2:$K$201,A23)>0,"Yes","● Add to Deferred edits"))
A24: C-023 | M24: =IF(OR(B24="",I24=""),"",IFERROR(INDEX('Comment flow'!$C$40:$C$46,MATCH(I24,'Comment flow'!$A$40:$A$46,0)),"")) | N24: =IF(B24="","",IF(OR(I24="",I24="Open: needs a decision",L24=""),"Open","Closed")) | P24: =IF(OR(B24="",I24<>"Save for a later revision"),"",IF(COUNTIF('Deferred edits'!$K$2:$K$201,A24)>0,"Yes","● Add to Deferred edits"))
A25: C-024 | M25: =IF(OR(B25="",I25=""),"",IFERROR(INDEX('Comment flow'!$C$40:$C$46,MATCH(I25,'Comment flow'!$A$40:$A$46,0)),"")) | N25: =IF(B25="","",IF(OR(I25="",I25="Open: needs a decision",L25=""),"Open","Closed")) | P25: =IF(OR(B25="",I25<>"Save for a later revision"),"",IF(COUNTIF('Deferred edits'!$K$2:$K$201,A25)>0,"Yes","● Add to Deferred edits"))
A26: C-025 | M26: =IF(OR(B26="",I26=""),"",IFERROR(INDEX('Comment flow'!$C$40:$C$46,MATCH(I26,'Comment flow'!$A$40:$A$46,0)),"")) | N26: =IF(B26="","",IF(OR(I26="",I26="Open: needs a decision",L26=""),"Open","Closed")) | P26: =IF(OR(B26="",I26<>"Save for a later revision"),"",IF(COUNTIF('Deferred edits'!$K$2:$K$201,A26)>0,"Yes","● Add to Deferred edits"))
A27: C-026 | M27: =IF(OR(B27="",I27=""),"",IFERROR(INDEX('Comment flow'!$C$40:$C$46,MATCH(I27,'Comment flow'!$A$40:$A$46,0)),"")) | N27: =IF(B27="","",IF(OR(I27="",I27="Open: needs a decision",L27=""),"Open","Closed")) | P27: =IF(OR(B27="",I27<>"Save for a later revision"),"",IF(COUNTIF('Deferred edits'!$K$2:$K$201,A27)>0,"Yes","● Add to Deferred edits"))
A28: C-027 | M28: =IF(OR(B28="",I28=""),"",IFERROR(INDEX('Comment flow'!$C$40:$C$46,MATCH(I28,'Comment flow'!$A$40:$A$46,0)),"")) | N28: =IF(B28="","",IF(OR(I28="",I28="Open: needs a decision",L28=""),"Open","Closed")) | P28: =IF(OR(B28="",I28<>"Save for a later revision"),"",IF(COUNTIF('Deferred edits'!$K$2:$K$201,A28)>0,"Yes","● Add to Deferred edits"))
A29: C-028 | M29: =IF(OR(B29="",I29=""),"",IFERROR(INDEX('Comment flow'!$C$40:$C$46,MATCH(I29,'Comment flow'!$A$40:$A$46,0)),"")) | N29: =IF(B29="","",IF(OR(I29="",I29="Open: needs a decision",L29=""),"Open","Closed")) | P29: =IF(OR(B29="",I29<>"Save for a later revision"),"",IF(COUNTIF('Deferred edits'!$K$2:$K$201,A29)>0,"Yes","● Add to Deferred edits"))
A30: C-029 | M30: =IF(OR(B30="",I30=""),"",IFERROR(INDEX('Comment flow'!$C$40:$C$46,MATCH(I30,'Comment flow'!$A$40:$A$46,0)),"")) | N30: =IF(B30="","",IF(OR(I30="",I30="Open: needs a decision",L30=""),"Open","Closed")) | P30: =IF(OR(B30="",I30<>"Save for a later revision"),"",IF(COUNTIF('Deferred edits'!$K$2:$K$201,A30)>0,"Yes","● Add to Deferred edits"))
A31: C-030 | M31: =IF(OR(B31="",I31=""),"",IFERROR(INDEX('Comment flow'!$C$40:$C$46,MATCH(I31,'Comment flow'!$A$40:$A$46,0)),"")) | N31: =IF(B31="","",IF(OR(I31="",I31="Open: needs a decision",L31=""),"Open","Closed")) | P31: =IF(OR(B31="",I31<>"Save for a later revision"),"",IF(COUNTIF('Deferred edits'!$K$2:$K$201,A31)>0,"Yes","● Add to Deferred edits"))
... A2001: C-2000 | M2001: =IF(OR(B2001="",I2001=""),"",IFERROR(INDEX('Comment flow'!$C$40:$C$46,MATCH(I2001,'Comment flow'!$A$40:$A$46,0)),"")) | N2001: =IF(B2001="","",IF(OR(I2001="",I2001="Open: needs a decision",L2001=""),"Open","Closed")) | P2001: =IF(OR(B2001="",I2001<>"Save for a later revision"),"",IF(COUNTIF('Deferred edits'!$K$2:$K$201,A2001)>0,"Yes","● Add to Deferred edits"))

Sheet Versions
A1: version_id | B1: code | C1: version_no | D1: version_date | E1: purpose | F1: home | G1: link | H1: frozen | I1: what_changed | J1: edits_in | K1: related_checked | L1: dates_checked | M1: official | N1: packet_check | O1: in_shared_space | P1: source
A2: V-001 | B2: BA | C2: =IF(OR(B2="",D2=""),0,COUNTIFS($B$2:$B$501,B2,$D$2:$D$501,"<"&D2)+COUNTIFS($B$2:$B$501,B2,$D$2:$D$501,D2,$A$2:$A$501,"<"&A2)+1) -> 1 | D2: 46300 | E2: Posted: action packet | F2: Simbli | G2: Open | H2: Yes | I2: As posted in Simbli for the board meeting. | J2: Yes | K2: Yes | L2: Yes | M2: =IF(B2="","",IF(H2<>"Yes","No",IF(C2=SUMPRODUCT(MAX(($B$2:$B$501=B2)*($H$2:$H$501="Yes")*$C$2:$C$501)),"Yes","No"))) -> Yes | N2: =IF(B2="","",IF(H2<>"Yes","Not frozen",IF(AND(J2="Yes",K2="Yes",L2="Yes"),"Complete","Incomplete"))) -> Complete | O2: =IF(B2="","",IF(OR(F2="Simbli",F2="Shared folder"),"Yes","No")) -> Yes | P2: Simbli link; packet checks illustrative
A3: V-002 | B3: BA | C3: =IF(OR(B3="",D3=""),0,COUNTIFS($B$2:$B$501,B3,$D$2:$D$501,"<"&D3)+COUNTIFS($B$2:$B$501,B3,$D$2:$D$501,D3,$A$2:$A$501,"<"&A3)+1) -> 2 | D3: 46307 | E3: Working draft for Oct 28 committee | F3: Shared folder | H3: No | I3: Title and placement, implementation plan, draft regulation attached (Oct 5 board requests). | M3: =IF(B3="","",IF(H3<>"Yes","No",IF(C3=SUMPRODUCT(MAX(($B$2:$B$501=B3)*($H$2:$H$501="Yes")*$C$2:$C$501)),"Yes","No"))) -> No | N3: =IF(B3="","",IF(H3<>"Yes","Not frozen",IF(AND(J3="Yes",K3="Yes",L3="Yes"),"Complete","Incomplete"))) -> Not frozen | O3: =IF(B3="","",IF(OR(F3="Simbli",F3="Shared folder"),"Yes","No")) -> Yes | P3: Illustrative: how the next version is tracked
A4: V-003 | B4: JAA | C4: =IF(OR(B4="",D4=""),0,COUNTIFS($B$2:$B$501,B4,$D$2:$D$501,"<"&D4)+COUNTIFS($B$2:$B$501,B4,$D$2:$D$501,D4,$A$2:$A$501,"<"&A4)+1) -> 1 | D4: 46300 | E4: Posted: action packet | F4: Simbli | G4: Open | H4: Yes | I4: As posted in Simbli for the board meeting. | J4: Yes | K4: Yes | L4: Yes | M4: =IF(B4="","",IF(H4<>"Yes","No",IF(C4=SUMPRODUCT(MAX(($B$2:$B$501=B4)*($H$2:$H$501="Yes")*$C$2:$C$501)),"Yes","No"))) -> Yes | N4: =IF(B4="","",IF(H4<>"Yes","Not frozen",IF(AND(J4="Yes",K4="Yes",L4="Yes"),"Complete","Incomplete"))) -> Complete | O4: =IF(B4="","",IF(OR(F4="Simbli",F4="Shared folder"),"Yes","No")) -> Yes | P4: Simbli link; packet checks illustrative
A5: V-004 | B5: JAA | C5: =IF(OR(B5="",D5=""),0,COUNTIFS($B$2:$B$501,B5,$D$2:$D$501,"<"&D5)+COUNTIFS($B$2:$B$501,B5,$D$2:$D$501,D5,$A$2:$A$501,"<"&A5)+1) -> 2 | D5: 46307 | E5: Working draft for Oct 28 committee | F5: Shared folder | H5: No | I5: Revisited with BA; combination question for the committee. | M5: =IF(B5="","",IF(H5<>"Yes","No",IF(C5=SUMPRODUCT(MAX(($B$2:$B$501=B5)*($H$2:$H$501="Yes")*$C$2:$C$501)),"Yes","No"))) -> No | N5: =IF(B5="","",IF(H5<>"Yes","Not frozen",IF(AND(J5="Yes",K5="Yes",L5="Yes"),"Complete","Incomplete"))) -> Not frozen | O5: =IF(B5="","",IF(OR(F5="Simbli",F5="Shared folder"),"Yes","No")) -> Yes | P5: Illustrative: how the next version is tracked
A6: V-005 | B6: KEB | C6: =IF(OR(B6="",D6=""),0,COUNTIFS($B$2:$B$501,B6,$D$2:$D$501,"<"&D6)+COUNTIFS($B$2:$B$501,B6,$D$2:$D$501,D6,$A$2:$A$501,"<"&A6)+1) -> 1 | D6: 46300 | E6: Posted: second reading | F6: Simbli | G6: Open | H6: Yes | I6: As posted in Simbli for the board meeting. | J6: Yes | K6: Yes | L6: Yes | M6: =IF(B6="","",IF(H6<>"Yes","No",IF(C6=SUMPRODUCT(MAX(($B$2:$B$501=B6)*($H$2:$H$501="Yes")*$C$2:$C$501)),"Yes","No"))) -> Yes | N6: =IF(B6="","",IF(H6<>"Yes","Not frozen",IF(AND(J6="Yes",K6="Yes",L6="Yes"),"Complete","Incomplete"))) -> Complete | O6: =IF(B6="","",IF(OR(F6="Simbli",F6="Shared folder"),"Yes","No")) -> Yes | P6: Simbli link; packet checks illustrative
A7: V-006 | B7: KEB | C7: =IF(OR(B7="",D7=""),0,COUNTIFS($B$2:$B$501,B7,$D$2:$D$501,"<"&D7)+COUNTIFS($B$2:$B$501,B7,$D$2:$D$501,D7,$A$2:$A$501,"<"&A7)+1) -> 2 | D7: 46307 | E7: Working draft for Oct 28 committee | F7: Shared folder | H7: No | I7: Oct 1 edits: Foundation sentence and 501(c)(3), scope moved up, sections regrouped, procedures sentence clarified, wording for school-level fundraising. | M7: =IF(B7="","",IF(H7<>"Yes","No",IF(C7=SUMPRODUCT(MAX(($B$2:$B$501=B7)*($H$2:$H$501="Yes")*$C$2:$C$501)),"Yes","No"))) -> No | N7: =IF(B7="","",IF(H7<>"Yes","Not frozen",IF(AND(J7="Yes",K7="Yes",L7="Yes"),"Complete","Incomplete"))) -> Not frozen | O7: =IF(B7="","",IF(OR(F7="Simbli",F7="Shared folder"),"Yes","No")) -> Yes | P7: Illustrative: how the next version is tracked
A8: V-007 | B8: BBBE | C8: =IF(OR(B8="",D8=""),0,COUNTIFS($B$2:$B$501,B8,$D$2:$D$501,"<"&D8)+COUNTIFS($B$2:$B$501,B8,$D$2:$D$501,D8,$A$2:$A$501,"<"&A8)+1) -> 1 | D8: 46300 | E8: Posted: first reading | F8: Simbli | G8: Open | H8: Yes | I8: As posted in Simbli for the board meeting. | J8: Yes | K8: Yes | L8: Yes | M8: =IF(B8="","",IF(H8<>"Yes","No",IF(C8=SUMPRODUCT(MAX(($B$2:$B$501=B8)*($H$2:$H$501="Yes")*$C$2:$C$501)),"Yes","No"))) -> Yes | N8: =IF(B8="","",IF(H8<>"Yes","Not frozen",IF(AND(J8="Yes",K8="Yes",L8="Yes"),"Complete","Incomplete"))) -> Complete | O8: =IF(B8="","",IF(OR(F8="Simbli",F8="Shared folder"),"Yes","No")) -> Yes | P8: Simbli link; packet checks illustrative
A9: V-008 | B9: IFBI | C9: =IF(OR(B9="",D9=""),0,COUNTIFS($B$2:$B$501,B9,$D$2:$D$501,"<"&D9)+COUNTIFS($B$2:$B$501,B9,$D$2:$D$501,D9,$A$2:$A$501,"<"&A9)+1) -> 1 | D9: 46300 | E9: Posted: second reading | F9: Simbli | G9: Open | H9: Yes | I9: As posted in Simbli for the board meeting. | J9: Yes | K9: Yes | L9: Yes | M9: =IF(B9="","",IF(H9<>"Yes","No",IF(C9=SUMPRODUCT(MAX(($B$2:$B$501=B9)*($H$2:$H$501="Yes")*$C$2:$C$501)),"Yes","No"))) -> Yes | N9: =IF(B9="","",IF(H9<>"Yes","Not frozen",IF(AND(J9="Yes",K9="Yes",L9="Yes"),"Complete","Incomplete"))) -> Complete | O9: =IF(B9="","",IF(OR(F9="Simbli",F9="Shared folder"),"Yes","No")) -> Yes | P9: Simbli link; packet checks illustrative
A10: V-009 | B10: IFBI | C10: =IF(OR(B10="",D10=""),0,COUNTIFS($B$2:$B$501,B10,$D$2:$D$501,"<"&D10)+COUNTIFS($B$2:$B$501,B10,$D$2:$D$501,D10,$A$2:$A$501,"<"&A10)+1) -> 2 | D10: 46307 | E10: Working draft for Oct 28 committee | F10: Shared folder | H10: No | I10: Staff workshop edits, reviewed with IFBG. | M10: =IF(B10="","",IF(H10<>"Yes","No",IF(C10=SUMPRODUCT(MAX(($B$2:$B$501=B10)*($H$2:$H$501="Yes")*$C$2:$C$501)),"Yes","No"))) -> No | N10: =IF(B10="","",IF(H10<>"Yes","Not frozen",IF(AND(J10="Yes",K10="Yes",L10="Yes"),"Complete","Incomplete"))) -> Not frozen | O10: =IF(B10="","",IF(OR(F10="Simbli",F10="Shared folder"),"Yes","No")) -> Yes | P10: Illustrative: how the next version is tracked
A11: V-010 | B11: IFBG | C11: =IF(OR(B11="",D11=""),0,COUNTIFS($B$2:$B$501,B11,$D$2:$D$501,"<"&D11)+COUNTIFS($B$2:$B$501,B11,$D$2:$D$501,D11,$A$2:$A$501,"<"&A11)+1) -> 1 | D11: 46300 | E11: Posted: second reading | F11: Simbli | G11: Open | H11: Yes | I11: As posted in Simbli for the board meeting. | J11: Yes | K11: Yes | L11: Yes | M11: =IF(B11="","",IF(H11<>"Yes","No",IF(C11=SUMPRODUCT(MAX(($B$2:$B$501=B11)*($H$2:$H$501="Yes")*$C$2:$C$501)),"Yes","No"))) -> Yes | N11: =IF(B11="","",IF(H11<>"Yes","Not frozen",IF(AND(J11="Yes",K11="Yes",L11="Yes"),"Complete","Incomplete"))) -> Complete | O11: =IF(B11="","",IF(OR(F11="Simbli",F11="Shared folder"),"Yes","No")) -> Yes | P11: Simbli link; packet checks illustrative
A12: V-011 | B12: IFBG | C12: =IF(OR(B12="",D12=""),0,COUNTIFS($B$2:$B$501,B12,$D$2:$D$501,"<"&D12)+COUNTIFS($B$2:$B$501,B12,$D$2:$D$501,D12,$A$2:$A$501,"<"&A12)+1) -> 2 | D12: 46307 | E12: Working draft for Oct 28 committee | F12: Shared folder | H12: No | I12: Staff workshop edits, reviewed with IFBI; cross-reference to IFBI. | M12: =IF(B12="","",IF(H12<>"Yes","No",IF(C12=SUMPRODUCT(MAX(($B$2:$B$501=B12)*($H$2:$H$501="Yes")*$C$2:$C$501)),"Yes","No"))) -> No | N12: =IF(B12="","",IF(H12<>"Yes","Not frozen",IF(AND(J12="Yes",K12="Yes",L12="Yes"),"Complete","Incomplete"))) -> Not frozen | O12: =IF(B12="","",IF(OR(F12="Simbli",F12="Shared folder"),"Yes","No")) -> Yes | P12: Illustrative: how the next version is tracked
A13: V-012 | C13: =IF(OR(B13="",D13=""),0,COUNTIFS($B$2:$B$501,B13,$D$2:$D$501,"<"&D13)+COUNTIFS($B$2:$B$501,B13,$D$2:$D$501,D13,$A$2:$A$501,"<"&A13)+1) -> 0 | M13: =IF(B13="","",IF(H13<>"Yes","No",IF(C13=SUMPRODUCT(MAX(($B$2:$B$501=B13)*($H$2:$H$501="Yes")*$C$2:$C$501)),"Yes","No"))) | N13: =IF(B13="","",IF(H13<>"Yes","Not frozen",IF(AND(J13="Yes",K13="Yes",L13="Yes"),"Complete","Incomplete"))) | O13: =IF(B13="","",IF(OR(F13="Simbli",F13="Shared folder"),"Yes","No"))
A14: V-013 | C14: =IF(OR(B14="",D14=""),0,COUNTIFS($B$2:$B$501,B14,$D$2:$D$501,"<"&D14)+COUNTIFS($B$2:$B$501,B14,$D$2:$D$501,D14,$A$2:$A$501,"<"&A14)+1) -> 0 | M14: =IF(B14="","",IF(H14<>"Yes","No",IF(C14=SUMPRODUCT(MAX(($B$2:$B$501=B14)*($H$2:$H$501="Yes")*$C$2:$C$501)),"Yes","No"))) | N14: =IF(B14="","",IF(H14<>"Yes","Not frozen",IF(AND(J14="Yes",K14="Yes",L14="Yes"),"Complete","Incomplete"))) | O14: =IF(B14="","",IF(OR(F14="Simbli",F14="Shared folder"),"Yes","No"))
A15: V-014 | C15: =IF(OR(B15="",D15=""),0,COUNTIFS($B$2:$B$501,B15,$D$2:$D$501,"<"&D15)+COUNTIFS($B$2:$B$501,B15,$D$2:$D$501,D15,$A$2:$A$501,"<"&A15)+1) -> 0 | M15: =IF(B15="","",IF(H15<>"Yes","No",IF(C15=SUMPRODUCT(MAX(($B$2:$B$501=B15)*($H$2:$H$501="Yes")*$C$2:$C$501)),"Yes","No"))) | N15: =IF(B15="","",IF(H15<>"Yes","Not frozen",IF(AND(J15="Yes",K15="Yes",L15="Yes"),"Complete","Incomplete"))) | O15: =IF(B15="","",IF(OR(F15="Simbli",F15="Shared folder"),"Yes","No"))
A16: V-015 | C16: =IF(OR(B16="",D16=""),0,COUNTIFS($B$2:$B$501,B16,$D$2:$D$501,"<"&D16)+COUNTIFS($B$2:$B$501,B16,$D$2:$D$501,D16,$A$2:$A$501,"<"&A16)+1) -> 0 | M16: =IF(B16="","",IF(H16<>"Yes","No",IF(C16=SUMPRODUCT(MAX(($B$2:$B$501=B16)*($H$2:$H$501="Yes")*$C$2:$C$501)),"Yes","No"))) | N16: =IF(B16="","",IF(H16<>"Yes","Not frozen",IF(AND(J16="Yes",K16="Yes",L16="Yes"),"Complete","Incomplete"))) | O16: =IF(B16="","",IF(OR(F16="Simbli",F16="Shared folder"),"Yes","No"))
A17: V-016 | C17: =IF(OR(B17="",D17=""),0,COUNTIFS($B$2:$B$501,B17,$D$2:$D$501,"<"&D17)+COUNTIFS($B$2:$B$501,B17,$D$2:$D$501,D17,$A$2:$A$501,"<"&A17)+1) -> 0 | M17: =IF(B17="","",IF(H17<>"Yes","No",IF(C17=SUMPRODUCT(MAX(($B$2:$B$501=B17)*($H$2:$H$501="Yes")*$C$2:$C$501)),"Yes","No"))) | N17: =IF(B17="","",IF(H17<>"Yes","Not frozen",IF(AND(J17="Yes",K17="Yes",L17="Yes"),"Complete","Incomplete"))) | O17: =IF(B17="","",IF(OR(F17="Simbli",F17="Shared folder"),"Yes","No"))
A18: V-017 | C18: =IF(OR(B18="",D18=""),0,COUNTIFS($B$2:$B$501,B18,$D$2:$D$501,"<"&D18)+COUNTIFS($B$2:$B$501,B18,$D$2:$D$501,D18,$A$2:$A$501,"<"&A18)+1) -> 0 | M18: =IF(B18="","",IF(H18<>"Yes","No",IF(C18=SUMPRODUCT(MAX(($B$2:$B$501=B18)*($H$2:$H$501="Yes")*$C$2:$C$501)),"Yes","No"))) | N18: =IF(B18="","",IF(H18<>"Yes","Not frozen",IF(AND(J18="Yes",K18="Yes",L18="Yes"),"Complete","Incomplete"))) | O18: =IF(B18="","",IF(OR(F18="Simbli",F18="Shared folder"),"Yes","No"))
A19: V-018 | C19: =IF(OR(B19="",D19=""),0,COUNTIFS($B$2:$B$501,B19,$D$2:$D$501,"<"&D19)+COUNTIFS($B$2:$B$501,B19,$D$2:$D$501,D19,$A$2:$A$501,"<"&A19)+1) -> 0 | M19: =IF(B19="","",IF(H19<>"Yes","No",IF(C19=SUMPRODUCT(MAX(($B$2:$B$501=B19)*($H$2:$H$501="Yes")*$C$2:$C$501)),"Yes","No"))) | N19: =IF(B19="","",IF(H19<>"Yes","Not frozen",IF(AND(J19="Yes",K19="Yes",L19="Yes"),"Complete","Incomplete"))) | O19: =IF(B19="","",IF(OR(F19="Simbli",F19="Shared folder"),"Yes","No"))
A20: V-019 | C20: =IF(OR(B20="",D20=""),0,COUNTIFS($B$2:$B$501,B20,$D$2:$D$501,"<"&D20)+COUNTIFS($B$2:$B$501,B20,$D$2:$D$501,D20,$A$2:$A$501,"<"&A20)+1) -> 0 | M20: =IF(B20="","",IF(H20<>"Yes","No",IF(C20=SUMPRODUCT(MAX(($B$2:$B$501=B20)*($H$2:$H$501="Yes")*$C$2:$C$501)),"Yes","No"))) | N20: =IF(B20="","",IF(H20<>"Yes","Not frozen",IF(AND(J20="Yes",K20="Yes",L20="Yes"),"Complete","Incomplete"))) | O20: =IF(B20="","",IF(OR(F20="Simbli",F20="Shared folder"),"Yes","No"))
A21: V-020 | C21: =IF(OR(B21="",D21=""),0,COUNTIFS($B$2:$B$501,B21,$D$2:$D$501,"<"&D21)+COUNTIFS($B$2:$B$501,B21,$D$2:$D$501,D21,$A$2:$A$501,"<"&A21)+1) -> 0 | M21: =IF(B21="","",IF(H21<>"Yes","No",IF(C21=SUMPRODUCT(MAX(($B$2:$B$501=B21)*($H$2:$H$501="Yes")*$C$2:$C$501)),"Yes","No"))) | N21: =IF(B21="","",IF(H21<>"Yes","Not frozen",IF(AND(J21="Yes",K21="Yes",L21="Yes"),"Complete","Incomplete"))) | O21: =IF(B21="","",IF(OR(F21="Simbli",F21="Shared folder"),"Yes","No"))
A22: V-021 | C22: =IF(OR(B22="",D22=""),0,COUNTIFS($B$2:$B$501,B22,$D$2:$D$501,"<"&D22)+COUNTIFS($B$2:$B$501,B22,$D$2:$D$501,D22,$A$2:$A$501,"<"&A22)+1) -> 0 | M22: =IF(B22="","",IF(H22<>"Yes","No",IF(C22=SUMPRODUCT(MAX(($B$2:$B$501=B22)*($H$2:$H$501="Yes")*$C$2:$C$501)),"Yes","No"))) | N22: =IF(B22="","",IF(H22<>"Yes","Not frozen",IF(AND(J22="Yes",K22="Yes",L22="Yes"),"Complete","Incomplete"))) | O22: =IF(B22="","",IF(OR(F22="Simbli",F22="Shared folder"),"Yes","No"))
A23: V-022 | C23: =IF(OR(B23="",D23=""),0,COUNTIFS($B$2:$B$501,B23,$D$2:$D$501,"<"&D23)+COUNTIFS($B$2:$B$501,B23,$D$2:$D$501,D23,$A$2:$A$501,"<"&A23)+1) -> 0 | M23: =IF(B23="","",IF(H23<>"Yes","No",IF(C23=SUMPRODUCT(MAX(($B$2:$B$501=B23)*($H$2:$H$501="Yes")*$C$2:$C$501)),"Yes","No"))) | N23: =IF(B23="","",IF(H23<>"Yes","Not frozen",IF(AND(J23="Yes",K23="Yes",L23="Yes"),"Complete","Incomplete"))) | O23: =IF(B23="","",IF(OR(F23="Simbli",F23="Shared folder"),"Yes","No"))
A24: V-023 | C24: =IF(OR(B24="",D24=""),0,COUNTIFS($B$2:$B$501,B24,$D$2:$D$501,"<"&D24)+COUNTIFS($B$2:$B$501,B24,$D$2:$D$501,D24,$A$2:$A$501,"<"&A24)+1) -> 0 | M24: =IF(B24="","",IF(H24<>"Yes","No",IF(C24=SUMPRODUCT(MAX(($B$2:$B$501=B24)*($H$2:$H$501="Yes")*$C$2:$C$501)),"Yes","No"))) | N24: =IF(B24="","",IF(H24<>"Yes","Not frozen",IF(AND(J24="Yes",K24="Yes",L24="Yes"),"Complete","Incomplete"))) | O24: =IF(B24="","",IF(OR(F24="Simbli",F24="Shared folder"),"Yes","No"))
... A501: V-500 | C501: =IF(OR(B501="",D501=""),0,COUNTIFS($B$2:$B$501,B501,$D$2:$D$501,"<"&D501)+COUNTIFS($B$2:$B$501,B501,$D$2:$D$501,D501,$A$2:$A$501,"<"&A501)+1) -> 0 | M501: =IF(B501="","",IF(H501<>"Yes","No",IF(C501=SUMPRODUCT(MAX(($B$2:$B$501=B501)*($H$2:$H$501="Yes")*$C$2:$C$501)),"Yes","No"))) | N501: =IF(B501="","",IF(H501<>"Yes","Not frozen",IF(AND(J501="Yes",K501="Yes",L501="Yes"),"Complete","Incomplete"))) | O501: =IF(B501="","",IF(OR(F501="Simbli",F501="Shared folder"),"Yes","No"))

Sheet Deferred edits
A1: deferred_id | B1: raised_in | C1: to_code | D1: edit | E1: agreed_on | F1: pick_up | G1: status | H1: to_code_in_review | I1: alert | J1: source | K1: from_comment
A2: D-001 | B2: KEB | C2: DFK | D2: Move the donor-influence sentence from KEB to DFK. | E2: 46296 | F2: Next revision of to_code | G2: Waiting | H2: =IF(C2="","",IF(COUNTIFS(Drafts!$A$2:$A$251,C2,Drafts!$E$2:$E$251,"<>Adopted",Drafts!$E$2:$E$251,"<>Withdrawn")>0,"Yes","No")) -> No | I2: =IF(C2="","",IF(G2<>"Waiting",G2,IF(H2="Yes","● Ready to pick up","Waiting"))) -> Waiting | J2: Public record: Oct 1 committee | K2: C-012
A3: D-002 | B3: Corpus check | C3: GANA | D3: GANA names JGCC, which is not in the manual (JGCC-R is). Update the cross-reference. | E3: 46303 | F3: Next revision of to_code | G3: Waiting | H3: =IF(C3="","",IF(COUNTIFS(Drafts!$A$2:$A$251,C3,Drafts!$E$2:$E$251,"<>Adopted",Drafts!$E$2:$E$251,"<>Withdrawn")>0,"Yes","No")) -> No | I3: =IF(C3="","",IF(G3<>"Waiting",G3,IF(H3="Yes","● Ready to pick up","Waiting"))) -> Waiting | J3: Simbli corpus, Oct 8
A4: D-003 | B4: Corpus check | C4: GBA | D4: GBA names GDA-E(1), which is not in the manual. Update the cross-reference. | E4: 46303 | F4: Next revision of to_code | G4: Waiting | H4: =IF(C4="","",IF(COUNTIFS(Drafts!$A$2:$A$251,C4,Drafts!$E$2:$E$251,"<>Adopted",Drafts!$E$2:$E$251,"<>Withdrawn")>0,"Yes","No")) -> No | I4: =IF(C4="","",IF(G4<>"Waiting",G4,IF(H4="Yes","● Ready to pick up","Waiting"))) -> Waiting | J4: Simbli corpus, Oct 8
A5: D-004 | B5: Corpus check | C5: JBC(1)-R(1) | D5: JBC(1)-R(1) names JCE, which is not in the manual. Update the cross-reference. | E5: 46303 | F5: Next revision of to_code | G5: Waiting | H5: =IF(C5="","",IF(COUNTIFS(Drafts!$A$2:$A$251,C5,Drafts!$E$2:$E$251,"<>Adopted",Drafts!$E$2:$E$251,"<>Withdrawn")>0,"Yes","No")) -> No | I5: =IF(C5="","",IF(G5<>"Waiting",G5,IF(H5="Yes","● Ready to pick up","Waiting"))) -> Waiting | J5: Simbli corpus, Oct 8
A6: D-005 | B6: IFBI | C6: IFBG | D6: Add a cross-reference between IFBG and IFBI so the two policies point to each other. | E6: 46307 | F6: Next revision of to_code | G6: Waiting | H6: =IF(C6="","",IF(COUNTIFS(Drafts!$A$2:$A$251,C6,Drafts!$E$2:$E$251,"<>Adopted",Drafts!$E$2:$E$251,"<>Withdrawn")>0,"Yes","No")) -> Yes | I6: =IF(C6="","",IF(G6<>"Waiting",G6,IF(H6="Yes","● Ready to pick up","Waiting"))) -> ● Ready to pick up | J6: Proposed
A7: D-006 | H7: =IF(C7="","",IF(COUNTIFS(Drafts!$A$2:$A$251,C7,Drafts!$E$2:$E$251,"<>Adopted",Drafts!$E$2:$E$251,"<>Withdrawn")>0,"Yes","No")) | I7: =IF(C7="","",IF(G7<>"Waiting",G7,IF(H7="Yes","● Ready to pick up","Waiting")))
A8: D-007 | H8: =IF(C8="","",IF(COUNTIFS(Drafts!$A$2:$A$251,C8,Drafts!$E$2:$E$251,"<>Adopted",Drafts!$E$2:$E$251,"<>Withdrawn")>0,"Yes","No")) | I8: =IF(C8="","",IF(G8<>"Waiting",G8,IF(H8="Yes","● Ready to pick up","Waiting")))
A9: D-008 | H9: =IF(C9="","",IF(COUNTIFS(Drafts!$A$2:$A$251,C9,Drafts!$E$2:$E$251,"<>Adopted",Drafts!$E$2:$E$251,"<>Withdrawn")>0,"Yes","No")) | I9: =IF(C9="","",IF(G9<>"Waiting",G9,IF(H9="Yes","● Ready to pick up","Waiting")))
A10: D-009 | H10: =IF(C10="","",IF(COUNTIFS(Drafts!$A$2:$A$251,C10,Drafts!$E$2:$E$251,"<>Adopted",Drafts!$E$2:$E$251,"<>Withdrawn")>0,"Yes","No")) | I10: =IF(C10="","",IF(G10<>"Waiting",G10,IF(H10="Yes","● Ready to pick up","Waiting")))
A11: D-010 | H11: =IF(C11="","",IF(COUNTIFS(Drafts!$A$2:$A$251,C11,Drafts!$E$2:$E$251,"<>Adopted",Drafts!$E$2:$E$251,"<>Withdrawn")>0,"Yes","No")) | I11: =IF(C11="","",IF(G11<>"Waiting",G11,IF(H11="Yes","● Ready to pick up","Waiting")))
A12: D-011 | H12: =IF(C12="","",IF(COUNTIFS(Drafts!$A$2:$A$251,C12,Drafts!$E$2:$E$251,"<>Adopted",Drafts!$E$2:$E$251,"<>Withdrawn")>0,"Yes","No")) | I12: =IF(C12="","",IF(G12<>"Waiting",G12,IF(H12="Yes","● Ready to pick up","Waiting")))
A13: D-012 | H13: =IF(C13="","",IF(COUNTIFS(Drafts!$A$2:$A$251,C13,Drafts!$E$2:$E$251,"<>Adopted",Drafts!$E$2:$E$251,"<>Withdrawn")>0,"Yes","No")) | I13: =IF(C13="","",IF(G13<>"Waiting",G13,IF(H13="Yes","● Ready to pick up","Waiting")))
A14: D-013 | H14: =IF(C14="","",IF(COUNTIFS(Drafts!$A$2:$A$251,C14,Drafts!$E$2:$E$251,"<>Adopted",Drafts!$E$2:$E$251,"<>Withdrawn")>0,"Yes","No")) | I14: =IF(C14="","",IF(G14<>"Waiting",G14,IF(H14="Yes","● Ready to pick up","Waiting")))
A15: D-014 | H15: =IF(C15="","",IF(COUNTIFS(Drafts!$A$2:$A$251,C15,Drafts!$E$2:$E$251,"<>Adopted",Drafts!$E$2:$E$251,"<>Withdrawn")>0,"Yes","No")) | I15: =IF(C15="","",IF(G15<>"Waiting",G15,IF(H15="Yes","● Ready to pick up","Waiting")))
A16: D-015 | H16: =IF(C16="","",IF(COUNTIFS(Drafts!$A$2:$A$251,C16,Drafts!$E$2:$E$251,"<>Adopted",Drafts!$E$2:$E$251,"<>Withdrawn")>0,"Yes","No")) | I16: =IF(C16="","",IF(G16<>"Waiting",G16,IF(H16="Yes","● Ready to pick up","Waiting")))
A17: D-016 | H17: =IF(C17="","",IF(COUNTIFS(Drafts!$A$2:$A$251,C17,Drafts!$E$2:$E$251,"<>Adopted",Drafts!$E$2:$E$251,"<>Withdrawn")>0,"Yes","No")) | I17: =IF(C17="","",IF(G17<>"Waiting",G17,IF(H17="Yes","● Ready to pick up","Waiting")))
A18: D-017 | H18: =IF(C18="","",IF(COUNTIFS(Drafts!$A$2:$A$251,C18,Drafts!$E$2:$E$251,"<>Adopted",Drafts!$E$2:$E$251,"<>Withdrawn")>0,"Yes","No")) | I18: =IF(C18="","",IF(G18<>"Waiting",G18,IF(H18="Yes","● Ready to pick up","Waiting")))
... A201: D-200 | H201: =IF(C201="","",IF(COUNTIFS(Drafts!$A$2:$A$251,C201,Drafts!$E$2:$E$251,"<>Adopted",Drafts!$E$2:$E$251,"<>Withdrawn")>0,"Yes","No")) | I201: =IF(C201="","",IF(G201<>"Waiting",G201,IF(H201="Yes","● Ready to pick up","Waiting")))

Sheet Process
A1: How a Policy Administrator would coordinate the policy cycle
A2: Who does what at each stage, with timing and the hand-offs the tracker records. An example built from the district's published policies and public meetings; not adopted by the district.
A4: What the tracker records at each hand-off (numbers match the markers on the flow)
A5: # | B5: Hand-off | C5: Where | D5: What the tracker does
A6: 1 | B6: Edits saved for the next revision | C6: Deferred edits | D6: A change agreed for a later revision is saved and flagged automatically when that policy reopens.
A7: 2 | B7: Which draft is current | C7: Versions | D7: Every draft is numbered and has one home; the newest frozen version is official.
A8: 3 | B8: Next steps agreed in meetings | C8: Drafts | D8: Next step and date on every draft, flagged a week ahead.
A9: 4 | B9: Every comment and its source | C9: Comments | D9: One row, one route and one recorded response for each comment: online comments, Word redlines, the feedback form and meetings.
A10: 5 | B10: Regulations after adoption | C10: Drafts, Status | D10: Due date set from the vote: 30 days after adoption, the timing described at the Oct 5, 2026 board meeting; the stated goal is drafts with the policy. Stays on Status until done or marked not needed.
A12: The policy cycle

Sheet Comment flow
A38: Routes (the Comments tab's route dropdown and goes_to column read from this table)
A39: route | B39: what it means | C39: goes to | D39: who acts | E39: comments
A40: Change the policy | B40: The comment changes the policy text. | C40: The next draft version (Versions tab) | D40: Drafting office with Legal Affairs | E40: =COUNTIF(Comments!$I$2:$I$2001,A40) -> 5
A41: Move to the regulation | B41: It's about how, not what. It belongs in the regulation. | C41: The regulation draft for that policy | D41: Content owner | E41: =COUNTIF(Comments!$I$2:$I$2001,A41) -> 5
A42: Save for a later revision | B42: A good change, but for a policy that isn't open now. | C42: Deferred edits tab; flagged when that policy reopens | D42: Policy Administrator | E42: =COUNTIF(Comments!$I$2:$I$2001,A42) -> 1
A43: Answered, no change | B43: A question answered without changing the text. | C43: Response recorded in the log | D43: Responding office | E43: =COUNTIF(Comments!$I$2:$I$2001,A43) -> 1
A44: Not accepted | B44: The committee decided not to make the change. | C44: Reason recorded in the log | D44: Committee | E44: =COUNTIF(Comments!$I$2:$I$2001,A44) -> 0
A45: Noted | B45: Support or a general comment. | C45: Counted in the log | D45: Policy Administrator | E45: =COUNTIF(Comments!$I$2:$I$2001,A45) -> 1
A46: Open: needs a decision | B46: Waiting on a committee or board decision. | C46: The next committee agenda | D46: Committee | E46: =COUNTIF(Comments!$I$2:$I$2001,A46) -> 5

Sheet Feedback form
A1: Policy feedback form
A2: For board members and staff, for feedback not written in a redline: a question, a request or a general comment. Built in Microsoft Forms. Every question matches a column in the Comments tab, so each response becomes one row with nothing retyped.
A4: # | B4: Question | C4: Answer type | D4: Required | E4: Comments column | F4: Notes
A5: 1 | B5: Your role | C5: Choice: Board member, Staff | D5: Yes | E5: from | F5: Roles only in the log, never names.
A6: 2 | B6: Which policy? | C6: Dropdown of codes now in review | D6: Yes | E6: code | F6: Update the list when Drafts changes.
A7: 3 | B7: Which version did you read? | C7: Choice: posted draft for first reading, committee redline, second-reading draft, other | D7: Yes | E7: version_read
A8: 4 | B8: Which section? | C8: Short text | D8: No | E8: section
A9: 5 | B9: What kind of feedback? | C9: Choice: question, suggested change, concern, support | D9: Yes | E9: (helps choose the route) | F9: Question usually becomes Answered, no change. Support becomes Noted. Staff decide the rest.
A10: 6 | B10: Your comment | C10: Long text | D10: Yes | E10: comment
A11: 7 | B11: Suggested wording | C11: Long text | D11: No | E11: comment | F11: Added after the comment, in brackets.
B12: Filled in automatically | E12: date_logged | F12: The time the response was submitted.
B13: Filled in automatically | E13: channel | F13: Board feedback form
B14: Filled in automatically | E14: source | F14: Form response number
A16: Settings to confirm with IT
A17: • | B17: Who can respond: "Only people in my organization" works if board members have district accounts. If they don't, the form has to accept "Anyone with the link," so it can't confirm who sent each response; the Policy Administrator confirms the sender before logging.
A18: • | B18: Where responses go: Forms keeps them in a linked Excel sheet. Copy new responses into Comments each week, or (with IT) set a Power Automate flow to add the rows.
A19: • | B19: Word redlines stay the channel for line-by-line edits. The form is for everything else.

Sheet About
A1: Policy review workbook | B1: Independent sample built by Samantha Rubin from public records. Not a district document.
A2: Purpose | B2: Tracks the policies and regulations under review right now: where each one stands, which version is official, every comment and where it went, and edits saved for later.
A3: As of | B3: 46308
A4: Record through | B4: The Oct 5, 2026 board meeting
A5: Next committee meeting | B5: 46323
A6: Regulation target (days) | B6: 30
A7: Regulation target source | B7: 30 days after adoption, the timing described at the Oct 5, 2026 board meeting; the stated goal is drafts with the policy. Policy BDC and Regulation BDC-R(1) set no deadline for regulations. The board may review a regulation before it takes effect.
A8: Sources | B8: Public recordings of the Board Policy Committee (Jun 25, Jul 30, Aug 26, Sep 24 and Oct 1, 2026) and the Oct 5, 2026 board meeting; policy and draft links from Simbli (retrieved Oct 8, 2026); Policy BDC and Regulation BDC-R(1).
A9: Shading | B9: Unshaded cells come from the public record or Simbli. Lavender cells are not from the public record: invented examples that show how the process would run, or proposals for staff to confirm. Every row says which in its source column.
A10: To confirm | B10: Summaries come from meeting recordings with automatic captions. Staff should confirm each status before relying on it.
A11: No names | B11: Rows name roles (board member, staff, public), never people.
A12: Header colors | B12: Dark headers are typed columns. Lighter headers are formulas; don't type in them.
A13: Stage colors | B13: Blue: on a board agenda (first read, second read, ready for action). Amber: the committee's move (back in committee, committee review). Gray: waiting (held, drafting, regulation work). Green: closed (adopted, withdrawn).
A14: Rose | B14: Needs attention: a date within 7 days or passed, an open comment, a saved edit ready to pick up, an incomplete packet check, or a code entered twice.
A15: Room to grow | B15: Rows ready for entry: 250 in Drafts, 2,000 in Comments, 500 in Versions, 200 in Deferred edits. Closed rows stay as the record.
A17: Tabs
A18: Status | B18: One page for the committee packet: every open policy, its stage, last action, next step and open comments. Withdrawn policies leave it; adopted policies leave it once their regulation is complete or not needed.
A19: How to use | B19: Step-by-step instructions for each routine task.
A20: Policy card | B20: Pick a policy to see everything about it on one screen, in the layout the committee already uses.
A21: Drafts | B21: One row per policy or regulation under review. The only place stages and dates are typed.
A22: Comments | B22: One row per comment from any channel, with its route and response.
A23: Versions | B23: Every posted or working version. The newest frozen version is the official copy.
A24: Deferred edits | B24: Changes agreed for a later revision, flagged when that document reopens.
A25: Process | B25: The policy cycle flow: who does what at each stage, and what the tracker records at each hand-off.
A26: Comment flow | B26: Where comments come in and where each route sends them.
A27: Feedback form | B27: The questions on the board and staff feedback form, and the Comments column each one fills.
A28: Lists | B28: Dropdown values.

Sheet Lists
A1: stage | B1: route | C1: channel | D1: from | E1: regulation_status
A2: Ready for action | B2: Change the policy | C2: Online public comment | D2: Public | E2: Not needed
A3: Second read | B3: Move to the regulation | C3: Board feedback form | D3: Board member | E3: To confirm
A4: First read: comment window | B4: Save for a later revision | C4: Word comment in draft | D4: Staff | E4: Not started
A5: Back in committee | B5: Answered, no change | C5: Email | E5: Drafting
A6: Committee review | B6: Not accepted | C6: Said at committee meeting | E6: Draft ready for Legal
A7: Held | B7: Noted | C7: Said at board meeting | E7: Draft exists
A8: Drafting | B8: Open: needs a decision | C8: Staff or Legal review | E8: Exists, update to match
A9: Regulation work | E9: Complete
A10: Adopted | E10: Planned
A11: Withdrawn

Sheet Calc
A1: Helper formulas for Status and Policy card. Do not edit.
A4: =IF(OR(Drafts!A2="",Drafts!E2="Withdrawn",AND(Drafts!E2="Adopted",OR(Drafts!N2="Complete",Drafts!N2="Not needed"))),"",IFERROR(MATCH(Drafts!E2,StageList,0),99)*1000+2) -> 4002 | C4: =IF(AND(Comments!B2='Policy card'!$C$3,Comments!N2="Open"),1,0) -> 0 | D4: =IF(C4=1,E4,IF(P4=1,$E$2003+Q4,"")) | E4: =0+C4 -> 0 | F4: =IF(AND('Deferred edits'!C2<>"",OR('Deferred edits'!C2='Policy card'!$C$3,'Deferred edits'!B2='Policy card'!$C$3)),1,0) -> 1 | G4: =IF(F4=1,H4,"") -> 1 | H4: =0+F4 -> 1 | I4: =IF('Deferred edits'!G2="Waiting",1,0) -> 1 | J4: =IF(I4=1,K4,"") -> 1 | K4: =0+I4 -> 1 | L4: =IF(AND(Versions!B2<>"",Versions!B2='Policy card'!$C$3),1,0) -> 0 | M4: =IF(L4=1,N4,"") | N4: =0+L4 -> 0 | P4: =IF(AND(Comments!B2='Policy card'!$C$3,Comments!N2="Closed"),1,0) -> 0 | Q4: =0+P4 -> 0
A5: =IF(OR(Drafts!A3="",Drafts!E3="Withdrawn",AND(Drafts!E3="Adopted",OR(Drafts!N3="Complete",Drafts!N3="Not needed"))),"",IFERROR(MATCH(Drafts!E3,StageList,0),99)*1000+3) -> 4003 | C5: =IF(AND(Comments!B3='Policy card'!$C$3,Comments!N3="Open"),1,0) -> 0 | D5: =IF(C5=1,E5,IF(P5=1,$E$2003+Q5,"")) | E5: =E4+C5 -> 0 | F5: =IF(AND('Deferred edits'!C3<>"",OR('Deferred edits'!C3='Policy card'!$C$3,'Deferred edits'!B3='Policy card'!$C$3)),1,0) -> 0 | G5: =IF(F5=1,H5,"") | H5: =H4+F5 -> 1 | I5: =IF('Deferred edits'!G3="Waiting",1,0) -> 1 | J5: =IF(I5=1,K5,"") -> 2 | K5: =K4+I5 -> 2 | L5: =IF(AND(Versions!B3<>"",Versions!B3='Policy card'!$C$3),1,0) -> 0 | M5: =IF(L5=1,N5,"") | N5: =N4+L5 -> 0 | P5: =IF(AND(Comments!B3='Policy card'!$C$3,Comments!N3="Closed"),1,0) -> 0 | Q5: =Q4+P5 -> 0
A6: =IF(OR(Drafts!A4="",Drafts!E4="Withdrawn",AND(Drafts!E4="Adopted",OR(Drafts!N4="Complete",Drafts!N4="Not needed"))),"",IFERROR(MATCH(Drafts!E4,StageList,0),99)*1000+4) -> 2004 | C6: =IF(AND(Comments!B4='Policy card'!$C$3,Comments!N4="Open"),1,0) -> 0 | D6: =IF(C6=1,E6,IF(P6=1,$E$2003+Q6,"")) | E6: =E5+C6 -> 0 | F6: =IF(AND('Deferred edits'!C4<>"",OR('Deferred edits'!C4='Policy card'!$C$3,'Deferred edits'!B4='Policy card'!$C$3)),1,0) -> 0 | G6: =IF(F6=1,H6,"") | H6: =H5+F6 -> 1 | I6: =IF('Deferred edits'!G4="Waiting",1,0) -> 1 | J6: =IF(I6=1,K6,"") -> 3 | K6: =K5+I6 -> 3 | L6: =IF(AND(Versions!B4<>"",Versions!B4='Policy card'!$C$3),1,0) -> 0 | M6: =IF(L6=1,N6,"") | N6: =N5+L6 -> 0 | P6: =IF(AND(Comments!B4='Policy card'!$C$3,Comments!N4="Closed"),1,0) -> 0 | Q6: =Q5+P6 -> 0
A7: =IF(OR(Drafts!A5="",Drafts!E5="Withdrawn",AND(Drafts!E5="Adopted",OR(Drafts!N5="Complete",Drafts!N5="Not needed"))),"",IFERROR(MATCH(Drafts!E5,StageList,0),99)*1000+5) -> 3005 | C7: =IF(AND(Comments!B5='Policy card'!$C$3,Comments!N5="Open"),1,0) -> 0 | D7: =IF(C7=1,E7,IF(P7=1,$E$2003+Q7,"")) | E7: =E6+C7 -> 0 | F7: =IF(AND('Deferred edits'!C5<>"",OR('Deferred edits'!C5='Policy card'!$C$3,'Deferred edits'!B5='Policy card'!$C$3)),1,0) -> 0 | G7: =IF(F7=1,H7,"") | H7: =H6+F7 -> 1 | I7: =IF('Deferred edits'!G5="Waiting",1,0) -> 1 | J7: =IF(I7=1,K7,"") -> 4 | K7: =K6+I7 -> 4 | L7: =IF(AND(Versions!B5<>"",Versions!B5='Policy card'!$C$3),1,0) -> 0 | M7: =IF(L7=1,N7,"") | N7: =N6+L7 -> 0 | P7: =IF(AND(Comments!B5='Policy card'!$C$3,Comments!N5="Closed"),1,0) -> 0 | Q7: =Q6+P7 -> 0
A8: =IF(OR(Drafts!A6="",Drafts!E6="Withdrawn",AND(Drafts!E6="Adopted",OR(Drafts!N6="Complete",Drafts!N6="Not needed"))),"",IFERROR(MATCH(Drafts!E6,StageList,0),99)*1000+6) -> 6006 | C8: =IF(AND(Comments!B6='Policy card'!$C$3,Comments!N6="Open"),1,0) -> 0 | D8: =IF(C8=1,E8,IF(P8=1,$E$2003+Q8,"")) | E8: =E7+C8 -> 0 | F8: =IF(AND('Deferred edits'!C6<>"",OR('Deferred edits'!C6='Policy card'!$C$3,'Deferred edits'!B6='Policy card'!$C$3)),1,0) -> 0 | G8: =IF(F8=1,H8,"") | H8: =H7+F8 -> 1 | I8: =IF('Deferred edits'!G6="Waiting",1,0) -> 1 | J8: =IF(I8=1,K8,"") -> 5 | K8: =K7+I8 -> 5 | L8: =IF(AND(Versions!B6<>"",Versions!B6='Policy card'!$C$3),1,0) -> 1 | M8: =IF(L8=1,N8,"") -> 1 | N8: =N7+L8 -> 1 | P8: =IF(AND(Comments!B6='Policy card'!$C$3,Comments!N6="Closed"),1,0) -> 0 | Q8: =Q7+P8 -> 0
A9: =IF(OR(Drafts!A7="",Drafts!E7="Withdrawn",AND(Drafts!E7="Adopted",OR(Drafts!N7="Complete",Drafts!N7="Not needed"))),"",IFERROR(MATCH(Drafts!E7,StageList,0),99)*1000+7) -> 6007 | C9: =IF(AND(Comments!B7='Policy card'!$C$3,Comments!N7="Open"),1,0) -> 0 | D9: =IF(C9=1,E9,IF(P9=1,$E$2003+Q9,"")) | E9: =E8+C9 -> 0 | F9: =IF(AND('Deferred edits'!C7<>"",OR('Deferred edits'!C7='Policy card'!$C$3,'Deferred edits'!B7='Policy card'!$C$3)),1,0) -> 0 | G9: =IF(F9=1,H9,"") | H9: =H8+F9 -> 1 | I9: =IF('Deferred edits'!G7="Waiting",1,0) -> 0 | J9: =IF(I9=1,K9,"") | K9: =K8+I9 -> 5 | L9: =IF(AND(Versions!B7<>"",Versions!B7='Policy card'!$C$3),1,0) -> 1 | M9: =IF(L9=1,N9,"") -> 2 | N9: =N8+L9 -> 2 | P9: =IF(AND(Comments!B7='Policy card'!$C$3,Comments!N7="Closed"),1,0) -> 0 | Q9: =Q8+P9 -> 0
A10: =IF(OR(Drafts!A8="",Drafts!E8="Withdrawn",AND(Drafts!E8="Adopted",OR(Drafts!N8="Complete",Drafts!N8="Not needed"))),"",IFERROR(MATCH(Drafts!E8,StageList,0),99)*1000+8) -> 6008 | C10: =IF(AND(Comments!B8='Policy card'!$C$3,Comments!N8="Open"),1,0) -> 0 | D10: =IF(C10=1,E10,IF(P10=1,$E$2003+Q10,"")) | E10: =E9+C10 -> 0 | F10: =IF(AND('Deferred edits'!C8<>"",OR('Deferred edits'!C8='Policy card'!$C$3,'Deferred edits'!B8='Policy card'!$C$3)),1,0) -> 0 | G10: =IF(F10=1,H10,"") | H10: =H9+F10 -> 1 | I10: =IF('Deferred edits'!G8="Waiting",1,0) -> 0 | J10: =IF(I10=1,K10,"") | K10: =K9+I10 -> 5 | L10: =IF(AND(Versions!B8<>"",Versions!B8='Policy card'!$C$3),1,0) -> 0 | M10: =IF(L10=1,N10,"") | N10: =N9+L10 -> 2 | P10: =IF(AND(Comments!B8='Policy card'!$C$3,Comments!N8="Closed"),1,0) -> 0 | Q10: =Q9+P10 -> 0
A11: =IF(OR(Drafts!A9="",Drafts!E9="Withdrawn",AND(Drafts!E9="Adopted",OR(Drafts!N9="Complete",Drafts!N9="Not needed"))),"",IFERROR(MATCH(Drafts!E9,StageList,0),99)*1000+9) -> 6009 | C11: =IF(AND(Comments!B9='Policy card'!$C$3,Comments!N9="Open"),1,0) -> 0 | D11: =IF(C11=1,E11,IF(P11=1,$E$2003+Q11,"")) -> 1 | E11: =E10+C11 -> 0 | F11: =IF(AND('Deferred edits'!C9<>"",OR('Deferred edits'!C9='Policy card'!$C$3,'Deferred edits'!B9='Policy card'!$C$3)),1,0) -> 0 | G11: =IF(F11=1,H11,"") | H11: =H10+F11 -> 1 | I11: =IF('Deferred edits'!G9="Waiting",1,0) -> 0 | J11: =IF(I11=1,K11,"") | K11: =K10+I11 -> 5 | L11: =IF(AND(Versions!B9<>"",Versions!B9='Policy card'!$C$3),1,0) -> 0 | M11: =IF(L11=1,N11,"") | N11: =N10+L11 -> 2 | P11: =IF(AND(Comments!B9='Policy card'!$C$3,Comments!N9="Closed"),1,0) -> 1 | Q11: =Q10+P11 -> 1
A12: =IF(OR(Drafts!A10="",Drafts!E10="Withdrawn",AND(Drafts!E10="Adopted",OR(Drafts!N10="Complete",Drafts!N10="Not needed"))),"",IFERROR(MATCH(Drafts!E10,StageList,0),99)*1000+10) -> 7010 | C12: =IF(AND(Comments!B10='Policy card'!$C$3,Comments!N10="Open"),1,0) -> 0 | D12: =IF(C12=1,E12,IF(P12=1,$E$2003+Q12,"")) -> 2 | E12: =E11+C12 -> 0 | F12: =IF(AND('Deferred edits'!C10<>"",OR('Deferred edits'!C10='Policy card'!$C$3,'Deferred edits'!B10='Policy card'!$C$3)),1,0) -> 0 | G12: =IF(F12=1,H12,"") | H12: =H11+F12 -> 1 | I12: =IF('Deferred edits'!G10="Waiting",1,0) -> 0 | J12: =IF(I12=1,K12,"") | K12: =K11+I12 -> 5 | L12: =IF(AND(Versions!B10<>"",Versions!B10='Policy card'!$C$3),1,0) -> 0 | M12: =IF(L12=1,N12,"") | N12: =N11+L12 -> 2 | P12: =IF(AND(Comments!B10='Policy card'!$C$3,Comments!N10="Closed"),1,0) -> 1 | Q12: =Q11+P12 -> 2
A13: =IF(OR(Drafts!A11="",Drafts!E11="Withdrawn",AND(Drafts!E11="Adopted",OR(Drafts!N11="Complete",Drafts!N11="Not needed"))),"",IFERROR(MATCH(Drafts!E11,StageList,0),99)*1000+11) -> 8011 | C13: =IF(AND(Comments!B11='Policy card'!$C$3,Comments!N11="Open"),1,0) -> 0 | D13: =IF(C13=1,E13,IF(P13=1,$E$2003+Q13,"")) -> 3 | E13: =E12+C13 -> 0 | F13: =IF(AND('Deferred edits'!C11<>"",OR('Deferred edits'!C11='Policy card'!$C$3,'Deferred edits'!B11='Policy card'!$C$3)),1,0) -> 0 | G13: =IF(F13=1,H13,"") | H13: =H12+F13 -> 1 | I13: =IF('Deferred edits'!G11="Waiting",1,0) -> 0 | J13: =IF(I13=1,K13,"") | K13: =K12+I13 -> 5 | L13: =IF(AND(Versions!B11<>"",Versions!B11='Policy card'!$C$3),1,0) -> 0 | M13: =IF(L13=1,N13,"") | N13: =N12+L13 -> 2 | P13: =IF(AND(Comments!B11='Policy card'!$C$3,Comments!N11="Closed"),1,0) -> 1 | Q13: =Q12+P13 -> 3
A14: =IF(OR(Drafts!A12="",Drafts!E12="Withdrawn",AND(Drafts!E12="Adopted",OR(Drafts!N12="Complete",Drafts!N12="Not needed"))),"",IFERROR(MATCH(Drafts!E12,StageList,0),99)*1000+12) -> 8012 | C14: =IF(AND(Comments!B12='Policy card'!$C$3,Comments!N12="Open"),1,0) -> 0 | D14: =IF(C14=1,E14,IF(P14=1,$E$2003+Q14,"")) -> 4 | E14: =E13+C14 -> 0 | F14: =IF(AND('Deferred edits'!C12<>"",OR('Deferred edits'!C12='Policy card'!$C$3,'Deferred edits'!B12='Policy card'!$C$3)),1,0) -> 0 | G14: =IF(F14=1,H14,"") | H14: =H13+F14 -> 1 | I14: =IF('Deferred edits'!G12="Waiting",1,0) -> 0 | J14: =IF(I14=1,K14,"") | K14: =K13+I14 -> 5 | L14: =IF(AND(Versions!B12<>"",Versions!B12='Policy card'!$C$3),1,0) -> 0 | M14: =IF(L14=1,N14,"") | N14: =N13+L14 -> 2 | P14: =IF(AND(Comments!B12='Policy card'!$C$3,Comments!N12="Closed"),1,0) -> 1 | Q14: =Q13+P14 -> 4
A15: =IF(OR(Drafts!A13="",Drafts!E13="Withdrawn",AND(Drafts!E13="Adopted",OR(Drafts!N13="Complete",Drafts!N13="Not needed"))),"",IFERROR(MATCH(Drafts!E13,StageList,0),99)*1000+13) | C15: =IF(AND(Comments!B13='Policy card'!$C$3,Comments!N13="Open"),1,0) -> 0 | D15: =IF(C15=1,E15,IF(P15=1,$E$2003+Q15,"")) -> 5 | E15: =E14+C15 -> 0 | F15: =IF(AND('Deferred edits'!C13<>"",OR('Deferred edits'!C13='Policy card'!$C$3,'Deferred edits'!B13='Policy card'!$C$3)),1,0) -> 0 | G15: =IF(F15=1,H15,"") | H15: =H14+F15 -> 1 | I15: =IF('Deferred edits'!G13="Waiting",1,0) -> 0 | J15: =IF(I15=1,K15,"") | K15: =K14+I15 -> 5 | L15: =IF(AND(Versions!B13<>"",Versions!B13='Policy card'!$C$3),1,0) -> 0 | M15: =IF(L15=1,N15,"") | N15: =N14+L15 -> 2 | P15: =IF(AND(Comments!B13='Policy card'!$C$3,Comments!N13="Closed"),1,0) -> 1 | Q15: =Q14+P15 -> 5
A16: =IF(OR(Drafts!A14="",Drafts!E14="Withdrawn",AND(Drafts!E14="Adopted",OR(Drafts!N14="Complete",Drafts!N14="Not needed"))),"",IFERROR(MATCH(Drafts!E14,StageList,0),99)*1000+14) | C16: =IF(AND(Comments!B14='Policy card'!$C$3,Comments!N14="Open"),1,0) -> 0 | D16: =IF(C16=1,E16,IF(P16=1,$E$2003+Q16,"")) -> 6 | E16: =E15+C16 -> 0 | F16: =IF(AND('Deferred edits'!C14<>"",OR('Deferred edits'!C14='Policy card'!$C$3,'Deferred edits'!B14='Policy card'!$C$3)),1,0) -> 0 | G16: =IF(F16=1,H16,"") | H16: =H15+F16 -> 1 | I16: =IF('Deferred edits'!G14="Waiting",1,0) -> 0 | J16: =IF(I16=1,K16,"") | K16: =K15+I16 -> 5 | L16: =IF(AND(Versions!B14<>"",Versions!B14='Policy card'!$C$3),1,0) -> 0 | M16: =IF(L16=1,N16,"") | N16: =N15+L16 -> 2 | P16: =IF(AND(Comments!B14='Policy card'!$C$3,Comments!N14="Closed"),1,0) -> 1 | Q16: =Q15+P16 -> 6
A17: =IF(OR(Drafts!A15="",Drafts!E15="Withdrawn",AND(Drafts!E15="Adopted",OR(Drafts!N15="Complete",Drafts!N15="Not needed"))),"",IFERROR(MATCH(Drafts!E15,StageList,0),99)*1000+15) | C17: =IF(AND(Comments!B15='Policy card'!$C$3,Comments!N15="Open"),1,0) -> 0 | D17: =IF(C17=1,E17,IF(P17=1,$E$2003+Q17,"")) -> 7 | E17: =E16+C17 -> 0 | F17: =IF(AND('Deferred edits'!C15<>"",OR('Deferred edits'!C15='Policy card'!$C$3,'Deferred edits'!B15='Policy card'!$C$3)),1,0) -> 0 | G17: =IF(F17=1,H17,"") | H17: =H16+F17 -> 1 | I17: =IF('Deferred edits'!G15="Waiting",1,0) -> 0 | J17: =IF(I17=1,K17,"") | K17: =K16+I17 -> 5 | L17: =IF(AND(Versions!B15<>"",Versions!B15='Policy card'!$C$3),1,0) -> 0 | M17: =IF(L17=1,N17,"") | N17: =N16+L17 -> 2 | P17: =IF(AND(Comments!B15='Policy card'!$C$3,Comments!N15="Closed"),1,0) -> 1 | Q17: =Q16+P17 -> 7
A18: =IF(OR(Drafts!A16="",Drafts!E16="Withdrawn",AND(Drafts!E16="Adopted",OR(Drafts!N16="Complete",Drafts!N16="Not needed"))),"",IFERROR(MATCH(Drafts!E16,StageList,0),99)*1000+16) | C18: =IF(AND(Comments!B16='Policy card'!$C$3,Comments!N16="Open"),1,0) -> 0 | D18: =IF(C18=1,E18,IF(P18=1,$E$2003+Q18,"")) | E18: =E17+C18 -> 0 | F18: =IF(AND('Deferred edits'!C16<>"",OR('Deferred edits'!C16='Policy card'!$C$3,'Deferred edits'!B16='Policy card'!$C$3)),1,0) -> 0 | G18: =IF(F18=1,H18,"") | H18: =H17+F18 -> 1 | I18: =IF('Deferred edits'!G16="Waiting",1,0) -> 0 | J18: =IF(I18=1,K18,"") | K18: =K17+I18 -> 5 | L18: =IF(AND(Versions!B16<>"",Versions!B16='Policy card'!$C$3),1,0) -> 0 | M18: =IF(L18=1,N18,"") | N18: =N17+L18 -> 2 | P18: =IF(AND(Comments!B16='Policy card'!$C$3,Comments!N16="Closed"),1,0) -> 0 | Q18: =Q17+P18 -> 7
A19: =IF(OR(Drafts!A17="",Drafts!E17="Withdrawn",AND(Drafts!E17="Adopted",OR(Drafts!N17="Complete",Drafts!N17="Not needed"))),"",IFERROR(MATCH(Drafts!E17,StageList,0),99)*1000+17) | C19: =IF(AND(Comments!B17='Policy card'!$C$3,Comments!N17="Open"),1,0) -> 0 | D19: =IF(C19=1,E19,IF(P19=1,$E$2003+Q19,"")) | E19: =E18+C19 -> 0 | F19: =IF(AND('Deferred edits'!C17<>"",OR('Deferred edits'!C17='Policy card'!$C$3,'Deferred edits'!B17='Policy card'!$C$3)),1,0) -> 0 | G19: =IF(F19=1,H19,"") | H19: =H18+F19 -> 1 | I19: =IF('Deferred edits'!G17="Waiting",1,0) -> 0 | J19: =IF(I19=1,K19,"") | K19: =K18+I19 -> 5 | L19: =IF(AND(Versions!B17<>"",Versions!B17='Policy card'!$C$3),1,0) -> 0 | M19: =IF(L19=1,N19,"") | N19: =N18+L19 -> 2 | P19: =IF(AND(Comments!B17='Policy card'!$C$3,Comments!N17="Closed"),1,0) -> 0 | Q19: =Q18+P19 -> 7
A20: =IF(OR(Drafts!A18="",Drafts!E18="Withdrawn",AND(Drafts!E18="Adopted",OR(Drafts!N18="Complete",Drafts!N18="Not needed"))),"",IFERROR(MATCH(Drafts!E18,StageList,0),99)*1000+18) | C20: =IF(AND(Comments!B18='Policy card'!$C$3,Comments!N18="Open"),1,0) -> 0 | D20: =IF(C20=1,E20,IF(P20=1,$E$2003+Q20,"")) | E20: =E19+C20 -> 0 | F20: =IF(AND('Deferred edits'!C18<>"",OR('Deferred edits'!C18='Policy card'!$C$3,'Deferred edits'!B18='Policy card'!$C$3)),1,0) -> 0 | G20: =IF(F20=1,H20,"") | H20: =H19+F20 -> 1 | I20: =IF('Deferred edits'!G18="Waiting",1,0) -> 0 | J20: =IF(I20=1,K20,"") | K20: =K19+I20 -> 5 | L20: =IF(AND(Versions!B18<>"",Versions!B18='Policy card'!$C$3),1,0) -> 0 | M20: =IF(L20=1,N20,"") | N20: =N19+L20 -> 2 | P20: =IF(AND(Comments!B18='Policy card'!$C$3,Comments!N18="Closed"),1,0) -> 0 | Q20: =Q19+P20 -> 7
A21: =IF(OR(Drafts!A19="",Drafts!E19="Withdrawn",AND(Drafts!E19="Adopted",OR(Drafts!N19="Complete",Drafts!N19="Not needed"))),"",IFERROR(MATCH(Drafts!E19,StageList,0),99)*1000+19) | C21: =IF(AND(Comments!B19='Policy card'!$C$3,Comments!N19="Open"),1,0) -> 0 | D21: =IF(C21=1,E21,IF(P21=1,$E$2003+Q21,"")) | E21: =E20+C21 -> 0 | F21: =IF(AND('Deferred edits'!C19<>"",OR('Deferred edits'!C19='Policy card'!$C$3,'Deferred edits'!B19='Policy card'!$C$3)),1,0) -> 0 | G21: =IF(F21=1,H21,"") | H21: =H20+F21 -> 1 | I21: =IF('Deferred edits'!G19="Waiting",1,0) -> 0 | J21: =IF(I21=1,K21,"") | K21: =K20+I21 -> 5 | L21: =IF(AND(Versions!B19<>"",Versions!B19='Policy card'!$C$3),1,0) -> 0 | M21: =IF(L21=1,N21,"") | N21: =N20+L21 -> 2 | P21: =IF(AND(Comments!B19='Policy card'!$C$3,Comments!N19="Closed"),1,0) -> 0 | Q21: =Q20+P21 -> 7
A22: =IF(OR(Drafts!A20="",Drafts!E20="Withdrawn",AND(Drafts!E20="Adopted",OR(Drafts!N20="Complete",Drafts!N20="Not needed"))),"",IFERROR(MATCH(Drafts!E20,StageList,0),99)*1000+20) | C22: =IF(AND(Comments!B20='Policy card'!$C$3,Comments!N20="Open"),1,0) -> 0 | D22: =IF(C22=1,E22,IF(P22=1,$E$2003+Q22,"")) | E22: =E21+C22 -> 0 | F22: =IF(AND('Deferred edits'!C20<>"",OR('Deferred edits'!C20='Policy card'!$C$3,'Deferred edits'!B20='Policy card'!$C$3)),1,0) -> 0 | G22: =IF(F22=1,H22,"") | H22: =H21+F22 -> 1 | I22: =IF('Deferred edits'!G20="Waiting",1,0) -> 0 | J22: =IF(I22=1,K22,"") | K22: =K21+I22 -> 5 | L22: =IF(AND(Versions!B20<>"",Versions!B20='Policy card'!$C$3),1,0) -> 0 | M22: =IF(L22=1,N22,"") | N22: =N21+L22 -> 2 | P22: =IF(AND(Comments!B20='Policy card'!$C$3,Comments!N20="Closed"),1,0) -> 0 | Q22: =Q21+P22 -> 7
A23: =IF(OR(Drafts!A21="",Drafts!E21="Withdrawn",AND(Drafts!E21="Adopted",OR(Drafts!N21="Complete",Drafts!N21="Not needed"))),"",IFERROR(MATCH(Drafts!E21,StageList,0),99)*1000+21) | C23: =IF(AND(Comments!B21='Policy card'!$C$3,Comments!N21="Open"),1,0) -> 0 | D23: =IF(C23=1,E23,IF(P23=1,$E$2003+Q23,"")) | E23: =E22+C23 -> 0 | F23: =IF(AND('Deferred edits'!C21<>"",OR('Deferred edits'!C21='Policy card'!$C$3,'Deferred edits'!B21='Policy card'!$C$3)),1,0) -> 0 | G23: =IF(F23=1,H23,"") | H23: =H22+F23 -> 1 | I23: =IF('Deferred edits'!G21="Waiting",1,0) -> 0 | J23: =IF(I23=1,K23,"") | K23: =K22+I23 -> 5 | L23: =IF(AND(Versions!B21<>"",Versions!B21='Policy card'!$C$3),1,0) -> 0 | M23: =IF(L23=1,N23,"") | N23: =N22+L23 -> 2 | P23: =IF(AND(Comments!B21='Policy card'!$C$3,Comments!N21="Closed"),1,0) -> 0 | Q23: =Q22+P23 -> 7
A24: =IF(OR(Drafts!A22="",Drafts!E22="Withdrawn",AND(Drafts!E22="Adopted",OR(Drafts!N22="Complete",Drafts!N22="Not needed"))),"",IFERROR(MATCH(Drafts!E22,StageList,0),99)*1000+22) | C24: =IF(AND(Comments!B22='Policy card'!$C$3,Comments!N22="Open"),1,0) -> 0 | D24: =IF(C24=1,E24,IF(P24=1,$E$2003+Q24,"")) | E24: =E23+C24 -> 0 | F24: =IF(AND('Deferred edits'!C22<>"",OR('Deferred edits'!C22='Policy card'!$C$3,'Deferred edits'!B22='Policy card'!$C$3)),1,0) -> 0 | G24: =IF(F24=1,H24,"") | H24: =H23+F24 -> 1 | I24: =IF('Deferred edits'!G22="Waiting",1,0) -> 0 | J24: =IF(I24=1,K24,"") | K24: =K23+I24 -> 5 | L24: =IF(AND(Versions!B22<>"",Versions!B22='Policy card'!$C$3),1,0) -> 0 | M24: =IF(L24=1,N24,"") | N24: =N23+L24 -> 2 | P24: =IF(AND(Comments!B22='Policy card'!$C$3,Comments!N22="Closed"),1,0) -> 0 | Q24: =Q23+P24 -> 7
A25: =IF(OR(Drafts!A23="",Drafts!E23="Withdrawn",AND(Drafts!E23="Adopted",OR(Drafts!N23="Complete",Drafts!N23="Not needed"))),"",IFERROR(MATCH(Drafts!E23,StageList,0),99)*1000+23) | C25: =IF(AND(Comments!B23='Policy card'!$C$3,Comments!N23="Open"),1,0) -> 0 | D25: =IF(C25=1,E25,IF(P25=1,$E$2003+Q25,"")) | E25: =E24+C25 -> 0 | F25: =IF(AND('Deferred edits'!C23<>"",OR('Deferred edits'!C23='Policy card'!$C$3,'Deferred edits'!B23='Policy card'!$C$3)),1,0) -> 0 | G25: =IF(F25=1,H25,"") | H25: =H24+F25 -> 1 | I25: =IF('Deferred edits'!G23="Waiting",1,0) -> 0 | J25: =IF(I25=1,K25,"") | K25: =K24+I25 -> 5 | L25: =IF(AND(Versions!B23<>"",Versions!B23='Policy card'!$C$3),1,0) -> 0 | M25: =IF(L25=1,N25,"") | N25: =N24+L25 -> 2 | P25: =IF(AND(Comments!B23='Policy card'!$C$3,Comments!N23="Closed"),1,0) -> 0 | Q25: =Q24+P25 -> 7
A26: =IF(OR(Drafts!A24="",Drafts!E24="Withdrawn",AND(Drafts!E24="Adopted",OR(Drafts!N24="Complete",Drafts!N24="Not needed"))),"",IFERROR(MATCH(Drafts!E24,StageList,0),99)*1000+24) | C26: =IF(AND(Comments!B24='Policy card'!$C$3,Comments!N24="Open"),1,0) -> 0 | D26: =IF(C26=1,E26,IF(P26=1,$E$2003+Q26,"")) | E26: =E25+C26 -> 0 | F26: =IF(AND('Deferred edits'!C24<>"",OR('Deferred edits'!C24='Policy card'!$C$3,'Deferred edits'!B24='Policy card'!$C$3)),1,0) -> 0 | G26: =IF(F26=1,H26,"") | H26: =H25+F26 -> 1 | I26: =IF('Deferred edits'!G24="Waiting",1,0) -> 0 | J26: =IF(I26=1,K26,"") | K26: =K25+I26 -> 5 | L26: =IF(AND(Versions!B24<>"",Versions!B24='Policy card'!$C$3),1,0) -> 0 | M26: =IF(L26=1,N26,"") | N26: =N25+L26 -> 2 | P26: =IF(AND(Comments!B24='Policy card'!$C$3,Comments!N24="Closed"),1,0) -> 0 | Q26: =Q25+P26 -> 7
A27: =IF(OR(Drafts!A25="",Drafts!E25="Withdrawn",AND(Drafts!E25="Adopted",OR(Drafts!N25="Complete",Drafts!N25="Not needed"))),"",IFERROR(MATCH(Drafts!E25,StageList,0),99)*1000+25) | C27: =IF(AND(Comments!B25='Policy card'!$C$3,Comments!N25="Open"),1,0) -> 0 | D27: =IF(C27=1,E27,IF(P27=1,$E$2003+Q27,"")) | E27: =E26+C27 -> 0 | F27: =IF(AND('Deferred edits'!C25<>"",OR('Deferred edits'!C25='Policy card'!$C$3,'Deferred edits'!B25='Policy card'!$C$3)),1,0) -> 0 | G27: =IF(F27=1,H27,"") | H27: =H26+F27 -> 1 | I27: =IF('Deferred edits'!G25="Waiting",1,0) -> 0 | J27: =IF(I27=1,K27,"") | K27: =K26+I27 -> 5 | L27: =IF(AND(Versions!B25<>"",Versions!B25='Policy card'!$C$3),1,0) -> 0 | M27: =IF(L27=1,N27,"") | N27: =N26+L27 -> 2 | P27: =IF(AND(Comments!B25='Policy card'!$C$3,Comments!N25="Closed"),1,0) -> 0 | Q27: =Q26+P27 -> 7
A28: =IF(OR(Drafts!A26="",Drafts!E26="Withdrawn",AND(Drafts!E26="Adopted",OR(Drafts!N26="Complete",Drafts!N26="Not needed"))),"",IFERROR(MATCH(Drafts!E26,StageList,0),99)*1000+26) | C28: =IF(AND(Comments!B26='Policy card'!$C$3,Comments!N26="Open"),1,0) -> 0 | D28: =IF(C28=1,E28,IF(P28=1,$E$2003+Q28,"")) | E28: =E27+C28 -> 0 | F28: =IF(AND('Deferred edits'!C26<>"",OR('Deferred edits'!C26='Policy card'!$C$3,'Deferred edits'!B26='Policy card'!$C$3)),1,0) -> 0 | G28: =IF(F28=1,H28,"") | H28: =H27+F28 -> 1 | I28: =IF('Deferred edits'!G26="Waiting",1,0) -> 0 | J28: =IF(I28=1,K28,"") | K28: =K27+I28 -> 5 | L28: =IF(AND(Versions!B26<>"",Versions!B26='Policy card'!$C$3),1,0) -> 0 | M28: =IF(L28=1,N28,"") | N28: =N27+L28 -> 2 | P28: =IF(AND(Comments!B26='Policy card'!$C$3,Comments!N26="Closed"),1,0) -> 0 | Q28: =Q27+P28 -> 7
A29: =IF(OR(Drafts!A27="",Drafts!E27="Withdrawn",AND(Drafts!E27="Adopted",OR(Drafts!N27="Complete",Drafts!N27="Not needed"))),"",IFERROR(MATCH(Drafts!E27,StageList,0),99)*1000+27) | C29: =IF(AND(Comments!B27='Policy card'!$C$3,Comments!N27="Open"),1,0) -> 0 | D29: =IF(C29=1,E29,IF(P29=1,$E$2003+Q29,"")) | E29: =E28+C29 -> 0 | F29: =IF(AND('Deferred edits'!C27<>"",OR('Deferred edits'!C27='Policy card'!$C$3,'Deferred edits'!B27='Policy card'!$C$3)),1,0) -> 0 | G29: =IF(F29=1,H29,"") | H29: =H28+F29 -> 1 | I29: =IF('Deferred edits'!G27="Waiting",1,0) -> 0 | J29: =IF(I29=1,K29,"") | K29: =K28+I29 -> 5 | L29: =IF(AND(Versions!B27<>"",Versions!B27='Policy card'!$C$3),1,0) -> 0 | M29: =IF(L29=1,N29,"") | N29: =N28+L29 -> 2 | P29: =IF(AND(Comments!B27='Policy card'!$C$3,Comments!N27="Closed"),1,0) -> 0 | Q29: =Q28+P29 -> 7
A30: =IF(OR(Drafts!A28="",Drafts!E28="Withdrawn",AND(Drafts!E28="Adopted",OR(Drafts!N28="Complete",Drafts!N28="Not needed"))),"",IFERROR(MATCH(Drafts!E28,StageList,0),99)*1000+28) | C30: =IF(AND(Comments!B28='Policy card'!$C$3,Comments!N28="Open"),1,0) -> 0 | D30: =IF(C30=1,E30,IF(P30=1,$E$2003+Q30,"")) | E30: =E29+C30 -> 0 | F30: =IF(AND('Deferred edits'!C28<>"",OR('Deferred edits'!C28='Policy card'!$C$3,'Deferred edits'!B28='Policy card'!$C$3)),1,0) -> 0 | G30: =IF(F30=1,H30,"") | H30: =H29+F30 -> 1 | I30: =IF('Deferred edits'!G28="Waiting",1,0) -> 0 | J30: =IF(I30=1,K30,"") | K30: =K29+I30 -> 5 | L30: =IF(AND(Versions!B28<>"",Versions!B28='Policy card'!$C$3),1,0) -> 0 | M30: =IF(L30=1,N30,"") | N30: =N29+L30 -> 2 | P30: =IF(AND(Comments!B28='Policy card'!$C$3,Comments!N28="Closed"),1,0) -> 0 | Q30: =Q29+P30 -> 7
A31: =IF(OR(Drafts!A29="",Drafts!E29="Withdrawn",AND(Drafts!E29="Adopted",OR(Drafts!N29="Complete",Drafts!N29="Not needed"))),"",IFERROR(MATCH(Drafts!E29,StageList,0),99)*1000+29) | C31: =IF(AND(Comments!B29='Policy card'!$C$3,Comments!N29="Open"),1,0) -> 0 | D31: =IF(C31=1,E31,IF(P31=1,$E$2003+Q31,"")) | E31: =E30+C31 -> 0 | F31: =IF(AND('Deferred edits'!C29<>"",OR('Deferred edits'!C29='Policy card'!$C$3,'Deferred edits'!B29='Policy card'!$C$3)),1,0) -> 0 | G31: =IF(F31=1,H31,"") | H31: =H30+F31 -> 1 | I31: =IF('Deferred edits'!G29="Waiting",1,0) -> 0 | J31: =IF(I31=1,K31,"") | K31: =K30+I31 -> 5 | L31: =IF(AND(Versions!B29<>"",Versions!B29='Policy card'!$C$3),1,0) -> 0 | M31: =IF(L31=1,N31,"") | N31: =N30+L31 -> 2 | P31: =IF(AND(Comments!B29='Policy card'!$C$3,Comments!N29="Closed"),1,0) -> 0 | Q31: =Q30+P31 -> 7
A32: =IF(OR(Drafts!A30="",Drafts!E30="Withdrawn",AND(Drafts!E30="Adopted",OR(Drafts!N30="Complete",Drafts!N30="Not needed"))),"",IFERROR(MATCH(Drafts!E30,StageList,0),99)*1000+30) | C32: =IF(AND(Comments!B30='Policy card'!$C$3,Comments!N30="Open"),1,0) -> 0 | D32: =IF(C32=1,E32,IF(P32=1,$E$2003+Q32,"")) | E32: =E31+C32 -> 0 | F32: =IF(AND('Deferred edits'!C30<>"",OR('Deferred edits'!C30='Policy card'!$C$3,'Deferred edits'!B30='Policy card'!$C$3)),1,0) -> 0 | G32: =IF(F32=1,H32,"") | H32: =H31+F32 -> 1 | I32: =IF('Deferred edits'!G30="Waiting",1,0) -> 0 | J32: =IF(I32=1,K32,"") | K32: =K31+I32 -> 5 | L32: =IF(AND(Versions!B30<>"",Versions!B30='Policy card'!$C$3),1,0) -> 0 | M32: =IF(L32=1,N32,"") | N32: =N31+L32 -> 2 | P32: =IF(AND(Comments!B30='Policy card'!$C$3,Comments!N30="Closed"),1,0) -> 0 | Q32: =Q31+P32 -> 7
A33: =IF(OR(Drafts!A31="",Drafts!E31="Withdrawn",AND(Drafts!E31="Adopted",OR(Drafts!N31="Complete",Drafts!N31="Not needed"))),"",IFERROR(MATCH(Drafts!E31,StageList,0),99)*1000+31) | C33: =IF(AND(Comments!B31='Policy card'!$C$3,Comments!N31="Open"),1,0) -> 0 | D33: =IF(C33=1,E33,IF(P33=1,$E$2003+Q33,"")) | E33: =E32+C33 -> 0 | F33: =IF(AND('Deferred edits'!C31<>"",OR('Deferred edits'!C31='Policy card'!$C$3,'Deferred edits'!B31='Policy card'!$C$3)),1,0) -> 0 | G33: =IF(F33=1,H33,"") | H33: =H32+F33 -> 1 | I33: =IF('Deferred edits'!G31="Waiting",1,0) -> 0 | J33: =IF(I33=1,K33,"") | K33: =K32+I33 -> 5 | L33: =IF(AND(Versions!B31<>"",Versions!B31='Policy card'!$C$3),1,0) -> 0 | M33: =IF(L33=1,N33,"") | N33: =N32+L33 -> 2 | P33: =IF(AND(Comments!B31='Policy card'!$C$3,Comments!N31="Closed"),1,0) -> 0 | Q33: =Q32+P33 -> 7
A34: =IF(OR(Drafts!A32="",Drafts!E32="Withdrawn",AND(Drafts!E32="Adopted",OR(Drafts!N32="Complete",Drafts!N32="Not needed"))),"",IFERROR(MATCH(Drafts!E32,StageList,0),99)*1000+32) | C34: =IF(AND(Comments!B32='Policy card'!$C$3,Comments!N32="Open"),1,0) -> 0 | D34: =IF(C34=1,E34,IF(P34=1,$E$2003+Q34,"")) | E34: =E33+C34 -> 0 | F34: =IF(AND('Deferred edits'!C32<>"",OR('Deferred edits'!C32='Policy card'!$C$3,'Deferred edits'!B32='Policy card'!$C$3)),1,0) -> 0 | G34: =IF(F34=1,H34,"") | H34: =H33+F34 -> 1 | I34: =IF('Deferred edits'!G32="Waiting",1,0) -> 0 | J34: =IF(I34=1,K34,"") | K34: =K33+I34 -> 5 | L34: =IF(AND(Versions!B32<>"",Versions!B32='Policy card'!$C$3),1,0) -> 0 | M34: =IF(L34=1,N34,"") | N34: =N33+L34 -> 2 | P34: =IF(AND(Comments!B32='Policy card'!$C$3,Comments!N32="Closed"),1,0) -> 0 | Q34: =Q33+P34 -> 7
A35: =IF(OR(Drafts!A33="",Drafts!E33="Withdrawn",AND(Drafts!E33="Adopted",OR(Drafts!N33="Complete",Drafts!N33="Not needed"))),"",IFERROR(MATCH(Drafts!E33,StageList,0),99)*1000+33) | C35: =IF(AND(Comments!B33='Policy card'!$C$3,Comments!N33="Open"),1,0) -> 0 | D35: =IF(C35=1,E35,IF(P35=1,$E$2003+Q35,"")) | E35: =E34+C35 -> 0 | F35: =IF(AND('Deferred edits'!C33<>"",OR('Deferred edits'!C33='Policy card'!$C$3,'Deferred edits'!B33='Policy card'!$C$3)),1,0) -> 0 | G35: =IF(F35=1,H35,"") | H35: =H34+F35 -> 1 | I35: =IF('Deferred edits'!G33="Waiting",1,0) -> 0 | J35: =IF(I35=1,K35,"") | K35: =K34+I35 -> 5 | L35: =IF(AND(Versions!B33<>"",Versions!B33='Policy card'!$C$3),1,0) -> 0 | M35: =IF(L35=1,N35,"") | N35: =N34+L35 -> 2 | P35: =IF(AND(Comments!B33='Policy card'!$C$3,Comments!N33="Closed"),1,0) -> 0 | Q35: =Q34+P35 -> 7
A36: =IF(OR(Drafts!A34="",Drafts!E34="Withdrawn",AND(Drafts!E34="Adopted",OR(Drafts!N34="Complete",Drafts!N34="Not needed"))),"",IFERROR(MATCH(Drafts!E34,StageList,0),99)*1000+34) | C36: =IF(AND(Comments!B34='Policy card'!$C$3,Comments!N34="Open"),1,0) -> 0 | D36: =IF(C36=1,E36,IF(P36=1,$E$2003+Q36,"")) | E36: =E35+C36 -> 0 | F36: =IF(AND('Deferred edits'!C34<>"",OR('Deferred edits'!C34='Policy card'!$C$3,'Deferred edits'!B34='Policy card'!$C$3)),1,0) -> 0 | G36: =IF(F36=1,H36,"") | H36: =H35+F36 -> 1 | I36: =IF('Deferred edits'!G34="Waiting",1,0) -> 0 | J36: =IF(I36=1,K36,"") | K36: =K35+I36 -> 5 | L36: =IF(AND(Versions!B34<>"",Versions!B34='Policy card'!$C$3),1,0) -> 0 | M36: =IF(L36=1,N36,"") | N36: =N35+L36 -> 2 | P36: =IF(AND(Comments!B34='Policy card'!$C$3,Comments!N34="Closed"),1,0) -> 0 | Q36: =Q35+P36 -> 7
A37: =IF(OR(Drafts!A35="",Drafts!E35="Withdrawn",AND(Drafts!E35="Adopted",OR(Drafts!N35="Complete",Drafts!N35="Not needed"))),"",IFERROR(MATCH(Drafts!E35,StageList,0),99)*1000+35) | C37: =IF(AND(Comments!B35='Policy card'!$C$3,Comments!N35="Open"),1,0) -> 0 | D37: =IF(C37=1,E37,IF(P37=1,$E$2003+Q37,"")) | E37: =E36+C37 -> 0 | F37: =IF(AND('Deferred edits'!C35<>"",OR('Deferred edits'!C35='Policy card'!$C$3,'Deferred edits'!B35='Policy card'!$C$3)),1,0) -> 0 | G37: =IF(F37=1,H37,"") | H37: =H36+F37 -> 1 | I37: =IF('Deferred edits'!G35="Waiting",1,0) -> 0 | J37: =IF(I37=1,K37,"") | K37: =K36+I37 -> 5 | L37: =IF(AND(Versions!B35<>"",Versions!B35='Policy card'!$C$3),1,0) -> 0 | M37: =IF(L37=1,N37,"") | N37: =N36+L37 -> 2 | P37: =IF(AND(Comments!B35='Policy card'!$C$3,Comments!N35="Closed"),1,0) -> 0 | Q37: =Q36+P37 -> 7
A38: =IF(OR(Drafts!A36="",Drafts!E36="Withdrawn",AND(Drafts!E36="Adopted",OR(Drafts!N36="Complete",Drafts!N36="Not needed"))),"",IFERROR(MATCH(Drafts!E36,StageList,0),99)*1000+36) | C38: =IF(AND(Comments!B36='Policy card'!$C$3,Comments!N36="Open"),1,0) -> 0 | D38: =IF(C38=1,E38,IF(P38=1,$E$2003+Q38,"")) | E38: =E37+C38 -> 0 | F38: =IF(AND('Deferred edits'!C36<>"",OR('Deferred edits'!C36='Policy card'!$C$3,'Deferred edits'!B36='Policy card'!$C$3)),1,0) -> 0 | G38: =IF(F38=1,H38,"") | H38: =H37+F38 -> 1 | I38: =IF('Deferred edits'!G36="Waiting",1,0) -> 0 | J38: =IF(I38=1,K38,"") | K38: =K37+I38 -> 5 | L38: =IF(AND(Versions!B36<>"",Versions!B36='Policy card'!$C$3),1,0) -> 0 | M38: =IF(L38=1,N38,"") | N38: =N37+L38 -> 2 | P38: =IF(AND(Comments!B36='Policy card'!$C$3,Comments!N36="Closed"),1,0) -> 0 | Q38: =Q37+P38 -> 7
A39: =IF(OR(Drafts!A37="",Drafts!E37="Withdrawn",AND(Drafts!E37="Adopted",OR(Drafts!N37="Complete",Drafts!N37="Not needed"))),"",IFERROR(MATCH(Drafts!E37,StageList,0),99)*1000+37) | C39: =IF(AND(Comments!B37='Policy card'!$C$3,Comments!N37="Open"),1,0) -> 0 | D39: =IF(C39=1,E39,IF(P39=1,$E$2003+Q39,"")) | E39: =E38+C39 -> 0 | F39: =IF(AND('Deferred edits'!C37<>"",OR('Deferred edits'!C37='Policy card'!$C$3,'Deferred edits'!B37='Policy card'!$C$3)),1,0) -> 0 | G39: =IF(F39=1,H39,"") | H39: =H38+F39 -> 1 | I39: =IF('Deferred edits'!G37="Waiting",1,0) -> 0 | J39: =IF(I39=1,K39,"") | K39: =K38+I39 -> 5 | L39: =IF(AND(Versions!B37<>"",Versions!B37='Policy card'!$C$3),1,0) -> 0 | M39: =IF(L39=1,N39,"") | N39: =N38+L39 -> 2 | P39: =IF(AND(Comments!B37='Policy card'!$C$3,Comments!N37="Closed"),1,0) -> 0 | Q39: =Q38+P39 -> 7
A40: =IF(OR(Drafts!A38="",Drafts!E38="Withdrawn",AND(Drafts!E38="Adopted",OR(Drafts!N38="Complete",Drafts!N38="Not needed"))),"",IFERROR(MATCH(Drafts!E38,StageList,0),99)*1000+38) | C40: =IF(AND(Comments!B38='Policy card'!$C$3,Comments!N38="Open"),1,0) -> 0 | D40: =IF(C40=1,E40,IF(P40=1,$E$2003+Q40,"")) | E40: =E39+C40 -> 0 | F40: =IF(AND('Deferred edits'!C38<>"",OR('Deferred edits'!C38='Policy card'!$C$3,'Deferred edits'!B38='Policy card'!$C$3)),1,0) -> 0 | G40: =IF(F40=1,H40,"") | H40: =H39+F40 -> 1 | I40: =IF('Deferred edits'!G38="Waiting",1,0) -> 0 | J40: =IF(I40=1,K40,"") | K40: =K39+I40 -> 5 | L40: =IF(AND(Versions!B38<>"",Versions!B38='Policy card'!$C$3),1,0) -> 0 | M40: =IF(L40=1,N40,"") | N40: =N39+L40 -> 2 | P40: =IF(AND(Comments!B38='Policy card'!$C$3,Comments!N38="Closed"),1,0) -> 0 | Q40: =Q39+P40 -> 7
A41: =IF(OR(Drafts!A39="",Drafts!E39="Withdrawn",AND(Drafts!E39="Adopted",OR(Drafts!N39="Complete",Drafts!N39="Not needed"))),"",IFERROR(MATCH(Drafts!E39,StageList,0),99)*1000+39) | C41: =IF(AND(Comments!B39='Policy card'!$C$3,Comments!N39="Open"),1,0) -> 0 | D41: =IF(C41=1,E41,IF(P41=1,$E$2003+Q41,"")) | E41: =E40+C41 -> 0 | F41: =IF(AND('Deferred edits'!C39<>"",OR('Deferred edits'!C39='Policy card'!$C$3,'Deferred edits'!B39='Policy card'!$C$3)),1,0) -> 0 | G41: =IF(F41=1,H41,"") | H41: =H40+F41 -> 1 | I41: =IF('Deferred edits'!G39="Waiting",1,0) -> 0 | J41: =IF(I41=1,K41,"") | K41: =K40+I41 -> 5 | L41: =IF(AND(Versions!B39<>"",Versions!B39='Policy card'!$C$3),1,0) -> 0 | M41: =IF(L41=1,N41,"") | N41: =N40+L41 -> 2 | P41: =IF(AND(Comments!B39='Policy card'!$C$3,Comments!N39="Closed"),1,0) -> 0 | Q41: =Q40+P41 -> 7
A42: =IF(OR(Drafts!A40="",Drafts!E40="Withdrawn",AND(Drafts!E40="Adopted",OR(Drafts!N40="Complete",Drafts!N40="Not needed"))),"",IFERROR(MATCH(Drafts!E40,StageList,0),99)*1000+40) | C42: =IF(AND(Comments!B40='Policy card'!$C$3,Comments!N40="Open"),1,0) -> 0 | D42: =IF(C42=1,E42,IF(P42=1,$E$2003+Q42,"")) | E42: =E41+C42 -> 0 | F42: =IF(AND('Deferred edits'!C40<>"",OR('Deferred edits'!C40='Policy card'!$C$3,'Deferred edits'!B40='Policy card'!$C$3)),1,0) -> 0 | G42: =IF(F42=1,H42,"") | H42: =H41+F42 -> 1 | I42: =IF('Deferred edits'!G40="Waiting",1,0) -> 0 | J42: =IF(I42=1,K42,"") | K42: =K41+I42 -> 5 | L42: =IF(AND(Versions!B40<>"",Versions!B40='Policy card'!$C$3),1,0) -> 0 | M42: =IF(L42=1,N42,"") | N42: =N41+L42 -> 2 | P42: =IF(AND(Comments!B40='Policy card'!$C$3,Comments!N40="Closed"),1,0) -> 0 | Q42: =Q41+P42 -> 7
A43: =IF(OR(Drafts!A41="",Drafts!E41="Withdrawn",AND(Drafts!E41="Adopted",OR(Drafts!N41="Complete",Drafts!N41="Not needed"))),"",IFERROR(MATCH(Drafts!E41,StageList,0),99)*1000+41) | C43: =IF(AND(Comments!B41='Policy card'!$C$3,Comments!N41="Open"),1,0) -> 0 | D43: =IF(C43=1,E43,IF(P43=1,$E$2003+Q43,"")) | E43: =E42+C43 -> 0 | F43: =IF(AND('Deferred edits'!C41<>"",OR('Deferred edits'!C41='Policy card'!$C$3,'Deferred edits'!B41='Policy card'!$C$3)),1,0) -> 0 | G43: =IF(F43=1,H43,"") | H43: =H42+F43 -> 1 | I43: =IF('Deferred edits'!G41="Waiting",1,0) -> 0 | J43: =IF(I43=1,K43,"") | K43: =K42+I43 -> 5 | L43: =IF(AND(Versions!B41<>"",Versions!B41='Policy card'!$C$3),1,0) -> 0 | M43: =IF(L43=1,N43,"") | N43: =N42+L43 -> 2 | P43: =IF(AND(Comments!B41='Policy card'!$C$3,Comments!N41="Closed"),1,0) -> 0 | Q43: =Q42+P43 -> 7
A44: =IF(OR(Drafts!A42="",Drafts!E42="Withdrawn",AND(Drafts!E42="Adopted",OR(Drafts!N42="Complete",Drafts!N42="Not needed"))),"",IFERROR(MATCH(Drafts!E42,StageList,0),99)*1000+42) | C44: =IF(AND(Comments!B42='Policy card'!$C$3,Comments!N42="Open"),1,0) -> 0 | D44: =IF(C44=1,E44,IF(P44=1,$E$2003+Q44,"")) | E44: =E43+C44 -> 0 | F44: =IF(AND('Deferred edits'!C42<>"",OR('Deferred edits'!C42='Policy card'!$C$3,'Deferred edits'!B42='Policy card'!$C$3)),1,0) -> 0 | G44: =IF(F44=1,H44,"") | H44: =H43+F44 -> 1 | I44: =IF('Deferred edits'!G42="Waiting",1,0) -> 0 | J44: =IF(I44=1,K44,"") | K44: =K43+I44 -> 5 | L44: =IF(AND(Versions!B42<>"",Versions!B42='Policy card'!$C$3),1,0) -> 0 | M44: =IF(L44=1,N44,"") | N44: =N43+L44 -> 2 | P44: =IF(AND(Comments!B42='Policy card'!$C$3,Comments!N42="Closed"),1,0) -> 0 | Q44: =Q43+P44 -> 7
A45: =IF(OR(Drafts!A43="",Drafts!E43="Withdrawn",AND(Drafts!E43="Adopted",OR(Drafts!N43="Complete",Drafts!N43="Not needed"))),"",IFERROR(MATCH(Drafts!E43,StageList,0),99)*1000+43) | C45: =IF(AND(Comments!B43='Policy card'!$C$3,Comments!N43="Open"),1,0) -> 0 | D45: =IF(C45=1,E45,IF(P45=1,$E$2003+Q45,"")) | E45: =E44+C45 -> 0 | F45: =IF(AND('Deferred edits'!C43<>"",OR('Deferred edits'!C43='Policy card'!$C$3,'Deferred edits'!B43='Policy card'!$C$3)),1,0) -> 0 | G45: =IF(F45=1,H45,"") | H45: =H44+F45 -> 1 | I45: =IF('Deferred edits'!G43="Waiting",1,0) -> 0 | J45: =IF(I45=1,K45,"") | K45: =K44+I45 -> 5 | L45: =IF(AND(Versions!B43<>"",Versions!B43='Policy card'!$C$3),1,0) -> 0 | M45: =IF(L45=1,N45,"") | N45: =N44+L45 -> 2 | P45: =IF(AND(Comments!B43='Policy card'!$C$3,Comments!N43="Closed"),1,0) -> 0 | Q45: =Q44+P45 -> 7
A46: =IF(OR(Drafts!A44="",Drafts!E44="Withdrawn",AND(Drafts!E44="Adopted",OR(Drafts!N44="Complete",Drafts!N44="Not needed"))),"",IFERROR(MATCH(Drafts!E44,StageList,0),99)*1000+44) | C46: =IF(AND(Comments!B44='Policy card'!$C$3,Comments!N44="Open"),1,0) -> 0 | D46: =IF(C46=1,E46,IF(P46=1,$E$2003+Q46,"")) | E46: =E45+C46 -> 0 | F46: =IF(AND('Deferred edits'!C44<>"",OR('Deferred edits'!C44='Policy card'!$C$3,'Deferred edits'!B44='Policy card'!$C$3)),1,0) -> 0 | G46: =IF(F46=1,H46,"") | H46: =H45+F46 -> 1 | I46: =IF('Deferred edits'!G44="Waiting",1,0) -> 0 | J46: =IF(I46=1,K46,"") | K46: =K45+I46 -> 5 | L46: =IF(AND(Versions!B44<>"",Versions!B44='Policy card'!$C$3),1,0) -> 0 | M46: =IF(L46=1,N46,"") | N46: =N45+L46 -> 2 | P46: =IF(AND(Comments!B44='Policy card'!$C$3,Comments!N44="Closed"),1,0) -> 0 | Q46: =Q45+P46 -> 7
A47: =IF(OR(Drafts!A45="",Drafts!E45="Withdrawn",AND(Drafts!E45="Adopted",OR(Drafts!N45="Complete",Drafts!N45="Not needed"))),"",IFERROR(MATCH(Drafts!E45,StageList,0),99)*1000+45) | C47: =IF(AND(Comments!B45='Policy card'!$C$3,Comments!N45="Open"),1,0) -> 0 | D47: =IF(C47=1,E47,IF(P47=1,$E$2003+Q47,"")) | E47: =E46+C47 -> 0 | F47: =IF(AND('Deferred edits'!C45<>"",OR('Deferred edits'!C45='Policy card'!$C$3,'Deferred edits'!B45='Policy card'!$C$3)),1,0) -> 0 | G47: =IF(F47=1,H47,"") | H47: =H46+F47 -> 1 | I47: =IF('Deferred edits'!G45="Waiting",1,0) -> 0 | J47: =IF(I47=1,K47,"") | K47: =K46+I47 -> 5 | L47: =IF(AND(Versions!B45<>"",Versions!B45='Policy card'!$C$3),1,0) -> 0 | M47: =IF(L47=1,N47,"") | N47: =N46+L47 -> 2 | P47: =IF(AND(Comments!B45='Policy card'!$C$3,Comments!N45="Closed"),1,0) -> 0 | Q47: =Q46+P47 -> 7
A48: =IF(OR(Drafts!A46="",Drafts!E46="Withdrawn",AND(Drafts!E46="Adopted",OR(Drafts!N46="Complete",Drafts!N46="Not needed"))),"",IFERROR(MATCH(Drafts!E46,StageList,0),99)*1000+46) | C48: =IF(AND(Comments!B46='Policy card'!$C$3,Comments!N46="Open"),1,0) -> 0 | D48: =IF(C48=1,E48,IF(P48=1,$E$2003+Q48,"")) | E48: =E47+C48 -> 0 | F48: =IF(AND('Deferred edits'!C46<>"",OR('Deferred edits'!C46='Policy card'!$C$3,'Deferred edits'!B46='Policy card'!$C$3)),1,0) -> 0 | G48: =IF(F48=1,H48,"") | H48: =H47+F48 -> 1 | I48: =IF('Deferred edits'!G46="Waiting",1,0) -> 0 | J48: =IF(I48=1,K48,"") | K48: =K47+I48 -> 5 | L48: =IF(AND(Versions!B46<>"",Versions!B46='Policy card'!$C$3),1,0) -> 0 | M48: =IF(L48=1,N48,"") | N48: =N47+L48 -> 2 | P48: =IF(AND(Comments!B46='Policy card'!$C$3,Comments!N46="Closed"),1,0) -> 0 | Q48: =Q47+P48 -> 7
A49: =IF(OR(Drafts!A47="",Drafts!E47="Withdrawn",AND(Drafts!E47="Adopted",OR(Drafts!N47="Complete",Drafts!N47="Not needed"))),"",IFERROR(MATCH(Drafts!E47,StageList,0),99)*1000+47) | C49: =IF(AND(Comments!B47='Policy card'!$C$3,Comments!N47="Open"),1,0) -> 0 | D49: =IF(C49=1,E49,IF(P49=1,$E$2003+Q49,"")) | E49: =E48+C49 -> 0 | F49: =IF(AND('Deferred edits'!C47<>"",OR('Deferred edits'!C47='Policy card'!$C$3,'Deferred edits'!B47='Policy card'!$C$3)),1,0) -> 0 | G49: =IF(F49=1,H49,"") | H49: =H48+F49 -> 1 | I49: =IF('Deferred edits'!G47="Waiting",1,0) -> 0 | J49: =IF(I49=1,K49,"") | K49: =K48+I49 -> 5 | L49: =IF(AND(Versions!B47<>"",Versions!B47='Policy card'!$C$3),1,0) -> 0 | M49: =IF(L49=1,N49,"") | N49: =N48+L49 -> 2 | P49: =IF(AND(Comments!B47='Policy card'!$C$3,Comments!N47="Closed"),1,0) -> 0 | Q49: =Q48+P49 -> 7
A50: =IF(OR(Drafts!A48="",Drafts!E48="Withdrawn",AND(Drafts!E48="Adopted",OR(Drafts!N48="Complete",Drafts!N48="Not needed"))),"",IFERROR(MATCH(Drafts!E48,StageList,0),99)*1000+48) | C50: =IF(AND(Comments!B48='Policy card'!$C$3,Comments!N48="Open"),1,0) -> 0 | D50: =IF(C50=1,E50,IF(P50=1,$E$2003+Q50,"")) | E50: =E49+C50 -> 0 | F50: =IF(AND('Deferred edits'!C48<>"",OR('Deferred edits'!C48='Policy card'!$C$3,'Deferred edits'!B48='Policy card'!$C$3)),1,0) -> 0 | G50: =IF(F50=1,H50,"") | H50: =H49+F50 -> 1 | I50: =IF('Deferred edits'!G48="Waiting",1,0) -> 0 | J50: =IF(I50=1,K50,"") | K50: =K49+I50 -> 5 | L50: =IF(AND(Versions!B48<>"",Versions!B48='Policy card'!$C$3),1,0) -> 0 | M50: =IF(L50=1,N50,"") | N50: =N49+L50 -> 2 | P50: =IF(AND(Comments!B48='Policy card'!$C$3,Comments!N48="Closed"),1,0) -> 0 | Q50: =Q49+P50 -> 7
A51: =IF(OR(Drafts!A49="",Drafts!E49="Withdrawn",AND(Drafts!E49="Adopted",OR(Drafts!N49="Complete",Drafts!N49="Not needed"))),"",IFERROR(MATCH(Drafts!E49,StageList,0),99)*1000+49) | C51: =IF(AND(Comments!B49='Policy card'!$C$3,Comments!N49="Open"),1,0) -> 0 | D51: =IF(C51=1,E51,IF(P51=1,$E$2003+Q51,"")) | E51: =E50+C51 -> 0 | F51: =IF(AND('Deferred edits'!C49<>"",OR('Deferred edits'!C49='Policy card'!$C$3,'Deferred edits'!B49='Policy card'!$C$3)),1,0) -> 0 | G51: =IF(F51=1,H51,"") | H51: =H50+F51 -> 1 | I51: =IF('Deferred edits'!G49="Waiting",1,0) -> 0 | J51: =IF(I51=1,K51,"") | K51: =K50+I51 -> 5 | L51: =IF(AND(Versions!B49<>"",Versions!B49='Policy card'!$C$3),1,0) -> 0 | M51: =IF(L51=1,N51,"") | N51: =N50+L51 -> 2 | P51: =IF(AND(Comments!B49='Policy card'!$C$3,Comments!N49="Closed"),1,0) -> 0 | Q51: =Q50+P51 -> 7
A52: =IF(OR(Drafts!A50="",Drafts!E50="Withdrawn",AND(Drafts!E50="Adopted",OR(Drafts!N50="Complete",Drafts!N50="Not needed"))),"",IFERROR(MATCH(Drafts!E50,StageList,0),99)*1000+50) | C52: =IF(AND(Comments!B50='Policy card'!$C$3,Comments!N50="Open"),1,0) -> 0 | D52: =IF(C52=1,E52,IF(P52=1,$E$2003+Q52,"")) | E52: =E51+C52 -> 0 | F52: =IF(AND('Deferred edits'!C50<>"",OR('Deferred edits'!C50='Policy card'!$C$3,'Deferred edits'!B50='Policy card'!$C$3)),1,0) -> 0 | G52: =IF(F52=1,H52,"") | H52: =H51+F52 -> 1 | I52: =IF('Deferred edits'!G50="Waiting",1,0) -> 0 | J52: =IF(I52=1,K52,"") | K52: =K51+I52 -> 5 | L52: =IF(AND(Versions!B50<>"",Versions!B50='Policy card'!$C$3),1,0) -> 0 | M52: =IF(L52=1,N52,"") | N52: =N51+L52 -> 2 | P52: =IF(AND(Comments!B50='Policy card'!$C$3,Comments!N50="Closed"),1,0) -> 0 | Q52: =Q51+P52 -> 7
A53: =IF(OR(Drafts!A51="",Drafts!E51="Withdrawn",AND(Drafts!E51="Adopted",OR(Drafts!N51="Complete",Drafts!N51="Not needed"))),"",IFERROR(MATCH(Drafts!E51,StageList,0),99)*1000+51) | C53: =IF(AND(Comments!B51='Policy card'!$C$3,Comments!N51="Open"),1,0) -> 0 | D53: =IF(C53=1,E53,IF(P53=1,$E$2003+Q53,"")) | E53: =E52+C53 -> 0 | F53: =IF(AND('Deferred edits'!C51<>"",OR('Deferred edits'!C51='Policy card'!$C$3,'Deferred edits'!B51='Policy card'!$C$3)),1,0) -> 0 | G53: =IF(F53=1,H53,"") | H53: =H52+F53 -> 1 | I53: =IF('Deferred edits'!G51="Waiting",1,0) -> 0 | J53: =IF(I53=1,K53,"") | K53: =K52+I53 -> 5 | L53: =IF(AND(Versions!B51<>"",Versions!B51='Policy card'!$C$3),1,0) -> 0 | M53: =IF(L53=1,N53,"") | N53: =N52+L53 -> 2 | P53: =IF(AND(Comments!B51='Policy card'!$C$3,Comments!N51="Closed"),1,0) -> 0 | Q53: =Q52+P53 -> 7
A54: =IF(OR(Drafts!A52="",Drafts!E52="Withdrawn",AND(Drafts!E52="Adopted",OR(Drafts!N52="Complete",Drafts!N52="Not needed"))),"",IFERROR(MATCH(Drafts!E52,StageList,0),99)*1000+52) | C54: =IF(AND(Comments!B52='Policy card'!$C$3,Comments!N52="Open"),1,0) -> 0 | D54: =IF(C54=1,E54,IF(P54=1,$E$2003+Q54,"")) | E54: =E53+C54 -> 0 | F54: =IF(AND('Deferred edits'!C52<>"",OR('Deferred edits'!C52='Policy card'!$C$3,'Deferred edits'!B52='Policy card'!$C$3)),1,0) -> 0 | G54: =IF(F54=1,H54,"") | H54: =H53+F54 -> 1 | I54: =IF('Deferred edits'!G52="Waiting",1,0) -> 0 | J54: =IF(I54=1,K54,"") | K54: =K53+I54 -> 5 | L54: =IF(AND(Versions!B52<>"",Versions!B52='Policy card'!$C$3),1,0) -> 0 | M54: =IF(L54=1,N54,"") | N54: =N53+L54 -> 2 | P54: =IF(AND(Comments!B52='Policy card'!$C$3,Comments!N52="Closed"),1,0) -> 0 | Q54: =Q53+P54 -> 7
A55: =IF(OR(Drafts!A53="",Drafts!E53="Withdrawn",AND(Drafts!E53="Adopted",OR(Drafts!N53="Complete",Drafts!N53="Not needed"))),"",IFERROR(MATCH(Drafts!E53,StageList,0),99)*1000+53) | C55: =IF(AND(Comments!B53='Policy card'!$C$3,Comments!N53="Open"),1,0) -> 0 | D55: =IF(C55=1,E55,IF(P55=1,$E$2003+Q55,"")) | E55: =E54+C55 -> 0 | F55: =IF(AND('Deferred edits'!C53<>"",OR('Deferred edits'!C53='Policy card'!$C$3,'Deferred edits'!B53='Policy card'!$C$3)),1,0) -> 0 | G55: =IF(F55=1,H55,"") | H55: =H54+F55 -> 1 | I55: =IF('Deferred edits'!G53="Waiting",1,0) -> 0 | J55: =IF(I55=1,K55,"") | K55: =K54+I55 -> 5 | L55: =IF(AND(Versions!B53<>"",Versions!B53='Policy card'!$C$3),1,0) -> 0 | M55: =IF(L55=1,N55,"") | N55: =N54+L55 -> 2 | P55: =IF(AND(Comments!B53='Policy card'!$C$3,Comments!N53="Closed"),1,0) -> 0 | Q55: =Q54+P55 -> 7
A56: =IF(OR(Drafts!A54="",Drafts!E54="Withdrawn",AND(Drafts!E54="Adopted",OR(Drafts!N54="Complete",Drafts!N54="Not needed"))),"",IFERROR(MATCH(Drafts!E54,StageList,0),99)*1000+54) | C56: =IF(AND(Comments!B54='Policy card'!$C$3,Comments!N54="Open"),1,0) -> 0 | D56: =IF(C56=1,E56,IF(P56=1,$E$2003+Q56,"")) | E56: =E55+C56 -> 0 | F56: =IF(AND('Deferred edits'!C54<>"",OR('Deferred edits'!C54='Policy card'!$C$3,'Deferred edits'!B54='Policy card'!$C$3)),1,0) -> 0 | G56: =IF(F56=1,H56,"") | H56: =H55+F56 -> 1 | I56: =IF('Deferred edits'!G54="Waiting",1,0) -> 0 | J56: =IF(I56=1,K56,"") | K56: =K55+I56 -> 5 | L56: =IF(AND(Versions!B54<>"",Versions!B54='Policy card'!$C$3),1,0) -> 0 | M56: =IF(L56=1,N56,"") | N56: =N55+L56 -> 2 | P56: =IF(AND(Comments!B54='Policy card'!$C$3,Comments!N54="Closed"),1,0) -> 0 | Q56: =Q55+P56 -> 7
A57: =IF(OR(Drafts!A55="",Drafts!E55="Withdrawn",AND(Drafts!E55="Adopted",OR(Drafts!N55="Complete",Drafts!N55="Not needed"))),"",IFERROR(MATCH(Drafts!E55,StageList,0),99)*1000+55) | C57: =IF(AND(Comments!B55='Policy card'!$C$3,Comments!N55="Open"),1,0) -> 0 | D57: =IF(C57=1,E57,IF(P57=1,$E$2003+Q57,"")) | E57: =E56+C57 -> 0 | F57: =IF(AND('Deferred edits'!C55<>"",OR('Deferred edits'!C55='Policy card'!$C$3,'Deferred edits'!B55='Policy card'!$C$3)),1,0) -> 0 | G57: =IF(F57=1,H57,"") | H57: =H56+F57 -> 1 | I57: =IF('Deferred edits'!G55="Waiting",1,0) -> 0 | J57: =IF(I57=1,K57,"") | K57: =K56+I57 -> 5 | L57: =IF(AND(Versions!B55<>"",Versions!B55='Policy card'!$C$3),1,0) -> 0 | M57: =IF(L57=1,N57,"") | N57: =N56+L57 -> 2 | P57: =IF(AND(Comments!B55='Policy card'!$C$3,Comments!N55="Closed"),1,0) -> 0 | Q57: =Q56+P57 -> 7
A58: =IF(OR(Drafts!A56="",Drafts!E56="Withdrawn",AND(Drafts!E56="Adopted",OR(Drafts!N56="Complete",Drafts!N56="Not needed"))),"",IFERROR(MATCH(Drafts!E56,StageList,0),99)*1000+56) | C58: =IF(AND(Comments!B56='Policy card'!$C$3,Comments!N56="Open"),1,0) -> 0 | D58: =IF(C58=1,E58,IF(P58=1,$E$2003+Q58,"")) | E58: =E57+C58 -> 0 | F58: =IF(AND('Deferred edits'!C56<>"",OR('Deferred edits'!C56='Policy card'!$C$3,'Deferred edits'!B56='Policy card'!$C$3)),1,0) -> 0 | G58: =IF(F58=1,H58,"") | H58: =H57+F58 -> 1 | I58: =IF('Deferred edits'!G56="Waiting",1,0) -> 0 | J58: =IF(I58=1,K58,"") | K58: =K57+I58 -> 5 | L58: =IF(AND(Versions!B56<>"",Versions!B56='Policy card'!$C$3),1,0) -> 0 | M58: =IF(L58=1,N58,"") | N58: =N57+L58 -> 2 | P58: =IF(AND(Comments!B56='Policy card'!$C$3,Comments!N56="Closed"),1,0) -> 0 | Q58: =Q57+P58 -> 7
A59: =IF(OR(Drafts!A57="",Drafts!E57="Withdrawn",AND(Drafts!E57="Adopted",OR(Drafts!N57="Complete",Drafts!N57="Not needed"))),"",IFERROR(MATCH(Drafts!E57,StageList,0),99)*1000+57) | C59: =IF(AND(Comments!B57='Policy card'!$C$3,Comments!N57="Open"),1,0) -> 0 | D59: =IF(C59=1,E59,IF(P59=1,$E$2003+Q59,"")) | E59: =E58+C59 -> 0 | F59: =IF(AND('Deferred edits'!C57<>"",OR('Deferred edits'!C57='Policy card'!$C$3,'Deferred edits'!B57='Policy card'!$C$3)),1,0) -> 0 | G59: =IF(F59=1,H59,"") | H59: =H58+F59 -> 1 | I59: =IF('Deferred edits'!G57="Waiting",1,0) -> 0 | J59: =IF(I59=1,K59,"") | K59: =K58+I59 -> 5 | L59: =IF(AND(Versions!B57<>"",Versions!B57='Policy card'!$C$3),1,0) -> 0 | M59: =IF(L59=1,N59,"") | N59: =N58+L59 -> 2 | P59: =IF(AND(Comments!B57='Policy card'!$C$3,Comments!N57="Closed"),1,0) -> 0 | Q59: =Q58+P59 -> 7
A60: =IF(OR(Drafts!A58="",Drafts!E58="Withdrawn",AND(Drafts!E58="Adopted",OR(Drafts!N58="Complete",Drafts!N58="Not needed"))),"",IFERROR(MATCH(Drafts!E58,StageList,0),99)*1000+58) | C60: =IF(AND(Comments!B58='Policy card'!$C$3,Comments!N58="Open"),1,0) -> 0 | D60: =IF(C60=1,E60,IF(P60=1,$E$2003+Q60,"")) | E60: =E59+C60 -> 0 | F60: =IF(AND('Deferred edits'!C58<>"",OR('Deferred edits'!C58='Policy card'!$C$3,'Deferred edits'!B58='Policy card'!$C$3)),1,0) -> 0 | G60: =IF(F60=1,H60,"") | H60: =H59+F60 -> 1 | I60: =IF('Deferred edits'!G58="Waiting",1,0) -> 0 | J60: =IF(I60=1,K60,"") | K60: =K59+I60 -> 5 | L60: =IF(AND(Versions!B58<>"",Versions!B58='Policy card'!$C$3),1,0) -> 0 | M60: =IF(L60=1,N60,"") | N60: =N59+L60 -> 2 | P60: =IF(AND(Comments!B58='Policy card'!$C$3,Comments!N58="Closed"),1,0) -> 0 | Q60: =Q59+P60 -> 7
A61: =IF(OR(Drafts!A59="",Drafts!E59="Withdrawn",AND(Drafts!E59="Adopted",OR(Drafts!N59="Complete",Drafts!N59="Not needed"))),"",IFERROR(MATCH(Drafts!E59,StageList,0),99)*1000+59) | C61: =IF(AND(Comments!B59='Policy card'!$C$3,Comments!N59="Open"),1,0) -> 0 | D61: =IF(C61=1,E61,IF(P61=1,$E$2003+Q61,"")) | E61: =E60+C61 -> 0 | F61: =IF(AND('Deferred edits'!C59<>"",OR('Deferred edits'!C59='Policy card'!$C$3,'Deferred edits'!B59='Policy card'!$C$3)),1,0) -> 0 | G61: =IF(F61=1,H61,"") | H61: =H60+F61 -> 1 | I61: =IF('Deferred edits'!G59="Waiting",1,0) -> 0 | J61: =IF(I61=1,K61,"") | K61: =K60+I61 -> 5 | L61: =IF(AND(Versions!B59<>"",Versions!B59='Policy card'!$C$3),1,0) -> 0 | M61: =IF(L61=1,N61,"") | N61: =N60+L61 -> 2 | P61: =IF(AND(Comments!B59='Policy card'!$C$3,Comments!N59="Closed"),1,0) -> 0 | Q61: =Q60+P61 -> 7
A62: =IF(OR(Drafts!A60="",Drafts!E60="Withdrawn",AND(Drafts!E60="Adopted",OR(Drafts!N60="Complete",Drafts!N60="Not needed"))),"",IFERROR(MATCH(Drafts!E60,StageList,0),99)*1000+60) | C62: =IF(AND(Comments!B60='Policy card'!$C$3,Comments!N60="Open"),1,0) -> 0 | D62: =IF(C62=1,E62,IF(P62=1,$E$2003+Q62,"")) | E62: =E61+C62 -> 0 | F62: =IF(AND('Deferred edits'!C60<>"",OR('Deferred edits'!C60='Policy card'!$C$3,'Deferred edits'!B60='Policy card'!$C$3)),1,0) -> 0 | G62: =IF(F62=1,H62,"") | H62: =H61+F62 -> 1 | I62: =IF('Deferred edits'!G60="Waiting",1,0) -> 0 | J62: =IF(I62=1,K62,"") | K62: =K61+I62 -> 5 | L62: =IF(AND(Versions!B60<>"",Versions!B60='Policy card'!$C$3),1,0) -> 0 | M62: =IF(L62=1,N62,"") | N62: =N61+L62 -> 2 | P62: =IF(AND(Comments!B60='Policy card'!$C$3,Comments!N60="Closed"),1,0) -> 0 | Q62: =Q61+P62 -> 7
A63: =IF(OR(Drafts!A61="",Drafts!E61="Withdrawn",AND(Drafts!E61="Adopted",OR(Drafts!N61="Complete",Drafts!N61="Not needed"))),"",IFERROR(MATCH(Drafts!E61,StageList,0),99)*1000+61) | C63: =IF(AND(Comments!B61='Policy card'!$C$3,Comments!N61="Open"),1,0) -> 0 | D63: =IF(C63=1,E63,IF(P63=1,$E$2003+Q63,"")) | E63: =E62+C63 -> 0 | F63: =IF(AND('Deferred edits'!C61<>"",OR('Deferred edits'!C61='Policy card'!$C$3,'Deferred edits'!B61='Policy card'!$C$3)),1,0) -> 0 | G63: =IF(F63=1,H63,"") | H63: =H62+F63 -> 1 | I63: =IF('Deferred edits'!G61="Waiting",1,0) -> 0 | J63: =IF(I63=1,K63,"") | K63: =K62+I63 -> 5 | L63: =IF(AND(Versions!B61<>"",Versions!B61='Policy card'!$C$3),1,0) -> 0 | M63: =IF(L63=1,N63,"") | N63: =N62+L63 -> 2 | P63: =IF(AND(Comments!B61='Policy card'!$C$3,Comments!N61="Closed"),1,0) -> 0 | Q63: =Q62+P63 -> 7
A64: =IF(OR(Drafts!A62="",Drafts!E62="Withdrawn",AND(Drafts!E62="Adopted",OR(Drafts!N62="Complete",Drafts!N62="Not needed"))),"",IFERROR(MATCH(Drafts!E62,StageList,0),99)*1000+62) | C64: =IF(AND(Comments!B62='Policy card'!$C$3,Comments!N62="Open"),1,0) -> 0 | D64: =IF(C64=1,E64,IF(P64=1,$E$2003+Q64,"")) | E64: =E63+C64 -> 0 | F64: =IF(AND('Deferred edits'!C62<>"",OR('Deferred edits'!C62='Policy card'!$C$3,'Deferred edits'!B62='Policy card'!$C$3)),1,0) -> 0 | G64: =IF(F64=1,H64,"") | H64: =H63+F64 -> 1 | I64: =IF('Deferred edits'!G62="Waiting",1,0) -> 0 | J64: =IF(I64=1,K64,"") | K64: =K63+I64 -> 5 | L64: =IF(AND(Versions!B62<>"",Versions!B62='Policy card'!$C$3),1,0) -> 0 | M64: =IF(L64=1,N64,"") | N64: =N63+L64 -> 2 | P64: =IF(AND(Comments!B62='Policy card'!$C$3,Comments!N62="Closed"),1,0) -> 0 | Q64: =Q63+P64 -> 7
A65: =IF(OR(Drafts!A63="",Drafts!E63="Withdrawn",AND(Drafts!E63="Adopted",OR(Drafts!N63="Complete",Drafts!N63="Not needed"))),"",IFERROR(MATCH(Drafts!E63,StageList,0),99)*1000+63) | C65: =IF(AND(Comments!B63='Policy card'!$C$3,Comments!N63="Open"),1,0) -> 0 | D65: =IF(C65=1,E65,IF(P65=1,$E$2003+Q65,"")) | E65: =E64+C65 -> 0 | F65: =IF(AND('Deferred edits'!C63<>"",OR('Deferred edits'!C63='Policy card'!$C$3,'Deferred edits'!B63='Policy card'!$C$3)),1,0) -> 0 | G65: =IF(F65=1,H65,"") | H65: =H64+F65 -> 1 | I65: =IF('Deferred edits'!G63="Waiting",1,0) -> 0 | J65: =IF(I65=1,K65,"") | K65: =K64+I65 -> 5 | L65: =IF(AND(Versions!B63<>"",Versions!B63='Policy card'!$C$3),1,0) -> 0 | M65: =IF(L65=1,N65,"") | N65: =N64+L65 -> 2 | P65: =IF(AND(Comments!B63='Policy card'!$C$3,Comments!N63="Closed"),1,0) -> 0 | Q65: =Q64+P65 -> 7
A66: =IF(OR(Drafts!A64="",Drafts!E64="Withdrawn",AND(Drafts!E64="Adopted",OR(Drafts!N64="Complete",Drafts!N64="Not needed"))),"",IFERROR(MATCH(Drafts!E64,StageList,0),99)*1000+64) | C66: =IF(AND(Comments!B64='Policy card'!$C$3,Comments!N64="Open"),1,0) -> 0 | D66: =IF(C66=1,E66,IF(P66=1,$E$2003+Q66,"")) | E66: =E65+C66 -> 0 | F66: =IF(AND('Deferred edits'!C64<>"",OR('Deferred edits'!C64='Policy card'!$C$3,'Deferred edits'!B64='Policy card'!$C$3)),1,0) -> 0 | G66: =IF(F66=1,H66,"") | H66: =H65+F66 -> 1 | I66: =IF('Deferred edits'!G64="Waiting",1,0) -> 0 | J66: =IF(I66=1,K66,"") | K66: =K65+I66 -> 5 | L66: =IF(AND(Versions!B64<>"",Versions!B64='Policy card'!$C$3),1,0) -> 0 | M66: =IF(L66=1,N66,"") | N66: =N65+L66 -> 2 | P66: =IF(AND(Comments!B64='Policy card'!$C$3,Comments!N64="Closed"),1,0) -> 0 | Q66: =Q65+P66 -> 7
A67: =IF(OR(Drafts!A65="",Drafts!E65="Withdrawn",AND(Drafts!E65="Adopted",OR(Drafts!N65="Complete",Drafts!N65="Not needed"))),"",IFERROR(MATCH(Drafts!E65,StageList,0),99)*1000+65) | C67: =IF(AND(Comments!B65='Policy card'!$C$3,Comments!N65="Open"),1,0) -> 0 | D67: =IF(C67=1,E67,IF(P67=1,$E$2003+Q67,"")) | E67: =E66+C67 -> 0 | F67: =IF(AND('Deferred edits'!C65<>"",OR('Deferred edits'!C65='Policy card'!$C$3,'Deferred edits'!B65='Policy card'!$C$3)),1,0) -> 0 | G67: =IF(F67=1,H67,"") | H67: =H66+F67 -> 1 | I67: =IF('Deferred edits'!G65="Waiting",1,0) -> 0 | J67: =IF(I67=1,K67,"") | K67: =K66+I67 -> 5 | L67: =IF(AND(Versions!B65<>"",Versions!B65='Policy card'!$C$3),1,0) -> 0 | M67: =IF(L67=1,N67,"") | N67: =N66+L67 -> 2 | P67: =IF(AND(Comments!B65='Policy card'!$C$3,Comments!N65="Closed"),1,0) -> 0 | Q67: =Q66+P67 -> 7
A68: =IF(OR(Drafts!A66="",Drafts!E66="Withdrawn",AND(Drafts!E66="Adopted",OR(Drafts!N66="Complete",Drafts!N66="Not needed"))),"",IFERROR(MATCH(Drafts!E66,StageList,0),99)*1000+66) | C68: =IF(AND(Comments!B66='Policy card'!$C$3,Comments!N66="Open"),1,0) -> 0 | D68: =IF(C68=1,E68,IF(P68=1,$E$2003+Q68,"")) | E68: =E67+C68 -> 0 | F68: =IF(AND('Deferred edits'!C66<>"",OR('Deferred edits'!C66='Policy card'!$C$3,'Deferred edits'!B66='Policy card'!$C$3)),1,0) -> 0 | G68: =IF(F68=1,H68,"") | H68: =H67+F68 -> 1 | I68: =IF('Deferred edits'!G66="Waiting",1,0) -> 0 | J68: =IF(I68=1,K68,"") | K68: =K67+I68 -> 5 | L68: =IF(AND(Versions!B66<>"",Versions!B66='Policy card'!$C$3),1,0) -> 0 | M68: =IF(L68=1,N68,"") | N68: =N67+L68 -> 2 | P68: =IF(AND(Comments!B66='Policy card'!$C$3,Comments!N66="Closed"),1,0) -> 0 | Q68: =Q67+P68 -> 7
A69: =IF(OR(Drafts!A67="",Drafts!E67="Withdrawn",AND(Drafts!E67="Adopted",OR(Drafts!N67="Complete",Drafts!N67="Not needed"))),"",IFERROR(MATCH(Drafts!E67,StageList,0),99)*1000+67) | C69: =IF(AND(Comments!B67='Policy card'!$C$3,Comments!N67="Open"),1,0) -> 0 | D69: =IF(C69=1,E69,IF(P69=1,$E$2003+Q69,"")) | E69: =E68+C69 -> 0 | F69: =IF(AND('Deferred edits'!C67<>"",OR('Deferred edits'!C67='Policy card'!$C$3,'Deferred edits'!B67='Policy card'!$C$3)),1,0) -> 0 | G69: =IF(F69=1,H69,"") | H69: =H68+F69 -> 1 | I69: =IF('Deferred edits'!G67="Waiting",1,0) -> 0 | J69: =IF(I69=1,K69,"") | K69: =K68+I69 -> 5 | L69: =IF(AND(Versions!B67<>"",Versions!B67='Policy card'!$C$3),1,0) -> 0 | M69: =IF(L69=1,N69,"") | N69: =N68+L69 -> 2 | P69: =IF(AND(Comments!B67='Policy card'!$C$3,Comments!N67="Closed"),1,0) -> 0 | Q69: =Q68+P69 -> 7
A70: =IF(OR(Drafts!A68="",Drafts!E68="Withdrawn",AND(Drafts!E68="Adopted",OR(Drafts!N68="Complete",Drafts!N68="Not needed"))),"",IFERROR(MATCH(Drafts!E68,StageList,0),99)*1000+68) | C70: =IF(AND(Comments!B68='Policy card'!$C$3,Comments!N68="Open"),1,0) -> 0 | D70: =IF(C70=1,E70,IF(P70=1,$E$2003+Q70,"")) | E70: =E69+C70 -> 0 | F70: =IF(AND('Deferred edits'!C68<>"",OR('Deferred edits'!C68='Policy card'!$C$3,'Deferred edits'!B68='Policy card'!$C$3)),1,0) -> 0 | G70: =IF(F70=1,H70,"") | H70: =H69+F70 -> 1 | I70: =IF('Deferred edits'!G68="Waiting",1,0) -> 0 | J70: =IF(I70=1,K70,"") | K70: =K69+I70 -> 5 | L70: =IF(AND(Versions!B68<>"",Versions!B68='Policy card'!$C$3),1,0) -> 0 | M70: =IF(L70=1,N70,"") | N70: =N69+L70 -> 2 | P70: =IF(AND(Comments!B68='Policy card'!$C$3,Comments!N68="Closed"),1,0) -> 0 | Q70: =Q69+P70 -> 7
A71: =IF(OR(Drafts!A69="",Drafts!E69="Withdrawn",AND(Drafts!E69="Adopted",OR(Drafts!N69="Complete",Drafts!N69="Not needed"))),"",IFERROR(MATCH(Drafts!E69,StageList,0),99)*1000+69) | C71: =IF(AND(Comments!B69='Policy card'!$C$3,Comments!N69="Open"),1,0) -> 0 | D71: =IF(C71=1,E71,IF(P71=1,$E$2003+Q71,"")) | E71: =E70+C71 -> 0 | F71: =IF(AND('Deferred edits'!C69<>"",OR('Deferred edits'!C69='Policy card'!$C$3,'Deferred edits'!B69='Policy card'!$C$3)),1,0) -> 0 | G71: =IF(F71=1,H71,"") | H71: =H70+F71 -> 1 | I71: =IF('Deferred edits'!G69="Waiting",1,0) -> 0 | J71: =IF(I71=1,K71,"") | K71: =K70+I71 -> 5 | L71: =IF(AND(Versions!B69<>"",Versions!B69='Policy card'!$C$3),1,0) -> 0 | M71: =IF(L71=1,N71,"") | N71: =N70+L71 -> 2 | P71: =IF(AND(Comments!B69='Policy card'!$C$3,Comments!N69="Closed"),1,0) -> 0 | Q71: =Q70+P71 -> 7
A72: =IF(OR(Drafts!A70="",Drafts!E70="Withdrawn",AND(Drafts!E70="Adopted",OR(Drafts!N70="Complete",Drafts!N70="Not needed"))),"",IFERROR(MATCH(Drafts!E70,StageList,0),99)*1000+70) | C72: =IF(AND(Comments!B70='Policy card'!$C$3,Comments!N70="Open"),1,0) -> 0 | D72: =IF(C72=1,E72,IF(P72=1,$E$2003+Q72,"")) | E72: =E71+C72 -> 0 | F72: =IF(AND('Deferred edits'!C70<>"",OR('Deferred edits'!C70='Policy card'!$C$3,'Deferred edits'!B70='Policy card'!$C$3)),1,0) -> 0 | G72: =IF(F72=1,H72,"") | H72: =H71+F72 -> 1 | I72: =IF('Deferred edits'!G70="Waiting",1,0) -> 0 | J72: =IF(I72=1,K72,"") | K72: =K71+I72 -> 5 | L72: =IF(AND(Versions!B70<>"",Versions!B70='Policy card'!$C$3),1,0) -> 0 | M72: =IF(L72=1,N72,"") | N72: =N71+L72 -> 2 | P72: =IF(AND(Comments!B70='Policy card'!$C$3,Comments!N70="Closed"),1,0) -> 0 | Q72: =Q71+P72 -> 7
